| Back to Multiple platform build/check report for BioC 3.9 |
|
This page was generated on 2019-04-09 13:24:52 -0400 (Tue, 09 Apr 2019).
| Package 255/1703 | Hostname | OS / Arch | INSTALL | BUILD | CHECK | BUILD BIN | ||||||
| ChIPpeakAnno 3.17.2 Lihua Julie Zhu
| malbec2 | Linux (Ubuntu 18.04.2 LTS) / x86_64 | OK | OK | OK | |||||||
| tokay2 | Windows Server 2012 R2 Standard / x64 | OK | OK | OK | OK | |||||||
| celaya2 | OS X 10.11.6 El Capitan / x86_64 | OK | OK | OK | OK | |||||||
| merida2 | OS X 10.11.6 El Capitan / x86_64 | OK | OK | OK | [ OK ] |
| Package: ChIPpeakAnno |
| Version: 3.17.2 |
| Command: rm -rf ChIPpeakAnno.buildbin-libdir && mkdir ChIPpeakAnno.buildbin-libdir && /Users/biocbuild/BBS/utils/build-universal.sh ChIPpeakAnno_3.17.2.tar.gz /Library/Frameworks/R.framework/Versions/Current/Resources/bin/R ChIPpeakAnno.buildbin-libdir |
| StartedAt: 2019-04-09 04:57:11 -0400 (Tue, 09 Apr 2019) |
| EndedAt: 2019-04-09 04:58:30 -0400 (Tue, 09 Apr 2019) |
| EllapsedTime: 79.3 seconds |
| RetCode: 0 |
| Status: OK |
| PackageFile: ChIPpeakAnno_3.17.2.tgz |
| PackageFileSize: 19.28 MiB |
############################################################################## ############################################################################## ### ### Running command: ### ### rm -rf ChIPpeakAnno.buildbin-libdir && mkdir ChIPpeakAnno.buildbin-libdir && /Users/biocbuild/BBS/utils/build-universal.sh ChIPpeakAnno_3.17.2.tar.gz /Library/Frameworks/R.framework/Versions/Current/Resources/bin/R ChIPpeakAnno.buildbin-libdir ### ############################################################################## ############################################################################## >>>>>>> >>>>>>> INSTALLATION WITH 'R CMD INSTALL --preclean --no-multiarch --library=ChIPpeakAnno.buildbin-libdir ChIPpeakAnno_3.17.2.tar.gz' >>>>>>> * installing *source* package ‘ChIPpeakAnno’ ... ** R ** data ** inst ** byte-compile and prepare package for lazy loading ** help *** installing help indices ** building package indices ** installing vignettes ** testing if installed package can be loaded * DONE (ChIPpeakAnno)