| Back to Multiple platform build/check report for BioC 3.9 |
|
This page was generated on 2019-04-09 12:44:31 -0400 (Tue, 09 Apr 2019).
| Package 222/1703 | Hostname | OS / Arch | INSTALL | BUILD | CHECK | BUILD BIN | ||||||
| CellBench 0.99.10 Shian Su
| malbec2 | Linux (Ubuntu 18.04.2 LTS) / x86_64 | OK | OK | OK | |||||||
| tokay2 | Windows Server 2012 R2 Standard / x64 | [ OK ] | OK | OK | OK | |||||||
| celaya2 | OS X 10.11.6 El Capitan / x86_64 | OK | OK | OK | OK | |||||||
| merida2 | OS X 10.11.6 El Capitan / x86_64 | OK | OK | OK | OK |
| Package: CellBench |
| Version: 0.99.10 |
| Command: C:\cygwin\bin\curl.exe -O https://malbec2.bioconductor.org/BBS/3.9/bioc/src/contrib/CellBench_0.99.10.tar.gz && rm -rf CellBench.buildbin-libdir && mkdir CellBench.buildbin-libdir && C:\Users\biocbuild\bbs-3.9-bioc\R\bin\R.exe CMD INSTALL --merge-multiarch --build --library=CellBench.buildbin-libdir CellBench_0.99.10.tar.gz && C:\Users\biocbuild\bbs-3.9-bioc\R\bin\R.exe CMD INSTALL CellBench_0.99.10.zip && rm CellBench_0.99.10.tar.gz CellBench_0.99.10.zip |
| StartedAt: 2019-04-08 19:54:53 -0400 (Mon, 08 Apr 2019) |
| EndedAt: 2019-04-08 19:55:59 -0400 (Mon, 08 Apr 2019) |
| EllapsedTime: 66.3 seconds |
| RetCode: 0 |
| Status: OK |
##############################################################################
##############################################################################
###
### Running command:
###
### C:\cygwin\bin\curl.exe -O https://malbec2.bioconductor.org/BBS/3.9/bioc/src/contrib/CellBench_0.99.10.tar.gz && rm -rf CellBench.buildbin-libdir && mkdir CellBench.buildbin-libdir && C:\Users\biocbuild\bbs-3.9-bioc\R\bin\R.exe CMD INSTALL --merge-multiarch --build --library=CellBench.buildbin-libdir CellBench_0.99.10.tar.gz && C:\Users\biocbuild\bbs-3.9-bioc\R\bin\R.exe CMD INSTALL CellBench_0.99.10.zip && rm CellBench_0.99.10.tar.gz CellBench_0.99.10.zip
###
##############################################################################
##############################################################################
% Total % Received % Xferd Average Speed Time Time Time Current
Dload Upload Total Spent Left Speed
0 0 0 0 0 0 0 0 --:--:-- --:--:-- --:--:-- 0
100 1205k 100 1205k 0 0 16.9M 0 --:--:-- --:--:-- --:--:-- 18.6M
install for i386
* installing *source* package 'CellBench' ...
** R
** data
*** moving datasets to lazyload DB
** inst
** byte-compile and prepare package for lazy loading
** help
*** installing help indices
converting help for package 'CellBench'
finding HTML links ... done
CellBench-package html
all_unique html
apply_methods html
arrow_sep html
as_pipeline_list html
cache_method html
cellbench_file html
check_class html
clear_cached_datasets html
clear_cellbench_cache html
data_list html
filter_zero_genes html
fn_arg_seq html
fn_list html
keep_high_count_cells html
keep_high_count_genes html
keep_high_var_genes html
load_all_data html
mhead html
pipeline_collapse html
print.fn_arg_seq html
print.task_error html
sample_cells html
sample_genes html
sample_sce_data html
set_cellbench_bpparam html
set_cellbench_cache_path html
set_cellbench_threads html
strip_timing html
summary.benchmark_tbl html
time_methods html
unpack_timing html
** building package indices
** installing vignettes
** testing if installed package can be loaded from temporary location
** testing if installed package can be loaded from final location
** testing if installed package keeps a record of temporary installation path
install for x64
* installing *source* package 'CellBench' ...
** testing if installed package can be loaded
* MD5 sums
packaged installation of 'CellBench' as CellBench_0.99.10.zip
* DONE (CellBench)
* installing to library 'C:/Users/biocbuild/bbs-3.9-bioc/R/library'
package 'CellBench' successfully unpacked and MD5 sums checked