| Back to Multiple platform build/check report for BioC 3.9 |
|
This page was generated on 2019-04-09 11:28:24 -0400 (Tue, 09 Apr 2019).
| Package 308/1703 | Hostname | OS / Arch | INSTALL | BUILD | CHECK | BUILD BIN | ||||||
| CNVtools 1.77.0 Chris Barnes
| malbec2 | Linux (Ubuntu 18.04.2 LTS) / x86_64 | [ OK ] | OK | OK | |||||||
| tokay2 | Windows Server 2012 R2 Standard / x64 | OK | OK | OK | OK | |||||||
| celaya2 | OS X 10.11.6 El Capitan / x86_64 | OK | OK | OK | OK | |||||||
| merida2 | OS X 10.11.6 El Capitan / x86_64 | OK | OK | OK | OK |
| Package: CNVtools |
| Version: 1.77.0 |
| Command: /home/biocbuild/bbs-3.9-bioc/R/bin/R CMD INSTALL CNVtools |
| StartedAt: 2019-04-08 18:02:15 -0400 (Mon, 08 Apr 2019) |
| EndedAt: 2019-04-08 18:02:31 -0400 (Mon, 08 Apr 2019) |
| EllapsedTime: 16.0 seconds |
| RetCode: 0 |
| Status: OK |
##############################################################################
##############################################################################
###
### Running command:
###
### /home/biocbuild/bbs-3.9-bioc/R/bin/R CMD INSTALL CNVtools
###
##############################################################################
##############################################################################
* installing to library ‘/home/biocbuild/bbs-3.9-bioc/R/library’
* installing *source* package ‘CNVtools’ ...
** using staged installation
** libs
g++ -std=gnu++11 -I"/home/biocbuild/bbs-3.9-bioc/R/include" -DNDEBUG -I/usr/local/include -fpic -g -O2 -Wall -c fitmodel.cpp -o fitmodel.o
In file included from fitmodel.cpp:9:0:
gmath.h: In function ‘double gmath::psi(double)’:
gmath.h:204:5: warning: this ‘if’ clause does not guard... [-Wmisleading-indentation]
if (x < 0.0)
^˜
gmath.h:206:9: note: ...this statement, but the latter is misleadingly indented as if it were guarded by the ‘if’
return ps;
^˜˜˜˜˜
g++ -std=gnu++11 -I"/home/biocbuild/bbs-3.9-bioc/R/include" -DNDEBUG -I/usr/local/include -fpic -g -O2 -Wall -c glm_test.cpp -o glm_test.o
g++ -std=gnu++11 -I"/home/biocbuild/bbs-3.9-bioc/R/include" -DNDEBUG -I/usr/local/include -fpic -g -O2 -Wall -c mla.cpp -o mla.o
g++ -std=gnu++11 -I"/home/biocbuild/bbs-3.9-bioc/R/include" -DNDEBUG -I/usr/local/include -fpic -g -O2 -Wall -c routine.cpp -o routine.o
gcc -I"/home/biocbuild/bbs-3.9-bioc/R/include" -DNDEBUG -I/usr/local/include -fpic -g -O2 -Wall -c zeroin.c -o zeroin.o
g++ -std=gnu++11 -shared -L/home/biocbuild/bbs-3.9-bioc/R/lib -L/usr/local/lib -o CNVtools.so fitmodel.o glm_test.o mla.o routine.o zeroin.o -L/home/biocbuild/bbs-3.9-bioc/R/lib -lR
installing to /home/biocbuild/bbs-3.9-bioc/R/library/00LOCK-CNVtools/00new/CNVtools/libs
** R
** data
** byte-compile and prepare package for lazy loading
** help
*** installing help indices
** building package indices
** installing vignettes
** testing if installed package can be loaded from temporary location
** checking absolute paths in shared objects and dynamic libraries
** testing if installed package can be loaded from final location
** testing if installed package keeps a record of temporary installation path
* DONE (CNVtools)