| Back to Multiple platform build/check report for BioC 3.9 |
|
This page was generated on 2019-04-09 11:56:27 -0400 (Tue, 09 Apr 2019).
| Package 240/1703 | Hostname | OS / Arch | INSTALL | BUILD | CHECK | BUILD BIN | ||||||
| CGHregions 1.41.0 Sjoerd Vosse
| malbec2 | Linux (Ubuntu 18.04.2 LTS) / x86_64 | OK | OK | OK | |||||||
| tokay2 | Windows Server 2012 R2 Standard / x64 | OK | OK | OK | [ OK ] | |||||||
| celaya2 | OS X 10.11.6 El Capitan / x86_64 | OK | OK | OK | OK | |||||||
| merida2 | OS X 10.11.6 El Capitan / x86_64 | OK | OK | OK | OK |
| Package: CGHregions |
| Version: 1.41.0 |
| Command: rm -rf CGHregions.buildbin-libdir && mkdir CGHregions.buildbin-libdir && C:\Users\biocbuild\bbs-3.9-bioc\R\bin\R.exe CMD INSTALL --merge-multiarch --build --library=CGHregions.buildbin-libdir CGHregions_1.41.0.tar.gz |
| StartedAt: 2019-04-09 07:36:15 -0400 (Tue, 09 Apr 2019) |
| EndedAt: 2019-04-09 07:36:53 -0400 (Tue, 09 Apr 2019) |
| EllapsedTime: 38.2 seconds |
| RetCode: 0 |
| Status: OK |
| PackageFile: CGHregions_1.41.0.zip |
| PackageFileSize: 174.4 KiB |
##############################################################################
##############################################################################
###
### Running command:
###
### rm -rf CGHregions.buildbin-libdir && mkdir CGHregions.buildbin-libdir && C:\Users\biocbuild\bbs-3.9-bioc\R\bin\R.exe CMD INSTALL --merge-multiarch --build --library=CGHregions.buildbin-libdir CGHregions_1.41.0.tar.gz
###
##############################################################################
##############################################################################
install for i386
* installing *source* package 'CGHregions' ...
** R
** inst
** byte-compile and prepare package for lazy loading
** help
*** installing help indices
converting help for package 'CGHregions'
finding HTML links ... done
CGHregions-package html
CGHregions html
** building package indices
** installing vignettes
** testing if installed package can be loaded from temporary location
** testing if installed package can be loaded from final location
** testing if installed package keeps a record of temporary installation path
install for x64
* installing *source* package 'CGHregions' ...
** testing if installed package can be loaded
* MD5 sums
packaged installation of 'CGHregions' as CGHregions_1.41.0.zip
* DONE (CGHregions)