| Back to Multiple platform build/check report for BioC 3.9 |
|
This page was generated on 2019-04-09 12:17:22 -0400 (Tue, 09 Apr 2019).
| Package 196/1703 | Hostname | OS / Arch | INSTALL | BUILD | CHECK | BUILD BIN | ||||||
| CAFE 1.19.0 Sander Bollen
| malbec2 | Linux (Ubuntu 18.04.2 LTS) / x86_64 | OK | OK | WARNINGS | |||||||
| tokay2 | Windows Server 2012 R2 Standard / x64 | [ OK ] | OK | WARNINGS | OK | |||||||
| celaya2 | OS X 10.11.6 El Capitan / x86_64 | OK | OK | WARNINGS | OK | |||||||
| merida2 | OS X 10.11.6 El Capitan / x86_64 | OK | OK | WARNINGS | OK |
| Package: CAFE |
| Version: 1.19.0 |
| Command: C:\cygwin\bin\curl.exe -O https://malbec2.bioconductor.org/BBS/3.9/bioc/src/contrib/CAFE_1.19.0.tar.gz && rm -rf CAFE.buildbin-libdir && mkdir CAFE.buildbin-libdir && C:\Users\biocbuild\bbs-3.9-bioc\R\bin\R.exe CMD INSTALL --merge-multiarch --build --library=CAFE.buildbin-libdir CAFE_1.19.0.tar.gz && C:\Users\biocbuild\bbs-3.9-bioc\R\bin\R.exe CMD INSTALL CAFE_1.19.0.zip && rm CAFE_1.19.0.tar.gz CAFE_1.19.0.zip |
| StartedAt: 2019-04-08 20:27:44 -0400 (Mon, 08 Apr 2019) |
| EndedAt: 2019-04-08 20:29:21 -0400 (Mon, 08 Apr 2019) |
| EllapsedTime: 96.5 seconds |
| RetCode: 0 |
| Status: OK |
##############################################################################
##############################################################################
###
### Running command:
###
### C:\cygwin\bin\curl.exe -O https://malbec2.bioconductor.org/BBS/3.9/bioc/src/contrib/CAFE_1.19.0.tar.gz && rm -rf CAFE.buildbin-libdir && mkdir CAFE.buildbin-libdir && C:\Users\biocbuild\bbs-3.9-bioc\R\bin\R.exe CMD INSTALL --merge-multiarch --build --library=CAFE.buildbin-libdir CAFE_1.19.0.tar.gz && C:\Users\biocbuild\bbs-3.9-bioc\R\bin\R.exe CMD INSTALL CAFE_1.19.0.zip && rm CAFE_1.19.0.tar.gz CAFE_1.19.0.zip
###
##############################################################################
##############################################################################
% Total % Received % Xferd Average Speed Time Time Time Current
Dload Upload Total Spent Left Speed
0 0 0 0 0 0 0 0 --:--:-- --:--:-- --:--:-- 0
100 2278k 100 2278k 0 0 5657k 0 --:--:-- --:--:-- --:--:-- 5768k
install for i386
* installing *source* package 'CAFE' ...
** R
** data
** inst
** byte-compile and prepare package for lazy loading
** help
*** installing help indices
converting help for package 'CAFE'
finding HTML links ... done
CAFE-package html
CAFE html
ProcessCels html
armStats html
bandStats html
chromosomeStats html
cliSubset html
discontPlot html
discontSmooth html
facetPlot html
fisher.method html
guiSubset html
rawPlot html
slidPlot html
slidSmooth html
** building package indices
** installing vignettes
** testing if installed package can be loaded from temporary location
** testing if installed package can be loaded from final location
** testing if installed package keeps a record of temporary installation path
install for x64
* installing *source* package 'CAFE' ...
** testing if installed package can be loaded
* MD5 sums
packaged installation of 'CAFE' as CAFE_1.19.0.zip
* DONE (CAFE)
* installing to library 'C:/Users/biocbuild/bbs-3.9-bioc/R/library'
package 'CAFE' successfully unpacked and MD5 sums checked