| Back to Multiple platform build/check report for BioC 3.9 |
|
This page was generated on 2019-04-09 12:00:25 -0400 (Tue, 09 Apr 2019).
| Package 181/1703 | Hostname | OS / Arch | INSTALL | BUILD | CHECK | BUILD BIN | ||||||
| BrainStars 1.27.0 Itoshi NIKAIDO
| malbec2 | Linux (Ubuntu 18.04.2 LTS) / x86_64 | OK | OK | OK | |||||||
| tokay2 | Windows Server 2012 R2 Standard / x64 | OK | OK | OK | [ OK ] | |||||||
| celaya2 | OS X 10.11.6 El Capitan / x86_64 | OK | OK | OK | OK | |||||||
| merida2 | OS X 10.11.6 El Capitan / x86_64 | OK | OK | OK | OK |
| Package: BrainStars |
| Version: 1.27.0 |
| Command: rm -rf BrainStars.buildbin-libdir && mkdir BrainStars.buildbin-libdir && C:\Users\biocbuild\bbs-3.9-bioc\R\bin\R.exe CMD INSTALL --merge-multiarch --build --library=BrainStars.buildbin-libdir BrainStars_1.27.0.tar.gz |
| StartedAt: 2019-04-09 07:32:25 -0400 (Tue, 09 Apr 2019) |
| EndedAt: 2019-04-09 07:32:37 -0400 (Tue, 09 Apr 2019) |
| EllapsedTime: 12.4 seconds |
| RetCode: 0 |
| Status: OK |
| PackageFile: BrainStars_1.27.0.zip |
| PackageFileSize: 350.7 KiB |
##############################################################################
##############################################################################
###
### Running command:
###
### rm -rf BrainStars.buildbin-libdir && mkdir BrainStars.buildbin-libdir && C:\Users\biocbuild\bbs-3.9-bioc\R\bin\R.exe CMD INSTALL --merge-multiarch --build --library=BrainStars.buildbin-libdir BrainStars_1.27.0.tar.gz
###
##############################################################################
##############################################################################
install for i386
* installing *source* package 'BrainStars' ...
** R
** inst
** byte-compile and prepare package for lazy loading
** help
*** installing help indices
converting help for package 'BrainStars'
finding HTML links ... done
BrainStars html
getBrainStars html
getBrainStarsFigure html
** building package indices
** installing vignettes
** testing if installed package can be loaded from temporary location
** testing if installed package can be loaded from final location
** testing if installed package keeps a record of temporary installation path
install for x64
* installing *source* package 'BrainStars' ...
** testing if installed package can be loaded
* MD5 sums
packaged installation of 'BrainStars' as BrainStars_1.27.0.zip
* DONE (BrainStars)