| Back to Multiple platform build/check report for BioC 3.9 | 
  | 
This page was generated on 2018-10-29 10:23:51 -0400 (Mon, 29 Oct 2018).
| Package 137/1642 | Hostname | OS / Arch | INSTALL | BUILD | CHECK | BUILD BIN | ||||||
Bioconductor Package Maintainer 
  | malbec2 | Linux (Ubuntu 16.04.1 LTS) / x86_64 | OK | OK | WARNINGS | |||||||
| tokay2 | Windows Server 2012 R2 Standard / x64 | OK | OK | WARNINGS | [ OK ] | |||||||
| merida2 | OS X 10.11.6 El Capitan / x86_64 | OK | OK | WARNINGS | OK | 
| Package: BiocInstaller | 
| Version: 1.31.3 | 
| Command: rm -rf BiocInstaller.buildbin-libdir && mkdir BiocInstaller.buildbin-libdir && C:\Users\biocbuild\bbs-3.9-bioc\R\bin\R.exe CMD INSTALL --merge-multiarch --build --library=BiocInstaller.buildbin-libdir BiocInstaller_1.31.3.tar.gz | 
| StartedAt: 2018-10-29 08:13:59 -0400 (Mon, 29 Oct 2018) | 
| EndedAt: 2018-10-29 08:14:19 -0400 (Mon, 29 Oct 2018) | 
| EllapsedTime: 19.8 seconds | 
| RetCode: 0 | 
| Status: OK | 
| PackageFile: BiocInstaller_1.31.3.zip | 
| PackageFileSize: 100.9 KiB | 
##############################################################################
##############################################################################
###
### Running command:
###
###   rm -rf BiocInstaller.buildbin-libdir && mkdir BiocInstaller.buildbin-libdir && C:\Users\biocbuild\bbs-3.9-bioc\R\bin\R.exe CMD INSTALL --merge-multiarch --build --library=BiocInstaller.buildbin-libdir BiocInstaller_1.31.3.tar.gz
###
##############################################################################
##############################################################################
install for i386
* installing *source* package 'BiocInstaller' ...
** R
** inst
** byte-compile and prepare package for lazy loading
** help
*** installing help indices
  converting help for package 'BiocInstaller'
    finding HTML links ... done
    BiocUpgrade                             html  
    biocLite                                html  
    biocUpdatePackages                      html  
    biocValid                               html  
    biocVersion                             html  
    biocinstallRepos                        html  
    packageGroups                           html  
    useDevel                                html  
** building package indices
** testing if installed package can be loaded
Warning: 'BiocInstaller' and 'biocLite()' are deprecated, use the 'BiocManager' CRAN
  package instead.
Bioconductor version 3.8 (BiocInstaller 1.31.3), ?biocLite for help
Bioconductor does not yet support R version 3.6.0
In R CMD INSTALL
install for x64
* installing *source* package 'BiocInstaller' ...
** testing if installed package can be loaded
Warning: 'BiocInstaller' and 'biocLite()' are deprecated, use the 'BiocManager' CRAN
  package instead.
Bioconductor version 3.8 (BiocInstaller 1.31.3), ?biocLite for help
Bioconductor does not yet support R version 3.6.0
* MD5 sums
packaged installation of 'BiocInstaller' as BiocInstaller_1.31.3.zip
* DONE (BiocInstaller)
In R CMD INSTALL
In R CMD INSTALL