| Back to Multiple platform build/check report for BioC 3.9 |
|
This page was generated on 2019-04-09 11:49:14 -0400 (Tue, 09 Apr 2019).
| Package 105/1703 | Hostname | OS / Arch | INSTALL | BUILD | CHECK | BUILD BIN | ||||||
| BASiCS 1.5.26 Catalina Vallejos
| malbec2 | Linux (Ubuntu 18.04.2 LTS) / x86_64 | OK | OK | [ OK ] | |||||||
| tokay2 | Windows Server 2012 R2 Standard / x64 | OK | OK | OK | OK | |||||||
| celaya2 | OS X 10.11.6 El Capitan / x86_64 | OK | OK | OK | OK | |||||||
| merida2 | OS X 10.11.6 El Capitan / x86_64 | OK | OK | OK | OK |
| Package: BASiCS |
| Version: 1.5.26 |
| Command: /home/biocbuild/bbs-3.9-bioc/R/bin/R CMD check --install=check:BASiCS.install-out.txt --library=/home/biocbuild/bbs-3.9-bioc/R/library --no-vignettes --timings BASiCS_1.5.26.tar.gz |
| StartedAt: 2019-04-08 22:52:42 -0400 (Mon, 08 Apr 2019) |
| EndedAt: 2019-04-08 22:57:32 -0400 (Mon, 08 Apr 2019) |
| EllapsedTime: 290.4 seconds |
| RetCode: 0 |
| Status: OK |
| CheckDir: BASiCS.Rcheck |
| Warnings: 0 |
##############################################################################
##############################################################################
###
### Running command:
###
### /home/biocbuild/bbs-3.9-bioc/R/bin/R CMD check --install=check:BASiCS.install-out.txt --library=/home/biocbuild/bbs-3.9-bioc/R/library --no-vignettes --timings BASiCS_1.5.26.tar.gz
###
##############################################################################
##############################################################################
* using log directory ‘/home/biocbuild/bbs-3.9-bioc/meat/BASiCS.Rcheck’
* using R Under development (unstable) (2019-03-18 r76245)
* using platform: x86_64-pc-linux-gnu (64-bit)
* using session charset: UTF-8
* using option ‘--no-vignettes’
* checking for file ‘BASiCS/DESCRIPTION’ ... OK
* checking extension type ... Package
* this is package ‘BASiCS’ version ‘1.5.26’
* checking package namespace information ... OK
* checking package dependencies ... OK
* checking if this is a source package ... OK
* checking if there is a namespace ... OK
* checking for hidden files and directories ... OK
* checking for portable file names ... OK
* checking for sufficient/correct file permissions ... OK
* checking whether package ‘BASiCS’ can be installed ... OK
* checking installed package size ... NOTE
installed size is 13.2Mb
sub-directories of 1Mb or more:
data 2.0Mb
libs 10.7Mb
* checking package directory ... OK
* checking ‘build’ directory ... OK
* checking DESCRIPTION meta-information ... OK
* checking top-level files ... OK
* checking for left-over files ... OK
* checking index information ... OK
* checking package subdirectories ... OK
* checking R files for non-ASCII characters ... OK
* checking R files for syntax errors ... OK
* checking whether the package can be loaded ... OK
* checking whether the package can be loaded with stated dependencies ... OK
* checking whether the package can be unloaded cleanly ... OK
* checking whether the namespace can be loaded with stated dependencies ... OK
* checking whether the namespace can be unloaded cleanly ... OK
* checking dependencies in R code ... OK
* checking S3 generic/method consistency ... OK
* checking replacement functions ... OK
* checking foreign function calls ... OK
* checking R code for possible problems ... OK
* checking Rd files ... OK
* checking Rd metadata ... OK
* checking Rd cross-references ... OK
* checking for missing documentation entries ... OK
* checking for code/documentation mismatches ... OK
* checking Rd \usage sections ... OK
* checking Rd contents ... OK
* checking for unstated dependencies in examples ... OK
* checking contents of ‘data’ directory ... OK
* checking data for non-ASCII characters ... OK
* checking data for ASCII and uncompressed saves ... OK
* checking line endings in C/C++/Fortran sources/headers ... OK
* checking line endings in Makefiles ... OK
* checking compilation flags in Makevars ... OK
* checking for GNU extensions in Makefiles ... OK
* checking for portable use of $(BLAS_LIBS) and $(LAPACK_LIBS) ... OK
* checking compiled code ... NOTE
Note: information on .o files is not available
* checking files in ‘vignettes’ ... OK
* checking examples ... OK
Examples with CPU or elapsed time > 5s
user system elapsed
BASiCS_MCMC 5.14 0.008 5.184
* checking for unstated dependencies in ‘tests’ ... OK
* checking tests ...
Running ‘testthat.R’
OK
* checking for unstated dependencies in vignettes ... OK
* checking package vignettes in ‘inst/doc’ ... OK
* checking running R code from vignettes ... SKIPPED
* checking re-building of vignette outputs ... SKIPPED
* checking PDF version of manual ... OK
* DONE
Status: 2 NOTEs
See
‘/home/biocbuild/bbs-3.9-bioc/meat/BASiCS.Rcheck/00check.log’
for details.
BASiCS.Rcheck/00install.out
############################################################################## ############################################################################## ### ### Running command: ### ### /home/biocbuild/bbs-3.9-bioc/R/bin/R CMD INSTALL BASiCS ### ############################################################################## ############################################################################## * installing to library ‘/home/biocbuild/bbs-3.9-bioc/R/library’ * installing *source* package ‘BASiCS’ ... ** using staged installation ** libs g++ -std=gnu++11 -I"/home/biocbuild/bbs-3.9-bioc/R/include" -DNDEBUG -I"/home/biocbuild/bbs-3.9-bioc/R/library/Rcpp/include" -I"/home/biocbuild/bbs-3.9-bioc/R/library/RcppArmadillo/include" -I/usr/local/include -fpic -g -O2 -Wall -c BASiCS_DenoisedRates.cpp -o BASiCS_DenoisedRates.o g++ -std=gnu++11 -I"/home/biocbuild/bbs-3.9-bioc/R/include" -DNDEBUG -I"/home/biocbuild/bbs-3.9-bioc/R/library/Rcpp/include" -I"/home/biocbuild/bbs-3.9-bioc/R/library/RcppArmadillo/include" -I/usr/local/include -fpic -g -O2 -Wall -c BASiCS_MCMCcpp.cpp -o BASiCS_MCMCcpp.o g++ -std=gnu++11 -I"/home/biocbuild/bbs-3.9-bioc/R/include" -DNDEBUG -I"/home/biocbuild/bbs-3.9-bioc/R/library/Rcpp/include" -I"/home/biocbuild/bbs-3.9-bioc/R/library/RcppArmadillo/include" -I/usr/local/include -fpic -g -O2 -Wall -c BASiCS_MCMCcppNoSpikes.cpp -o BASiCS_MCMCcppNoSpikes.o g++ -std=gnu++11 -I"/home/biocbuild/bbs-3.9-bioc/R/include" -DNDEBUG -I"/home/biocbuild/bbs-3.9-bioc/R/library/Rcpp/include" -I"/home/biocbuild/bbs-3.9-bioc/R/library/RcppArmadillo/include" -I/usr/local/include -fpic -g -O2 -Wall -c BASiCS_MCMCcppReg.cpp -o BASiCS_MCMCcppReg.o g++ -std=gnu++11 -I"/home/biocbuild/bbs-3.9-bioc/R/include" -DNDEBUG -I"/home/biocbuild/bbs-3.9-bioc/R/library/Rcpp/include" -I"/home/biocbuild/bbs-3.9-bioc/R/library/RcppArmadillo/include" -I/usr/local/include -fpic -g -O2 -Wall -c BASiCS_MCMCcppRegNoSpikes.cpp -o BASiCS_MCMCcppRegNoSpikes.o g++ -std=gnu++11 -I"/home/biocbuild/bbs-3.9-bioc/R/include" -DNDEBUG -I"/home/biocbuild/bbs-3.9-bioc/R/library/Rcpp/include" -I"/home/biocbuild/bbs-3.9-bioc/R/library/RcppArmadillo/include" -I/usr/local/include -fpic -g -O2 -Wall -c RcppExports.cpp -o RcppExports.o g++ -std=gnu++11 -I"/home/biocbuild/bbs-3.9-bioc/R/include" -DNDEBUG -I"/home/biocbuild/bbs-3.9-bioc/R/library/Rcpp/include" -I"/home/biocbuild/bbs-3.9-bioc/R/library/RcppArmadillo/include" -I/usr/local/include -fpic -g -O2 -Wall -c general_utils.cpp -o general_utils.o g++ -std=gnu++11 -I"/home/biocbuild/bbs-3.9-bioc/R/include" -DNDEBUG -I"/home/biocbuild/bbs-3.9-bioc/R/library/Rcpp/include" -I"/home/biocbuild/bbs-3.9-bioc/R/library/RcppArmadillo/include" -I/usr/local/include -fpic -g -O2 -Wall -c utils_MCMCcpp.cpp -o utils_MCMCcpp.o g++ -std=gnu++11 -I"/home/biocbuild/bbs-3.9-bioc/R/include" -DNDEBUG -I"/home/biocbuild/bbs-3.9-bioc/R/library/Rcpp/include" -I"/home/biocbuild/bbs-3.9-bioc/R/library/RcppArmadillo/include" -I/usr/local/include -fpic -g -O2 -Wall -c utils_MCMCcppNoSpikes.cpp -o utils_MCMCcppNoSpikes.o g++ -std=gnu++11 -I"/home/biocbuild/bbs-3.9-bioc/R/include" -DNDEBUG -I"/home/biocbuild/bbs-3.9-bioc/R/library/Rcpp/include" -I"/home/biocbuild/bbs-3.9-bioc/R/library/RcppArmadillo/include" -I/usr/local/include -fpic -g -O2 -Wall -c utils_MCMCcppReg.cpp -o utils_MCMCcppReg.o g++ -std=gnu++11 -I"/home/biocbuild/bbs-3.9-bioc/R/include" -DNDEBUG -I"/home/biocbuild/bbs-3.9-bioc/R/library/Rcpp/include" -I"/home/biocbuild/bbs-3.9-bioc/R/library/RcppArmadillo/include" -I/usr/local/include -fpic -g -O2 -Wall -c utils_MCMCcppRegNoSpikes.cpp -o utils_MCMCcppRegNoSpikes.o g++ -std=gnu++11 -shared -L/home/biocbuild/bbs-3.9-bioc/R/lib -L/usr/local/lib -o BASiCS.so BASiCS_DenoisedRates.o BASiCS_MCMCcpp.o BASiCS_MCMCcppNoSpikes.o BASiCS_MCMCcppReg.o BASiCS_MCMCcppRegNoSpikes.o RcppExports.o general_utils.o utils_MCMCcpp.o utils_MCMCcppNoSpikes.o utils_MCMCcppReg.o utils_MCMCcppRegNoSpikes.o -L/home/biocbuild/bbs-3.9-bioc/R/lib -lRlapack -L/home/biocbuild/bbs-3.9-bioc/R/lib -lRblas -lgfortran -lm -lquadmath -L/home/biocbuild/bbs-3.9-bioc/R/lib -lR installing to /home/biocbuild/bbs-3.9-bioc/R/library/00LOCK-BASiCS/00new/BASiCS/libs ** R ** data ** inst ** byte-compile and prepare package for lazy loading ** help *** installing help indices ** building package indices ** installing vignettes ** testing if installed package can be loaded from temporary location ** checking absolute paths in shared objects and dynamic libraries ** testing if installed package can be loaded from final location ** testing if installed package keeps a record of temporary installation path * DONE (BASiCS)
BASiCS.Rcheck/tests/testthat.Rout
R Under development (unstable) (2019-03-18 r76245) -- "Unsuffered Consequences"
Copyright (C) 2019 The R Foundation for Statistical Computing
Platform: x86_64-pc-linux-gnu (64-bit)
R is free software and comes with ABSOLUTELY NO WARRANTY.
You are welcome to redistribute it under certain conditions.
Type 'license()' or 'licence()' for distribution details.
R is a collaborative project with many contributors.
Type 'contributors()' for more information and
'citation()' on how to cite R or R packages in publications.
Type 'demo()' for some demos, 'help()' for on-line help, or
'help.start()' for an HTML browser interface to help.
Type 'q()' to quit R.
> library(testthat)
> library(BASiCS)
Loading required package: SingleCellExperiment
Loading required package: SummarizedExperiment
Loading required package: GenomicRanges
Loading required package: stats4
Loading required package: BiocGenerics
Loading required package: parallel
Attaching package: 'BiocGenerics'
The following objects are masked from 'package:parallel':
clusterApply, clusterApplyLB, clusterCall, clusterEvalQ,
clusterExport, clusterMap, parApply, parCapply, parLapply,
parLapplyLB, parRapply, parSapply, parSapplyLB
The following objects are masked from 'package:stats':
IQR, mad, sd, var, xtabs
The following objects are masked from 'package:base':
Filter, Find, Map, Position, Reduce, anyDuplicated, append,
as.data.frame, basename, cbind, colMeans, colSums, colnames,
dirname, do.call, duplicated, eval, evalq, get, grep, grepl,
intersect, is.unsorted, lapply, mapply, match, mget, order, paste,
pmax, pmax.int, pmin, pmin.int, rank, rbind, rowMeans, rowSums,
rownames, sapply, setdiff, sort, table, tapply, union, unique,
unsplit, which, which.max, which.min
Loading required package: S4Vectors
Attaching package: 'S4Vectors'
The following object is masked from 'package:base':
expand.grid
Loading required package: IRanges
Loading required package: GenomeInfoDb
Loading required package: Biobase
Welcome to Bioconductor
Vignettes contain introductory material; view with
'browseVignettes()'. To cite Bioconductor, see
'citation("Biobase")', and for packages 'citation("pkgname")'.
Loading required package: DelayedArray
Loading required package: matrixStats
Attaching package: 'matrixStats'
The following objects are masked from 'package:Biobase':
anyMissing, rowMedians
Loading required package: BiocParallel
Attaching package: 'DelayedArray'
The following objects are masked from 'package:matrixStats':
colMaxs, colMins, colRanges, rowMaxs, rowMins, rowRanges
The following objects are masked from 'package:base':
aperm, apply, rowsum
Welcome to 'BASiCS'. If you used 'BASiCS' before its release in
Bioconductor, please visit:
https://github.com/catavallejos/BASiCS/wiki.
>
> test_check("BASiCS")
══ testthat results ═══════════════════════════════════════════════════════════
OK: 193 SKIPPED: 0 FAILED: 0
>
> proc.time()
user system elapsed
47.106 0.429 47.595
BASiCS.Rcheck/BASiCS-Ex.timings
| name | user | system | elapsed | |
| BASiCS_Chain-methods | 1.000 | 0.004 | 1.059 | |
| BASiCS_Chain | 1.674 | 0.000 | 1.688 | |
| BASiCS_DenoisedCounts | 1.360 | 0.000 | 1.364 | |
| BASiCS_DenoisedRates | 1.44 | 0.00 | 1.45 | |
| BASiCS_DetectHVG_LVG | 0.799 | 0.020 | 0.820 | |
| BASiCS_Filter | 0.072 | 0.000 | 0.072 | |
| BASiCS_LoadChain | 0.711 | 0.000 | 0.713 | |
| BASiCS_MCMC | 5.140 | 0.008 | 5.184 | |
| BASiCS_Sim | 0.085 | 0.000 | 0.085 | |
| BASiCS_Summary-methods | 0.004 | 0.004 | 0.008 | |
| BASiCS_Summary | 0.846 | 0.004 | 0.850 | |
| BASiCS_TestDE | 3.114 | 0.072 | 3.188 | |
| BASiCS_VarThresholdSearchHVG_LVG | 2.955 | 0.004 | 2.968 | |
| BASiCS_VarianceDecomp | 0.065 | 0.004 | 0.068 | |
| BASiCS_diagHist | 2.278 | 0.004 | 2.282 | |
| BASiCS_diagPlot | 2.331 | 0.001 | 2.478 | |
| BASiCS_showFit | 0.332 | 0.000 | 0.332 | |
| Summary-BASiCS_Chain-method | 0.055 | 0.000 | 0.055 | |
| colnames-BASiCS_Chain-method | 0.005 | 0.000 | 0.005 | |
| displayChainBASiCS-BASiCS_Chain-method | 0.130 | 0.043 | 0.883 | |
| displaySummaryBASiCS-BASiCS_Summary-method | 0.174 | 0.053 | 0.229 | |
| makeExampleBASiCS_Data | 0.086 | 0.000 | 0.086 | |
| newBASiCS_Chain | 1.502 | 0.116 | 1.617 | |
| newBASiCS_Data | 0.15 | 0.00 | 0.15 | |
| plot-BASiCS_Chain-method | 0.118 | 0.041 | 0.159 | |
| plot-BASiCS_Summary-method | 0.114 | 0.050 | 0.163 | |
| rownames-BASiCS_Chain-method | 0.004 | 0.006 | 0.010 | |
| subset-BASiCS_Chain-method | 0.057 | 0.006 | 0.063 | |