| Back to Multiple platform build/check report for BioC 3.9 |
|
This page was generated on 2019-04-09 11:57:27 -0400 (Tue, 09 Apr 2019).
| Package 38/1703 | Hostname | OS / Arch | INSTALL | BUILD | CHECK | BUILD BIN | ||||||
| AgiMicroRna 2.33.0 Pedro Lopez-Romero
| malbec2 | Linux (Ubuntu 18.04.2 LTS) / x86_64 | OK | OK | OK | |||||||
| tokay2 | Windows Server 2012 R2 Standard / x64 | [ OK ] | OK | OK | OK | |||||||
| celaya2 | OS X 10.11.6 El Capitan / x86_64 | OK | OK | OK | OK | |||||||
| merida2 | OS X 10.11.6 El Capitan / x86_64 | OK | OK | OK | OK |
| Package: AgiMicroRna |
| Version: 2.33.0 |
| Command: C:\cygwin\bin\curl.exe -O https://malbec2.bioconductor.org/BBS/3.9/bioc/src/contrib/AgiMicroRna_2.33.0.tar.gz && rm -rf AgiMicroRna.buildbin-libdir && mkdir AgiMicroRna.buildbin-libdir && C:\Users\biocbuild\bbs-3.9-bioc\R\bin\R.exe CMD INSTALL --merge-multiarch --build --library=AgiMicroRna.buildbin-libdir AgiMicroRna_2.33.0.tar.gz && C:\Users\biocbuild\bbs-3.9-bioc\R\bin\R.exe CMD INSTALL AgiMicroRna_2.33.0.zip && rm AgiMicroRna_2.33.0.tar.gz AgiMicroRna_2.33.0.zip |
| StartedAt: 2019-04-08 20:34:03 -0400 (Mon, 08 Apr 2019) |
| EndedAt: 2019-04-08 20:35:45 -0400 (Mon, 08 Apr 2019) |
| EllapsedTime: 102.4 seconds |
| RetCode: 0 |
| Status: OK |
##############################################################################
##############################################################################
###
### Running command:
###
### C:\cygwin\bin\curl.exe -O https://malbec2.bioconductor.org/BBS/3.9/bioc/src/contrib/AgiMicroRna_2.33.0.tar.gz && rm -rf AgiMicroRna.buildbin-libdir && mkdir AgiMicroRna.buildbin-libdir && C:\Users\biocbuild\bbs-3.9-bioc\R\bin\R.exe CMD INSTALL --merge-multiarch --build --library=AgiMicroRna.buildbin-libdir AgiMicroRna_2.33.0.tar.gz && C:\Users\biocbuild\bbs-3.9-bioc\R\bin\R.exe CMD INSTALL AgiMicroRna_2.33.0.zip && rm AgiMicroRna_2.33.0.tar.gz AgiMicroRna_2.33.0.zip
###
##############################################################################
##############################################################################
% Total % Received % Xferd Average Speed Time Time Time Current
Dload Upload Total Spent Left Speed
0 0 0 0 0 0 0 0 --:--:-- --:--:-- --:--:-- 0
100 1337k 100 1337k 0 0 18.9M 0 --:--:-- --:--:-- --:--:-- 21.0M
install for i386
* installing *source* package 'AgiMicroRna' ...
** R
** data
** byte-compile and prepare package for lazy loading
** help
*** installing help indices
converting help for package 'AgiMicroRna'
finding HTML links ... done
HeatMapMicroRna html
PCAplotMicroRna html
RleMicroRna html
basicLimma html
boxplotMicroRna html
cvArray html
dd.micro html
ddPROC html
dim.uRNAList html
dimnames.uRNAList html
esetMicroRna html
filterMicroRna html
getDecideTests html
hierclusMicroRna html
mvaBASIC html
mvaMicroRna html
plotDensityMicroRna html
pvalHistogram html
qcPlots html
readMicroRnaAFE html
readTargets html
rmaMicroRna html
significantMicroRna html
summary.uRNAList html
targets.micro html
tgsMicroRna html
tgsNormalization html
uRNAList html
writeEset html
** building package indices
** installing vignettes
** testing if installed package can be loaded from temporary location
** testing if installed package can be loaded from final location
** testing if installed package keeps a record of temporary installation path
install for x64
* installing *source* package 'AgiMicroRna' ...
** testing if installed package can be loaded
* MD5 sums
packaged installation of 'AgiMicroRna' as AgiMicroRna_2.33.0.zip
* DONE (AgiMicroRna)
* installing to library 'C:/Users/biocbuild/bbs-3.9-bioc/R/library'
package 'AgiMicroRna' successfully unpacked and MD5 sums checked