| Back to Multiple platform build/check report for BioC 3.9 |
|
This page was generated on 2019-04-09 11:38:12 -0400 (Tue, 09 Apr 2019).
| Package 10/1703 | Hostname | OS / Arch | INSTALL | BUILD | CHECK | BUILD BIN | ||||||
| ABSSeq 1.37.0 Wentao Yang
| malbec2 | Linux (Ubuntu 18.04.2 LTS) / x86_64 | OK | OK | [ OK ] | |||||||
| tokay2 | Windows Server 2012 R2 Standard / x64 | OK | OK | OK | OK | |||||||
| celaya2 | OS X 10.11.6 El Capitan / x86_64 | OK | OK | OK | OK | |||||||
| merida2 | OS X 10.11.6 El Capitan / x86_64 | OK | OK | OK | OK |
| Package: ABSSeq |
| Version: 1.37.0 |
| Command: /home/biocbuild/bbs-3.9-bioc/R/bin/R CMD check --install=check:ABSSeq.install-out.txt --library=/home/biocbuild/bbs-3.9-bioc/R/library --no-vignettes --timings ABSSeq_1.37.0.tar.gz |
| StartedAt: 2019-04-08 22:36:19 -0400 (Mon, 08 Apr 2019) |
| EndedAt: 2019-04-08 22:38:56 -0400 (Mon, 08 Apr 2019) |
| EllapsedTime: 157.0 seconds |
| RetCode: 0 |
| Status: OK |
| CheckDir: ABSSeq.Rcheck |
| Warnings: 0 |
##############################################################################
##############################################################################
###
### Running command:
###
### /home/biocbuild/bbs-3.9-bioc/R/bin/R CMD check --install=check:ABSSeq.install-out.txt --library=/home/biocbuild/bbs-3.9-bioc/R/library --no-vignettes --timings ABSSeq_1.37.0.tar.gz
###
##############################################################################
##############################################################################
* using log directory ‘/home/biocbuild/bbs-3.9-bioc/meat/ABSSeq.Rcheck’
* using R Under development (unstable) (2019-03-18 r76245)
* using platform: x86_64-pc-linux-gnu (64-bit)
* using session charset: UTF-8
* using option ‘--no-vignettes’
* checking for file ‘ABSSeq/DESCRIPTION’ ... OK
* checking extension type ... Package
* this is package ‘ABSSeq’ version ‘1.37.0’
* checking package namespace information ... OK
* checking package dependencies ... OK
* checking if this is a source package ... OK
* checking if there is a namespace ... OK
* checking for hidden files and directories ... OK
* checking for portable file names ... OK
* checking for sufficient/correct file permissions ... OK
* checking whether package ‘ABSSeq’ can be installed ... OK
* checking installed package size ... OK
* checking package directory ... OK
* checking ‘build’ directory ... OK
* checking DESCRIPTION meta-information ... OK
* checking top-level files ... OK
* checking for left-over files ... OK
* checking index information ... OK
* checking package subdirectories ... OK
* checking R files for non-ASCII characters ... OK
* checking R files for syntax errors ... OK
* checking whether the package can be loaded ... OK
* checking whether the package can be loaded with stated dependencies ... OK
* checking whether the package can be unloaded cleanly ... OK
* checking whether the namespace can be loaded with stated dependencies ... OK
* checking whether the namespace can be unloaded cleanly ... OK
* checking dependencies in R code ... NOTE
'library' or 'require' call to ‘edgeR’ in package code.
Please use :: or requireNamespace() instead.
See section 'Suggested packages' in the 'Writing R Extensions' manual.
Package in Depends field not imported from: ‘methods’
These packages need to be imported from (in the NAMESPACE file)
for when this namespace is loaded but not attached.
* checking S3 generic/method consistency ... OK
* checking replacement functions ... OK
* checking foreign function calls ... OK
* checking R code for possible problems ... NOTE
ABSDataSet: no visible global function definition for ‘new’
ABSSeqlm: no visible global function definition for ‘pnorm’
ABSSeqlm: no visible global function definition for ‘p.adjust’
ReplaceOutliersByMAD: no visible global function definition for ‘is’
ReplaceOutliersByMAD: no visible global function definition for
‘model.matrix’
ReplaceOutliersByMAD: no visible global function definition for
‘predict’
aFoldcomplexDesign: no visible binding for global variable ‘sd’
aFoldcomplexDesign: no visible binding for global variable ‘var’
aFoldcomplexDesign: no visible global function definition for ‘sd’
callDEs: no visible global function definition for ‘is’
callDEs: no visible binding for global variable ‘p.adjust.methods’
callDEs: no visible global function definition for ‘pnorm’
callDEs: no visible global function definition for ‘pnbinom’
callDEs: no visible global function definition for ‘p.adjust’
callParameter: no visible global function definition for ‘is’
callParameter: no visible binding for global variable ‘var’
callParameter: no visible global function definition for ‘quantile’
callParameter: no visible global function definition for ‘predict’
callParameter: no visible global function definition for ‘model.matrix’
callParameterwithoutReplicates: no visible global function definition
for ‘is’
callParameterwithoutReplicates: no visible binding for global variable
‘sd’
callParameterwithoutReplicates: no visible global function definition
for ‘predict’
callParameterwithoutReplicates: no visible binding for global variable
‘var’
callParameterwithoutReplicates: no visible global function definition
for ‘quantile’
callParameterwithoutReplicates: no visible global function definition
for ‘model.matrix’
callPergroup: no visible binding for global variable ‘var’
estimateSizeFactorsForMatrix: no visible binding for global variable
‘median’
genAFold: no visible binding for global variable ‘var’
genAFold: no visible binding for global variable ‘sd’
genAFold: no visible global function definition for ‘sd’
normalFactors: no visible global function definition for ‘is’
normalFactors: no visible global function definition for ‘validObject’
normalFactors : rowQuar: no visible global function definition for
‘quantile’
normalFactors: no visible global function definition for
‘calcNormFactors’
plotDifftoBase: no visible global function definition for ‘is’
plotDifftoBase: no visible global function definition for ‘plot’
preAFold: no visible global function definition for ‘quantile’
preAFold: no visible global function definition for ‘var’
preAFold: no visible global function definition for ‘predict’
preAFoldComplex: no visible global function definition for ‘quantile’
preAFoldComplex: no visible global function definition for ‘var’
preAFoldComplex: no visible global function definition for ‘predict’
qtotalNormalized : rowQuar: no visible global function definition for
‘quantile’
qtotalNormalized : rowQuar: no visible global function definition for
‘sd’
qtotalNormalized : rowQuar: no visible global function definition for
‘median’
qtotalNormalized : rowQuar : <anonymous>: no visible global function
definition for ‘median’
replaceByrow: no visible global function definition for ‘median’
replaceByrow: no visible global function definition for ‘mad’
LevelstoNormFC<-,ABSDataSet-numeric: no visible global function
definition for ‘validObject’
[[<-,SumInfo-character-missing: no visible global function definition
for ‘as’
counts<-,ABSDataSet-matrix: no visible global function definition for
‘validObject’
excounts<-,ABSDataSet-matrix: no visible global function definition for
‘validObject’
groups<-,ABSDataSet-factor: no visible global function definition for
‘validObject’
maxRates<-,ABSDataSet-numeric: no visible global function definition
for ‘validObject’
minRates<-,ABSDataSet-numeric: no visible global function definition
for ‘validObject’
minimalDispersion<-,ABSDataSet-numeric: no visible global function
definition for ‘validObject’
normMethod<-,ABSDataSet-character: no visible global function
definition for ‘validObject’
paired<-,ABSDataSet-logical: no visible global function definition for
‘validObject’
sFactors<-,ABSDataSet-numeric: no visible global function definition
for ‘validObject’
Undefined global functions or variables:
as calcNormFactors is mad median model.matrix new p.adjust
p.adjust.methods plot pnbinom pnorm predict quantile sd validObject
var
Consider adding
importFrom("graphics", "plot")
importFrom("methods", "as", "is", "new", "validObject")
importFrom("stats", "mad", "median", "model.matrix", "p.adjust",
"p.adjust.methods", "pnbinom", "pnorm", "predict",
"quantile", "sd", "var")
to your NAMESPACE file (and ensure that your DESCRIPTION Imports field
contains 'methods').
* checking Rd files ... OK
* checking Rd metadata ... OK
* checking Rd cross-references ... OK
* checking for missing documentation entries ... OK
* checking for code/documentation mismatches ... OK
* checking Rd \usage sections ... OK
* checking Rd contents ... OK
* checking for unstated dependencies in examples ... OK
* checking contents of ‘data’ directory ... OK
* checking data for non-ASCII characters ... OK
* checking data for ASCII and uncompressed saves ... OK
* checking files in ‘vignettes’ ... OK
* checking examples ... OK
Examples with CPU or elapsed time > 5s
user system elapsed
plotDifftoBase 12.183 0.004 12.190
ABSSeq 12.056 0.031 12.090
callParameter 11.653 0.012 11.673
callDEs 11.435 0.000 11.446
results 11.269 0.003 11.273
ReplaceOutliersByMAD 9.828 0.007 9.841
excounts 9.105 0.000 9.112
ABSSeqlm 6.689 0.012 6.702
aFoldcomplexDesign 5.054 0.000 5.055
* checking for unstated dependencies in vignettes ... OK
* checking package vignettes in ‘inst/doc’ ... OK
* checking running R code from vignettes ... SKIPPED
* checking re-building of vignette outputs ... SKIPPED
* checking PDF version of manual ... OK
* DONE
Status: 2 NOTEs
See
‘/home/biocbuild/bbs-3.9-bioc/meat/ABSSeq.Rcheck/00check.log’
for details.
ABSSeq.Rcheck/00install.out
############################################################################## ############################################################################## ### ### Running command: ### ### /home/biocbuild/bbs-3.9-bioc/R/bin/R CMD INSTALL ABSSeq ### ############################################################################## ############################################################################## * installing to library ‘/home/biocbuild/bbs-3.9-bioc/R/library’ * installing *source* package ‘ABSSeq’ ... ** using staged installation ** R ** data ** inst ** byte-compile and prepare package for lazy loading ** help *** installing help indices ** building package indices ** installing vignettes ** testing if installed package can be loaded from temporary location ** testing if installed package can be loaded from final location ** testing if installed package keeps a record of temporary installation path * DONE (ABSSeq)
ABSSeq.Rcheck/ABSSeq-Ex.timings
| name | user | system | elapsed | |
| ABSDataSet | 0.070 | 0.000 | 0.071 | |
| ABSSeq | 12.056 | 0.031 | 12.090 | |
| ABSSeqlm | 6.689 | 0.012 | 6.702 | |
| LevelstoNormFC | 0.033 | 0.000 | 0.032 | |
| ReplaceOutliersByMAD | 9.828 | 0.007 | 9.841 | |
| aFoldcomplexDesign | 5.054 | 0.000 | 5.055 | |
| callDEs | 11.435 | 0.000 | 11.446 | |
| callParameter | 11.653 | 0.012 | 11.673 | |
| callParameterwithoutReplicates | 2.174 | 0.000 | 2.178 | |
| counts | 0.040 | 0.000 | 0.039 | |
| estimateSizeFactorsForMatrix | 0.049 | 0.000 | 0.049 | |
| excounts | 9.105 | 0.000 | 9.112 | |
| genAFold | 4.324 | 0.000 | 4.335 | |
| groups | 0.033 | 0.000 | 0.034 | |
| maxRates | 0.032 | 0.000 | 0.033 | |
| minRates | 0.030 | 0.003 | 0.033 | |
| minimalDispersion | 0.034 | 0.000 | 0.034 | |
| normMethod | 0.033 | 0.000 | 0.034 | |
| normalFactors | 2.680 | 0.008 | 2.688 | |
| paired | 0.032 | 0.004 | 0.035 | |
| plotDifftoBase | 12.183 | 0.004 | 12.190 | |
| qtotalNormalized | 2.661 | 0.004 | 2.665 | |
| results | 11.269 | 0.003 | 11.273 | |
| sFactors | 2.715 | 0.000 | 2.717 | |
| simuN5 | 0.029 | 0.000 | 0.029 | |