| Back to Multiple platform build/check report for BioC 3.8 |
|
This page was generated on 2019-04-13 11:20:12 -0400 (Sat, 13 Apr 2019).
| Package 613/1649 | Hostname | OS / Arch | INSTALL | BUILD | CHECK | BUILD BIN | ||||||
| GeneticsPed 1.44.0 David Henderson
| malbec1 | Linux (Ubuntu 16.04.6 LTS) / x86_64 | OK | OK | OK | |||||||
| tokay1 | Windows Server 2012 R2 Standard / x64 | [ OK ] | OK | OK | OK | |||||||
| merida1 | OS X 10.11.6 El Capitan / x86_64 | OK | OK | OK | OK |
| Package: GeneticsPed |
| Version: 1.44.0 |
| Command: C:\cygwin\bin\curl.exe -O https://malbec1.bioconductor.org/BBS/3.8/bioc/src/contrib/GeneticsPed_1.44.0.tar.gz && rm -rf GeneticsPed.buildbin-libdir && mkdir GeneticsPed.buildbin-libdir && C:\Users\biocbuild\bbs-3.8-bioc\R\bin\R.exe CMD INSTALL --merge-multiarch --build --library=GeneticsPed.buildbin-libdir GeneticsPed_1.44.0.tar.gz && C:\Users\biocbuild\bbs-3.8-bioc\R\bin\R.exe CMD INSTALL GeneticsPed_1.44.0.zip && rm GeneticsPed_1.44.0.tar.gz GeneticsPed_1.44.0.zip |
| StartedAt: 2019-04-12 18:37:58 -0400 (Fri, 12 Apr 2019) |
| EndedAt: 2019-04-12 18:39:05 -0400 (Fri, 12 Apr 2019) |
| EllapsedTime: 66.9 seconds |
| RetCode: 0 |
| Status: OK |
##############################################################################
##############################################################################
###
### Running command:
###
### C:\cygwin\bin\curl.exe -O https://malbec1.bioconductor.org/BBS/3.8/bioc/src/contrib/GeneticsPed_1.44.0.tar.gz && rm -rf GeneticsPed.buildbin-libdir && mkdir GeneticsPed.buildbin-libdir && C:\Users\biocbuild\bbs-3.8-bioc\R\bin\R.exe CMD INSTALL --merge-multiarch --build --library=GeneticsPed.buildbin-libdir GeneticsPed_1.44.0.tar.gz && C:\Users\biocbuild\bbs-3.8-bioc\R\bin\R.exe CMD INSTALL GeneticsPed_1.44.0.zip && rm GeneticsPed_1.44.0.tar.gz GeneticsPed_1.44.0.zip
###
##############################################################################
##############################################################################
% Total % Received % Xferd Average Speed Time Time Time Current
Dload Upload Total Spent Left Speed
0 0 0 0 0 0 0 0 --:--:-- --:--:-- --:--:-- 0
100 69180 100 69180 0 0 1927k 0 --:--:-- --:--:-- --:--:-- 2179k
install for i386
* installing *source* package 'GeneticsPed' ...
** libs
C:/Rtools/mingw_32/bin/g++ -I"C:/Users/BIOCBU˜1/BBS-3˜1.8-B/R/include" -DNDEBUG -I"C:/extsoft/include" -O2 -Wall -mtune=generic -c ainverse.cc -o ainverse.o
C:/Rtools/mingw_32/bin/g++ -I"C:/Users/BIOCBU˜1/BBS-3˜1.8-B/R/include" -DNDEBUG -I"C:/extsoft/include" -O2 -Wall -mtune=generic -c eibd.cc -o eibd.o
C:/Rtools/mingw_32/bin/gfortran -O3 -mtune=generic -c ggmatmult.f -o ggmatmult.o
C:/Rtools/mingw_32/bin/gfortran -O3 -mtune=generic -c gpi.f -o gpi.o
C:/Rtools/mingw_32/bin/g++ -I"C:/Users/BIOCBU˜1/BBS-3˜1.8-B/R/include" -DNDEBUG -I"C:/extsoft/include" -O2 -Wall -mtune=generic -c inbreed.cc -o inbreed.o
C:/Rtools/mingw_32/bin/g++ -I"C:/Users/BIOCBU˜1/BBS-3˜1.8-B/R/include" -DNDEBUG -I"C:/extsoft/include" -O2 -Wall -mtune=generic -c inverseAdditive.cc -o inverseAdditive.o
C:/Rtools/mingw_32/bin/g++ -I"C:/Users/BIOCBU˜1/BBS-3˜1.8-B/R/include" -DNDEBUG -I"C:/extsoft/include" -O2 -Wall -mtune=generic -c meuwissen.cc -o meuwissen.o
C:/Rtools/mingw_32/bin/g++ -I"C:/Users/BIOCBU˜1/BBS-3˜1.8-B/R/include" -DNDEBUG -I"C:/extsoft/include" -O2 -Wall -mtune=generic -c pedSort.cc -o pedSort.o
C:/Rtools/mingw_32/bin/g++ -I"C:/Users/BIOCBU˜1/BBS-3˜1.8-B/R/include" -DNDEBUG -I"C:/extsoft/include" -O2 -Wall -mtune=generic -c pedtemplate.cc -o pedtemplate.o
C:/Rtools/mingw_32/bin/g++ -I"C:/Users/BIOCBU˜1/BBS-3˜1.8-B/R/include" -DNDEBUG -I"C:/extsoft/include" -O2 -Wall -mtune=generic -c register.cc -o register.o
C:/Rtools/mingw_32/bin/gcc -I"C:/Users/BIOCBU˜1/BBS-3˜1.8-B/R/include" -DNDEBUG -I"C:/extsoft/include" -O3 -Wall -std=gnu99 -mtune=generic -c sargolzaei.c -o sargolzaei.o
C:/Rtools/mingw_32/bin/g++ -I"C:/Users/BIOCBU˜1/BBS-3˜1.8-B/R/include" -DNDEBUG -I"C:/extsoft/include" -O2 -Wall -mtune=generic -c sortped.cc -o sortped.o
C:/Rtools/mingw_32/bin/g++ -shared -s -static-libgcc -o GeneticsPed.dll tmp.def ainverse.o eibd.o ggmatmult.o gpi.o inbreed.o inverseAdditive.o meuwissen.o pedSort.o pedtemplate.o register.o sargolzaei.o sortped.o -LC:/extsoft/lib/i386 -LC:/extsoft/lib -lgfortran -lm -lquadmath -LC:/Users/BIOCBU˜1/BBS-3˜1.8-B/R/bin/i386 -lR
installing to C:/Users/biocbuild/bbs-3.8-bioc/meat/GeneticsPed.buildbin-libdir/GeneticsPed/libs/i386
** R
** data
** inst
** byte-compile and prepare package for lazy loading
** help
*** installing help indices
converting help for package 'GeneticsPed'
finding HTML links ... done
TDT html
check html
datasets html
extend html
family html
founder html
geneContribution html
generatePedigree html
generation html
gpi html
gpiUtil html
inbreeding html
model.matrix html
nIndividual html
pedigree html
prune html
relationshipAdditive html
removeIndividual html
sort.pedigree html
summary.pedigree html
undocumented html
** building package indices
** installing vignettes
** testing if installed package can be loaded
In R CMD INSTALL
install for x64
* installing *source* package 'GeneticsPed' ...
** libs
C:/Rtools/mingw_64/bin/g++ -I"C:/Users/BIOCBU˜1/BBS-3˜1.8-B/R/include" -DNDEBUG -I"C:/extsoft/include" -O2 -Wall -mtune=generic -c ainverse.cc -o ainverse.o
C:/Rtools/mingw_64/bin/g++ -I"C:/Users/BIOCBU˜1/BBS-3˜1.8-B/R/include" -DNDEBUG -I"C:/extsoft/include" -O2 -Wall -mtune=generic -c eibd.cc -o eibd.o
C:/Rtools/mingw_64/bin/gfortran -O2 -mtune=generic -c ggmatmult.f -o ggmatmult.o
C:/Rtools/mingw_64/bin/gfortran -O2 -mtune=generic -c gpi.f -o gpi.o
C:/Rtools/mingw_64/bin/g++ -I"C:/Users/BIOCBU˜1/BBS-3˜1.8-B/R/include" -DNDEBUG -I"C:/extsoft/include" -O2 -Wall -mtune=generic -c inbreed.cc -o inbreed.o
C:/Rtools/mingw_64/bin/g++ -I"C:/Users/BIOCBU˜1/BBS-3˜1.8-B/R/include" -DNDEBUG -I"C:/extsoft/include" -O2 -Wall -mtune=generic -c inverseAdditive.cc -o inverseAdditive.o
C:/Rtools/mingw_64/bin/g++ -I"C:/Users/BIOCBU˜1/BBS-3˜1.8-B/R/include" -DNDEBUG -I"C:/extsoft/include" -O2 -Wall -mtune=generic -c meuwissen.cc -o meuwissen.o
C:/Rtools/mingw_64/bin/g++ -I"C:/Users/BIOCBU˜1/BBS-3˜1.8-B/R/include" -DNDEBUG -I"C:/extsoft/include" -O2 -Wall -mtune=generic -c pedSort.cc -o pedSort.o
C:/Rtools/mingw_64/bin/g++ -I"C:/Users/BIOCBU˜1/BBS-3˜1.8-B/R/include" -DNDEBUG -I"C:/extsoft/include" -O2 -Wall -mtune=generic -c pedtemplate.cc -o pedtemplate.o
C:/Rtools/mingw_64/bin/g++ -I"C:/Users/BIOCBU˜1/BBS-3˜1.8-B/R/include" -DNDEBUG -I"C:/extsoft/include" -O2 -Wall -mtune=generic -c register.cc -o register.o
C:/Rtools/mingw_64/bin/gcc -I"C:/Users/BIOCBU˜1/BBS-3˜1.8-B/R/include" -DNDEBUG -I"C:/extsoft/include" -O2 -Wall -std=gnu99 -mtune=generic -c sargolzaei.c -o sargolzaei.o
C:/Rtools/mingw_64/bin/g++ -I"C:/Users/BIOCBU˜1/BBS-3˜1.8-B/R/include" -DNDEBUG -I"C:/extsoft/include" -O2 -Wall -mtune=generic -c sortped.cc -o sortped.o
C:/Rtools/mingw_64/bin/g++ -shared -s -static-libgcc -o GeneticsPed.dll tmp.def ainverse.o eibd.o ggmatmult.o gpi.o inbreed.o inverseAdditive.o meuwissen.o pedSort.o pedtemplate.o register.o sargolzaei.o sortped.o -LC:/extsoft/lib/x64 -LC:/extsoft/lib -lgfortran -lm -lquadmath -LC:/Users/BIOCBU˜1/BBS-3˜1.8-B/R/bin/x64 -lR
installing to C:/Users/biocbuild/bbs-3.8-bioc/meat/GeneticsPed.buildbin-libdir/GeneticsPed/libs/x64
** testing if installed package can be loaded
* MD5 sums
packaged installation of 'GeneticsPed' as GeneticsPed_1.44.0.zip
* DONE (GeneticsPed)
In R CMD INSTALL
In R CMD INSTALL
* installing to library 'C:/Users/biocbuild/bbs-3.8-bioc/R/library'
package 'GeneticsPed' successfully unpacked and MD5 sums checked
In R CMD INSTALL