| Back to Long tests report for BioC 3.7 |
This page was generated on 2018-10-16 13:43:39 -0400 (Tue, 16 Oct 2018).
| SUMMARY | OS / Arch | CHECK | |||||
| malbec2 | Linux (Ubuntu 16.04.1 LTS) / x86_64 |
| |||||
| [merida2] | OS X 10.11.6 El Capitan / x86_64 |
| |||||
| Package | Maintainer | CHECK | |||||
| 1/3 | BiocParallel 1.14.2 | Bioconductor Package Maintainer | WARNINGS | ||||
| 2/3 | GenomicFeatures 1.32.3 | Bioconductor Package Maintainer | WARNINGS | ||||
| 3/3 | HDF5Array 1.8.1 | Hervé Pagès | ERROR | ||||