| Back to Multiple platform build/check report for BioC 3.7 |
|
This page was generated on 2018-10-17 08:35:25 -0400 (Wed, 17 Oct 2018).
| Package 1561/1561 | Hostname | OS / Arch | INSTALL | BUILD | CHECK | BUILD BIN | ||||||
| zlibbioc 1.26.0 Bioconductor Package Maintainer
| malbec2 | Linux (Ubuntu 16.04.1 LTS) / x86_64 | OK | OK | OK | |||||||
| tokay2 | Windows Server 2012 R2 Standard / x64 | [ OK ] | OK | WARNINGS | OK | |||||||
| merida2 | OS X 10.11.6 El Capitan / x86_64 | OK | OK | OK | OK |
| Package: zlibbioc |
| Version: 1.26.0 |
| Command: C:\cygwin\bin\curl.exe -O https://malbec2.bioconductor.org/BBS/3.7/bioc/src/contrib/zlibbioc_1.26.0.tar.gz && rm -rf zlibbioc.buildbin-libdir && mkdir zlibbioc.buildbin-libdir && C:\Users\biocbuild\bbs-3.7-bioc\R\bin\R.exe CMD INSTALL --merge-multiarch --build --library=zlibbioc.buildbin-libdir zlibbioc_1.26.0.tar.gz && C:\Users\biocbuild\bbs-3.7-bioc\R\bin\R.exe CMD INSTALL zlibbioc_1.26.0.zip && rm zlibbioc_1.26.0.tar.gz zlibbioc_1.26.0.zip |
| StartedAt: 2018-10-16 19:17:56 -0400 (Tue, 16 Oct 2018) |
| EndedAt: 2018-10-16 19:18:58 -0400 (Tue, 16 Oct 2018) |
| EllapsedTime: 62.5 seconds |
| RetCode: 0 |
| Status: OK |
##############################################################################
##############################################################################
###
### Running command:
###
### C:\cygwin\bin\curl.exe -O https://malbec2.bioconductor.org/BBS/3.7/bioc/src/contrib/zlibbioc_1.26.0.tar.gz && rm -rf zlibbioc.buildbin-libdir && mkdir zlibbioc.buildbin-libdir && C:\Users\biocbuild\bbs-3.7-bioc\R\bin\R.exe CMD INSTALL --merge-multiarch --build --library=zlibbioc.buildbin-libdir zlibbioc_1.26.0.tar.gz && C:\Users\biocbuild\bbs-3.7-bioc\R\bin\R.exe CMD INSTALL zlibbioc_1.26.0.zip && rm zlibbioc_1.26.0.tar.gz zlibbioc_1.26.0.zip
###
##############################################################################
##############################################################################
% Total % Received % Xferd Average Speed Time Time Time Current
Dload Upload Total Spent Left Speed
0 0 0 0 0 0 0 0 --:--:-- --:--:-- --:--:-- 0
100 160k 100 160k 0 0 3006k 0 --:--:-- --:--:-- --:--:-- 3413k
install for i386
* installing *source* package 'zlibbioc' ...
**********************************************
WARNING: this package has a configure script
It probably needs manual configuration
**********************************************
** libs
mkdir -p "C:/Users/biocbuild/bbs-3.7-bioc/meat/zlibbioc.buildbin-libdir/zlibbioc/include" "C:/Users/biocbuild/bbs-3.7-bioc/meat/zlibbioc.buildbin-libdir/zlibbioc/libs/i386"
make -C zlib-1.2.5 -fwin32/Makefile.gcc libzbioc.a zlib1bioc.dll
make[1]: Entering directory `/cygdrive/c/Users/biocbuild/bbs-3.7-bioc/tmpdir/RtmpaWZlFP/R.INSTALL11a437cb5fd1/zlibbioc/src/zlib-1.2.5'
C:/Rtools/mingw_32/bin/gcc -m32 -O3 -Wall -DNO_VIZ -DZ_PREFIX -c -o adler32.o adler32.c
C:/Rtools/mingw_32/bin/gcc -m32 -O3 -Wall -DNO_VIZ -DZ_PREFIX -c -o compress.o compress.c
C:/Rtools/mingw_32/bin/gcc -m32 -O3 -Wall -DNO_VIZ -DZ_PREFIX -c -o crc32.o crc32.c
C:/Rtools/mingw_32/bin/gcc -m32 -O3 -Wall -DNO_VIZ -DZ_PREFIX -c -o deflate.o deflate.c
C:/Rtools/mingw_32/bin/gcc -m32 -O3 -Wall -DNO_VIZ -DZ_PREFIX -c -o gzclose.o gzclose.c
C:/Rtools/mingw_32/bin/gcc -m32 -O3 -Wall -DNO_VIZ -DZ_PREFIX -c -o gzlib.o gzlib.c
C:/Rtools/mingw_32/bin/gcc -m32 -O3 -Wall -DNO_VIZ -DZ_PREFIX -c -o gzread.o gzread.c
C:/Rtools/mingw_32/bin/gcc -m32 -O3 -Wall -DNO_VIZ -DZ_PREFIX -c -o gzwrite.o gzwrite.c
C:/Rtools/mingw_32/bin/gcc -m32 -O3 -Wall -DNO_VIZ -DZ_PREFIX -c -o infback.o infback.c
C:/Rtools/mingw_32/bin/gcc -m32 -O3 -Wall -DNO_VIZ -DZ_PREFIX -c -o inffast.o inffast.c
C:/Rtools/mingw_32/bin/gcc -m32 -O3 -Wall -DNO_VIZ -DZ_PREFIX -c -o inflate.o inflate.c
C:/Rtools/mingw_32/bin/gcc -m32 -O3 -Wall -DNO_VIZ -DZ_PREFIX -c -o inftrees.o inftrees.c
C:/Rtools/mingw_32/bin/gcc -m32 -O3 -Wall -DNO_VIZ -DZ_PREFIX -c -o trees.o trees.c
C:/Rtools/mingw_32/bin/gcc -m32 -O3 -Wall -DNO_VIZ -DZ_PREFIX -c -o uncompr.o uncompr.c
C:/Rtools/mingw_32/bin/gcc -m32 -O3 -Wall -DNO_VIZ -DZ_PREFIX -c -o zutil.o zutil.c
C:/Rtools/mingw_32/bin/ar rcs libzbioc.a adler32.o compress.o crc32.o deflate.o gzclose.o gzlib.o gzread.o gzwrite.o infback.o inffast.o inflate.o inftrees.o trees.o uncompr.o zutil.o
C:/Rtools/mingw_32/bin/windres --define GCC_WINDRES --target=pe-i386 -o zlibrc.o win32/zlib1.rc
C:/Rtools/mingw_32/bin/gcc -m32 -shared -Wl,--out-implib,libzbiocdll.a \
-o zlib1bioc.dll win32/zlib.def adler32.o compress.o crc32.o deflate.o gzclose.o gzlib.o gzread.o gzwrite.o infback.o inffast.o inflate.o inftrees.o trees.o uncompr.o zutil.o zlibrc.o
C:/Rtools/mingw_32/bin/strip zlib1bioc.dll
make[1]: Leaving directory `/cygdrive/c/Users/biocbuild/bbs-3.7-bioc/tmpdir/RtmpaWZlFP/R.INSTALL11a437cb5fd1/zlibbioc/src/zlib-1.2.5'
cp zlib-1.2.5/libzbioc.a zlib-1.2.5/zlib1bioc.dll \
"C:/Users/biocbuild/bbs-3.7-bioc/meat/zlibbioc.buildbin-libdir/zlibbioc/libs/i386"
cp zlib-1.2.5/zconf.h zlib-1.2.5/zlib.h "C:/Users/biocbuild/bbs-3.7-bioc/meat/zlibbioc.buildbin-libdir/zlibbioc/include"
C:/Rtools/mingw_32/bin/gcc -I"C:/Users/BIOCBU˜1/BBS-3˜1.7-B/R/include" -DNDEBUG -I"C:/extsoft/include" -O3 -Wall -std=gnu99 -mtune=generic -c R_init_zlibbioc.c -o R_init_zlibbioc.o
C:/Rtools/mingw_32/bin/gcc -shared -s -static-libgcc -o zlibbioc.dll tmp.def R_init_zlibbioc.o -LC:/extsoft/lib/i386 -LC:/extsoft/lib -LC:/Users/BIOCBU˜1/BBS-3˜1.7-B/R/bin/i386 -lR
installing to C:/Users/biocbuild/bbs-3.7-bioc/meat/zlibbioc.buildbin-libdir/zlibbioc/libs/i386
** R
** byte-compile and prepare package for lazy loading
** help
*** installing help indices
converting help for package 'zlibbioc'
finding HTML links ... done
pkgconfig html
zlibbioc-package html
** building package indices
** installing vignettes
** testing if installed package can be loaded
In R CMD INSTALL
install for x64
* installing *source* package 'zlibbioc' ...
**********************************************
WARNING: this package has a configure script
It probably needs manual configuration
**********************************************
** libs
mkdir -p "C:/Users/biocbuild/bbs-3.7-bioc/meat/zlibbioc.buildbin-libdir/zlibbioc/include" "C:/Users/biocbuild/bbs-3.7-bioc/meat/zlibbioc.buildbin-libdir/zlibbioc/libs/x64"
make -C zlib-1.2.5 -fwin32/Makefile.gcc libzbioc.a zlib1bioc.dll
make[1]: Entering directory `/cygdrive/c/Users/biocbuild/bbs-3.7-bioc/tmpdir/Rtmp4unTV4/R.INSTALL1a0c1ac5583c/zlibbioc/src/zlib-1.2.5'
C:/Rtools/mingw_64/bin/gcc -m64 -O3 -Wall -DNO_VIZ -DZ_PREFIX -c -o adler32.o adler32.c
C:/Rtools/mingw_64/bin/gcc -m64 -O3 -Wall -DNO_VIZ -DZ_PREFIX -c -o compress.o compress.c
C:/Rtools/mingw_64/bin/gcc -m64 -O3 -Wall -DNO_VIZ -DZ_PREFIX -c -o crc32.o crc32.c
C:/Rtools/mingw_64/bin/gcc -m64 -O3 -Wall -DNO_VIZ -DZ_PREFIX -c -o deflate.o deflate.c
C:/Rtools/mingw_64/bin/gcc -m64 -O3 -Wall -DNO_VIZ -DZ_PREFIX -c -o gzclose.o gzclose.c
C:/Rtools/mingw_64/bin/gcc -m64 -O3 -Wall -DNO_VIZ -DZ_PREFIX -c -o gzlib.o gzlib.c
C:/Rtools/mingw_64/bin/gcc -m64 -O3 -Wall -DNO_VIZ -DZ_PREFIX -c -o gzread.o gzread.c
C:/Rtools/mingw_64/bin/gcc -m64 -O3 -Wall -DNO_VIZ -DZ_PREFIX -c -o gzwrite.o gzwrite.c
C:/Rtools/mingw_64/bin/gcc -m64 -O3 -Wall -DNO_VIZ -DZ_PREFIX -c -o infback.o infback.c
C:/Rtools/mingw_64/bin/gcc -m64 -O3 -Wall -DNO_VIZ -DZ_PREFIX -c -o inffast.o inffast.c
C:/Rtools/mingw_64/bin/gcc -m64 -O3 -Wall -DNO_VIZ -DZ_PREFIX -c -o inflate.o inflate.c
C:/Rtools/mingw_64/bin/gcc -m64 -O3 -Wall -DNO_VIZ -DZ_PREFIX -c -o inftrees.o inftrees.c
C:/Rtools/mingw_64/bin/gcc -m64 -O3 -Wall -DNO_VIZ -DZ_PREFIX -c -o trees.o trees.c
C:/Rtools/mingw_64/bin/gcc -m64 -O3 -Wall -DNO_VIZ -DZ_PREFIX -c -o uncompr.o uncompr.c
C:/Rtools/mingw_64/bin/gcc -m64 -O3 -Wall -DNO_VIZ -DZ_PREFIX -c -o zutil.o zutil.c
C:/Rtools/mingw_64/bin/ar rcs libzbioc.a adler32.o compress.o crc32.o deflate.o gzclose.o gzlib.o gzread.o gzwrite.o infback.o inffast.o inflate.o inftrees.o trees.o uncompr.o zutil.o
C:/Rtools/mingw_64/bin/windres --define GCC_WINDRES --target=pe-x86-64 -o zlibrc.o win32/zlib1.rc
C:/Rtools/mingw_64/bin/gcc -m64 -shared -Wl,--out-implib,libzbiocdll.a \
-o zlib1bioc.dll win32/zlib.def adler32.o compress.o crc32.o deflate.o gzclose.o gzlib.o gzread.o gzwrite.o infback.o inffast.o inflate.o inftrees.o trees.o uncompr.o zutil.o zlibrc.o
C:/Rtools/mingw_64/bin/strip zlib1bioc.dll
make[1]: Leaving directory `/cygdrive/c/Users/biocbuild/bbs-3.7-bioc/tmpdir/Rtmp4unTV4/R.INSTALL1a0c1ac5583c/zlibbioc/src/zlib-1.2.5'
cp zlib-1.2.5/libzbioc.a zlib-1.2.5/zlib1bioc.dll \
"C:/Users/biocbuild/bbs-3.7-bioc/meat/zlibbioc.buildbin-libdir/zlibbioc/libs/x64"
cp zlib-1.2.5/zconf.h zlib-1.2.5/zlib.h "C:/Users/biocbuild/bbs-3.7-bioc/meat/zlibbioc.buildbin-libdir/zlibbioc/include"
C:/Rtools/mingw_64/bin/gcc -I"C:/Users/BIOCBU˜1/BBS-3˜1.7-B/R/include" -DNDEBUG -I"C:/extsoft/include" -O2 -Wall -std=gnu99 -mtune=generic -c R_init_zlibbioc.c -o R_init_zlibbioc.o
C:/Rtools/mingw_64/bin/gcc -shared -s -static-libgcc -o zlibbioc.dll tmp.def R_init_zlibbioc.o -LC:/extsoft/lib/x64 -LC:/extsoft/lib -LC:/Users/BIOCBU˜1/BBS-3˜1.7-B/R/bin/x64 -lR
installing to C:/Users/biocbuild/bbs-3.7-bioc/meat/zlibbioc.buildbin-libdir/zlibbioc/libs/x64
** testing if installed package can be loaded
* MD5 sums
packaged installation of 'zlibbioc' as zlibbioc_1.26.0.zip
* DONE (zlibbioc)
In R CMD INSTALL
In R CMD INSTALL
* installing to library 'C:/Users/biocbuild/bbs-3.7-bioc/R/library'
package 'zlibbioc' successfully unpacked and MD5 sums checked
Warning: cannot remove prior installation of package 'zlibbioc'
Warning in file.copy(savedcopy, lib, recursive = TRUE) :
problem copying C:\Users\biocbuild\bbs-3.7-bioc\R\library\00LOCK-zlibbioc\zlibbioc\libs\i386\zlib1bioc.dll to C:\Users\biocbuild\bbs-3.7-bioc\R\library\zlibbioc\libs\i386\zlib1bioc.dll: Permission denied
Warning: restored 'zlibbioc'
In R CMD INSTALL