| Back to Multiple platform build/check report for BioC 3.7 |
|
This page was generated on 2018-10-17 08:31:49 -0400 (Wed, 17 Oct 2018).
| Package 1539/1561 | Hostname | OS / Arch | INSTALL | BUILD | CHECK | BUILD BIN | ||||||
| vsn 3.48.1 Wolfgang Huber
| malbec2 | Linux (Ubuntu 16.04.1 LTS) / x86_64 | OK | OK | OK | |||||||
| tokay2 | Windows Server 2012 R2 Standard / x64 | [ OK ] | OK | WARNINGS | OK | |||||||
| merida2 | OS X 10.11.6 El Capitan / x86_64 | OK | OK | OK | OK |
| Package: vsn |
| Version: 3.48.1 |
| Command: C:\cygwin\bin\curl.exe -O https://malbec2.bioconductor.org/BBS/3.7/bioc/src/contrib/vsn_3.48.1.tar.gz && rm -rf vsn.buildbin-libdir && mkdir vsn.buildbin-libdir && C:\Users\biocbuild\bbs-3.7-bioc\R\bin\R.exe CMD INSTALL --merge-multiarch --build --library=vsn.buildbin-libdir vsn_3.48.1.tar.gz && C:\Users\biocbuild\bbs-3.7-bioc\R\bin\R.exe CMD INSTALL vsn_3.48.1.zip && rm vsn_3.48.1.tar.gz vsn_3.48.1.zip |
| StartedAt: 2018-10-16 19:31:38 -0400 (Tue, 16 Oct 2018) |
| EndedAt: 2018-10-16 19:32:30 -0400 (Tue, 16 Oct 2018) |
| EllapsedTime: 52.4 seconds |
| RetCode: 0 |
| Status: OK |
##############################################################################
##############################################################################
###
### Running command:
###
### C:\cygwin\bin\curl.exe -O https://malbec2.bioconductor.org/BBS/3.7/bioc/src/contrib/vsn_3.48.1.tar.gz && rm -rf vsn.buildbin-libdir && mkdir vsn.buildbin-libdir && C:\Users\biocbuild\bbs-3.7-bioc\R\bin\R.exe CMD INSTALL --merge-multiarch --build --library=vsn.buildbin-libdir vsn_3.48.1.tar.gz && C:\Users\biocbuild\bbs-3.7-bioc\R\bin\R.exe CMD INSTALL vsn_3.48.1.zip && rm vsn_3.48.1.tar.gz vsn_3.48.1.zip
###
##############################################################################
##############################################################################
% Total % Received % Xferd Average Speed Time Time Time Current
Dload Upload Total Spent Left Speed
0 0 0 0 0 0 0 0 --:--:-- --:--:-- --:--:-- 0
100 436k 100 436k 0 0 7185k 0 --:--:-- --:--:-- --:--:-- 8078k
install for i386
* installing *source* package 'vsn' ...
** libs
C:/Rtools/mingw_32/bin/gcc -I"C:/Users/BIOCBU˜1/BBS-3˜1.7-B/R/include" -DNDEBUG -I"C:/extsoft/include" -O3 -Wall -std=gnu99 -mtune=generic -c init.c -o init.o
C:/Rtools/mingw_32/bin/gcc -I"C:/Users/BIOCBU˜1/BBS-3˜1.7-B/R/include" -DNDEBUG -I"C:/extsoft/include" -O3 -Wall -std=gnu99 -mtune=generic -c vsn.c -o vsn.o
C:/Rtools/mingw_32/bin/gcc -I"C:/Users/BIOCBU˜1/BBS-3˜1.7-B/R/include" -DNDEBUG -I"C:/extsoft/include" -O3 -Wall -std=gnu99 -mtune=generic -c vsn2.c -o vsn2.o
C:/Rtools/mingw_32/bin/gcc -shared -s -static-libgcc -o vsn.dll tmp.def init.o vsn.o vsn2.o -LC:/extsoft/lib/i386 -LC:/extsoft/lib -LC:/Users/BIOCBU˜1/BBS-3˜1.7-B/R/bin/i386 -lR
installing to C:/Users/biocbuild/bbs-3.7-bioc/meat/vsn.buildbin-libdir/vsn/libs/i386
** R
** data
** inst
** byte-compile and prepare package for lazy loading
** help
*** installing help indices
converting help for package 'vsn'
finding HTML links ... done
class.vsn html
class.vsnInput html
justvsn html
kidney html
lymphoma html
meanSdPlot html
Rd warning: C:/Users/biocbuild/bbs-3.7-bioc/tmpdir/RtmpCwJLOM/R.INSTALL1d545eaf4986/vsn/man/meanSdPlot.Rd:43: file link 'stat_binhex' in package 'ggplot2' does not exist and so has been treated as a topic
Rd warning: C:/Users/biocbuild/bbs-3.7-bioc/tmpdir/RtmpCwJLOM/R.INSTALL1d545eaf4986/vsn/man/meanSdPlot.Rd:44: file link 'stat_binhex' in package 'ggplot2' does not exist and so has been treated as a topic
normalize.AffyBatch.vsn html
sagmbSimulateData html
scalingFactorTransformation html
vsn-package html
vsn2 html
vsn2trsf html
vsnLikelihood html
** building package indices
** installing vignettes
** testing if installed package can be loaded
In R CMD INSTALL
install for x64
* installing *source* package 'vsn' ...
** libs
C:/Rtools/mingw_64/bin/gcc -I"C:/Users/BIOCBU˜1/BBS-3˜1.7-B/R/include" -DNDEBUG -I"C:/extsoft/include" -O2 -Wall -std=gnu99 -mtune=generic -c init.c -o init.o
C:/Rtools/mingw_64/bin/gcc -I"C:/Users/BIOCBU˜1/BBS-3˜1.7-B/R/include" -DNDEBUG -I"C:/extsoft/include" -O2 -Wall -std=gnu99 -mtune=generic -c vsn.c -o vsn.o
C:/Rtools/mingw_64/bin/gcc -I"C:/Users/BIOCBU˜1/BBS-3˜1.7-B/R/include" -DNDEBUG -I"C:/extsoft/include" -O2 -Wall -std=gnu99 -mtune=generic -c vsn2.c -o vsn2.o
C:/Rtools/mingw_64/bin/gcc -shared -s -static-libgcc -o vsn.dll tmp.def init.o vsn.o vsn2.o -LC:/extsoft/lib/x64 -LC:/extsoft/lib -LC:/Users/BIOCBU˜1/BBS-3˜1.7-B/R/bin/x64 -lR
installing to C:/Users/biocbuild/bbs-3.7-bioc/meat/vsn.buildbin-libdir/vsn/libs/x64
** testing if installed package can be loaded
* MD5 sums
packaged installation of 'vsn' as vsn_3.48.1.zip
* DONE (vsn)
In R CMD INSTALL
In R CMD INSTALL
* installing to library 'C:/Users/biocbuild/bbs-3.7-bioc/R/library'
package 'vsn' successfully unpacked and MD5 sums checked
In R CMD INSTALL