| Back to Multiple platform build/check report for BioC 3.7 |
|
This page was generated on 2018-10-17 08:38:13 -0400 (Wed, 17 Oct 2018).
| Package 1525/1561 | Hostname | OS / Arch | INSTALL | BUILD | CHECK | BUILD BIN | ||||||
| unifiedWMWqPCR 1.16.0 Joris Meys
| malbec2 | Linux (Ubuntu 16.04.1 LTS) / x86_64 | OK | OK | OK | |||||||
| tokay2 | Windows Server 2012 R2 Standard / x64 | OK | OK | OK | [ OK ] | |||||||
| merida2 | OS X 10.11.6 El Capitan / x86_64 | OK | OK | OK | OK |
| Package: unifiedWMWqPCR |
| Version: 1.16.0 |
| Command: rm -rf unifiedWMWqPCR.buildbin-libdir && mkdir unifiedWMWqPCR.buildbin-libdir && C:\Users\biocbuild\bbs-3.7-bioc\R\bin\R.exe CMD INSTALL --merge-multiarch --build --library=unifiedWMWqPCR.buildbin-libdir unifiedWMWqPCR_1.16.0.tar.gz |
| StartedAt: 2018-10-17 07:06:12 -0400 (Wed, 17 Oct 2018) |
| EndedAt: 2018-10-17 07:06:31 -0400 (Wed, 17 Oct 2018) |
| EllapsedTime: 18.4 seconds |
| RetCode: 0 |
| Status: OK |
| PackageFile: unifiedWMWqPCR_1.16.0.zip |
| PackageFileSize: 764.6 KiB |
##############################################################################
##############################################################################
###
### Running command:
###
### rm -rf unifiedWMWqPCR.buildbin-libdir && mkdir unifiedWMWqPCR.buildbin-libdir && C:\Users\biocbuild\bbs-3.7-bioc\R\bin\R.exe CMD INSTALL --merge-multiarch --build --library=unifiedWMWqPCR.buildbin-libdir unifiedWMWqPCR_1.16.0.tar.gz
###
##############################################################################
##############################################################################
install for i386
* installing *source* package 'unifiedWMWqPCR' ...
** R
** data
** inst
** byte-compile and prepare package for lazy loading
Creating a generic function for 'order' from package 'base' in package 'unifiedWMWqPCR'
** help
*** installing help indices
converting help for package 'unifiedWMWqPCR'
finding HTML links ... done
NBdata html
as.matrix.uwmwEstimate html
as.matrix.uwmwRes html
forestplot-methods html
getEstimate-methods html
plot html
sort_uwmwRes html
uWMW-methods html
unifiedWMWqPCR-package html
uwmwEstimate-class html
uwmwRes-class html
uwmw_Accessors html
uwmw_Extract html
volcanopar html
volcanoplot-methods html
** building package indices
** installing vignettes
** testing if installed package can be loaded
In R CMD INSTALL
install for x64
* installing *source* package 'unifiedWMWqPCR' ...
** testing if installed package can be loaded
* MD5 sums
packaged installation of 'unifiedWMWqPCR' as unifiedWMWqPCR_1.16.0.zip
* DONE (unifiedWMWqPCR)
In R CMD INSTALL
In R CMD INSTALL