| Back to Multiple platform build/check report for BioC 3.7 |
|
This page was generated on 2018-10-17 08:24:03 -0400 (Wed, 17 Oct 2018).
| Package 1506/1561 | Hostname | OS / Arch | INSTALL | BUILD | CHECK | BUILD BIN | ||||||
| trigger 1.26.0 John D. Storey
| malbec2 | Linux (Ubuntu 16.04.1 LTS) / x86_64 | [ OK ] | OK | OK | |||||||
| tokay2 | Windows Server 2012 R2 Standard / x64 | OK | OK | OK | OK | |||||||
| merida2 | OS X 10.11.6 El Capitan / x86_64 | OK | OK | OK | OK |
| Package: trigger |
| Version: 1.26.0 |
| Command: /home/biocbuild/bbs-3.7-bioc/R/bin/R CMD INSTALL trigger |
| StartedAt: 2018-10-15 18:05:50 -0400 (Mon, 15 Oct 2018) |
| EndedAt: 2018-10-15 18:06:05 -0400 (Mon, 15 Oct 2018) |
| EllapsedTime: 15.7 seconds |
| RetCode: 0 |
| Status: OK |
##############################################################################
##############################################################################
###
### Running command:
###
### /home/biocbuild/bbs-3.7-bioc/R/bin/R CMD INSTALL trigger
###
##############################################################################
##############################################################################
* installing to library ‘/home/biocbuild/bbs-3.7-bioc/R/library’
* installing *source* package ‘trigger’ ...
** libs
gcc -I"/home/biocbuild/bbs-3.7-bioc/R/include" -DNDEBUG -I/usr/local/include -fpic -g -O2 -Wall -c trigger.c -o trigger.o
trigger.c: In function ‘mergeorder’:
trigger.c:25:20: warning: variable ‘n3’ set but not used [-Wunused-but-set-variable]
int i1,i2,i3,n1,n2,n3;
^
trigger.c: In function ‘sec_link_stat’:
trigger.c:81:10: warning: variable ‘nct’ set but not used [-Wunused-but-set-variable]
int ntr, nct, i, j;
^
trigger.c: In function ‘sec_link_stat_x’:
trigger.c:153:10: warning: variable ‘nct’ set but not used [-Wunused-but-set-variable]
int ntr, nct, i, j, k, nk;
^
trigger.c: In function ‘condi_indep_stat’:
trigger.c:233:10: warning: variable ‘nct’ set but not used [-Wunused-but-set-variable]
int ntr, nct, i, j;
^
trigger.c: In function ‘condi_indep_stat_x’:
trigger.c:310:10: warning: variable ‘nct’ set but not used [-Wunused-but-set-variable]
int ntr, nct, i, j, k, nk;
^
trigger.c: In function ‘condi_indep_stat_rx’:
trigger.c:393:10: warning: variable ‘nct’ set but not used [-Wunused-but-set-variable]
int ntr, nct, i, j, k, nk;
^
gcc -shared -L/home/biocbuild/bbs-3.7-bioc/R/lib -L/usr/local/lib -o trigger.so trigger.o -L/home/biocbuild/bbs-3.7-bioc/R/lib -lR
installing to /home/biocbuild/bbs-3.7-bioc/R/library/trigger/libs
** R
** data
** inst
** byte-compile and prepare package for lazy loading
** help
*** installing help indices
** building package indices
** installing vignettes
** testing if installed package can be loaded
* DONE (trigger)