| Back to Multiple platform build/check report for BioC 3.7 |
|
This page was generated on 2018-10-17 08:43:19 -0400 (Wed, 17 Oct 2018).
| Package 1502/1561 | Hostname | OS / Arch | INSTALL | BUILD | CHECK | BUILD BIN | ||||||
| treeio 1.4.3 Guangchuang Yu
| malbec2 | Linux (Ubuntu 16.04.1 LTS) / x86_64 | OK | OK | OK | |||||||
| tokay2 | Windows Server 2012 R2 Standard / x64 | [ OK ] | OK | WARNINGS | OK | |||||||
| merida2 | OS X 10.11.6 El Capitan / x86_64 | OK | OK | OK | OK |
| Package: treeio |
| Version: 1.4.3 |
| Command: C:\cygwin\bin\curl.exe -O https://malbec2.bioconductor.org/BBS/3.7/bioc/src/contrib/treeio_1.4.3.tar.gz && rm -rf treeio.buildbin-libdir && mkdir treeio.buildbin-libdir && C:\Users\biocbuild\bbs-3.7-bioc\R\bin\R.exe CMD INSTALL --merge-multiarch --build --library=treeio.buildbin-libdir treeio_1.4.3.tar.gz && C:\Users\biocbuild\bbs-3.7-bioc\R\bin\R.exe CMD INSTALL treeio_1.4.3.zip && rm treeio_1.4.3.tar.gz treeio_1.4.3.zip |
| StartedAt: 2018-10-16 19:05:47 -0400 (Tue, 16 Oct 2018) |
| EndedAt: 2018-10-16 19:07:11 -0400 (Tue, 16 Oct 2018) |
| EllapsedTime: 83.9 seconds |
| RetCode: 0 |
| Status: OK |
##############################################################################
##############################################################################
###
### Running command:
###
### C:\cygwin\bin\curl.exe -O https://malbec2.bioconductor.org/BBS/3.7/bioc/src/contrib/treeio_1.4.3.tar.gz && rm -rf treeio.buildbin-libdir && mkdir treeio.buildbin-libdir && C:\Users\biocbuild\bbs-3.7-bioc\R\bin\R.exe CMD INSTALL --merge-multiarch --build --library=treeio.buildbin-libdir treeio_1.4.3.tar.gz && C:\Users\biocbuild\bbs-3.7-bioc\R\bin\R.exe CMD INSTALL treeio_1.4.3.zip && rm treeio_1.4.3.tar.gz treeio_1.4.3.zip
###
##############################################################################
##############################################################################
% Total % Received % Xferd Average Speed Time Time Time Current
Dload Upload Total Spent Left Speed
0 0 0 0 0 0 0 0 --:--:-- --:--:-- --:--:-- 0
100 743k 100 743k 0 0 11.5M 0 --:--:-- --:--:-- --:--:-- 12.9M
install for i386
* installing *source* package 'treeio' ...
** R
** inst
** byte-compile and prepare package for lazy loading
** help
*** installing help indices
converting help for package 'treeio'
finding HTML links ... done
Nnode.treedata html
as.treedata html
beast-mrbayes-parser html
drop.tip-methods html
get-placements html
get.tree html
get.treetext-methods html
getNodeNum html
is.ggtree html
jplace-class html
label_branch_paml html
mask html
merge_tree html
phyPML html
print.beastList html
raxml2nwk html
read-jtree html
read.astral html
read.codeml html
read.codeml_mlc html
read.fasta html
read.hyphy html
read.hyphy.seq html
read.iqtree html
read.jplace html
read.newick html
read.nhx html
read.paml_rst html
read.phylip html
read.phylip.seq html
read.phylip.tree html
read.phyloT html
read.r8s html
read.raxml html
reexports html
Rd warning: C:/Users/biocbuild/bbs-3.7-bioc/tmpdir/RtmpUfHtYW/R.INSTALL11f074811336/treeio/man/reexports.Rd:34: file link 'Nnode' in package 'ape' does not exist and so has been treated as a topic
Rd warning: C:/Users/biocbuild/bbs-3.7-bioc/tmpdir/RtmpUfHtYW/R.INSTALL11f074811336/treeio/man/reexports.Rd:34: file link 'Ntip' in package 'ape' does not exist and so has been treated as a topic
Rd warning: C:/Users/biocbuild/bbs-3.7-bioc/tmpdir/RtmpUfHtYW/R.INSTALL11f074811336/treeio/man/reexports.Rd:34: file link 'is.rooted' in package 'ape' does not exist and so has been treated as a topic
Rd warning: C:/Users/biocbuild/bbs-3.7-bioc/tmpdir/RtmpUfHtYW/R.INSTALL11f074811336/treeio/man/reexports.Rd:36: file link 'full_join' in package 'dplyr' does not exist and so has been treated as a topic
Rd warning: C:/Users/biocbuild/bbs-3.7-bioc/tmpdir/RtmpUfHtYW/R.INSTALL11f074811336/treeio/man/reexports.Rd:38: file link '%>%' in package 'magrittr' does not exist and so has been treated as a topic
Rd warning: C:/Users/biocbuild/bbs-3.7-bioc/tmpdir/RtmpUfHtYW/R.INSTALL11f074811336/treeio/man/reexports.Rd:40: file link 'data_frame' in package 'tibble' does not exist and so has been treated as a topic
Rd warning: C:/Users/biocbuild/bbs-3.7-bioc/tmpdir/RtmpUfHtYW/R.INSTALL11f074811336/treeio/man/reexports.Rd:42: file link 'get.fields' in package 'tidytree' does not exist and so has been treated as a topic
Rd warning: C:/Users/biocbuild/bbs-3.7-bioc/tmpdir/RtmpUfHtYW/R.INSTALL11f074811336/treeio/man/reexports.Rd:42: file link 'get.data' in package 'tidytree' does not exist and so has been treated as a topic
rename_taxa html
taxa_rename html
write-jtree html
write.beast html
write.jplace html
** building package indices
** installing vignettes
** testing if installed package can be loaded
In R CMD INSTALL
install for x64
* installing *source* package 'treeio' ...
** testing if installed package can be loaded
* MD5 sums
packaged installation of 'treeio' as treeio_1.4.3.zip
* DONE (treeio)
In R CMD INSTALL
In R CMD INSTALL
* installing to library 'C:/Users/biocbuild/bbs-3.7-bioc/R/library'
package 'treeio' successfully unpacked and MD5 sums checked
In R CMD INSTALL