| Back to Multiple platform build/check report for BioC 3.7 |
|
This page was generated on 2018-10-17 08:44:49 -0400 (Wed, 17 Oct 2018).
| Package 1492/1561 | Hostname | OS / Arch | INSTALL | BUILD | CHECK | BUILD BIN | ||||||
| topdownr 1.2.0 Sebastian Gibb
| malbec2 | Linux (Ubuntu 16.04.1 LTS) / x86_64 | OK | OK | OK | |||||||
| tokay2 | Windows Server 2012 R2 Standard / x64 | OK | OK | WARNINGS | [ OK ] | |||||||
| merida2 | OS X 10.11.6 El Capitan / x86_64 | OK | OK | OK | OK |
| Package: topdownr |
| Version: 1.2.0 |
| Command: rm -rf topdownr.buildbin-libdir && mkdir topdownr.buildbin-libdir && C:\Users\biocbuild\bbs-3.7-bioc\R\bin\R.exe CMD INSTALL --merge-multiarch --build --library=topdownr.buildbin-libdir topdownr_1.2.0.tar.gz |
| StartedAt: 2018-10-17 07:04:59 -0400 (Wed, 17 Oct 2018) |
| EndedAt: 2018-10-17 07:05:32 -0400 (Wed, 17 Oct 2018) |
| EllapsedTime: 33.0 seconds |
| RetCode: 0 |
| Status: OK |
| PackageFile: topdownr_1.2.0.zip |
| PackageFileSize: 2.134 MiB |
##############################################################################
##############################################################################
###
### Running command:
###
### rm -rf topdownr.buildbin-libdir && mkdir topdownr.buildbin-libdir && C:\Users\biocbuild\bbs-3.7-bioc\R\bin\R.exe CMD INSTALL --merge-multiarch --build --library=topdownr.buildbin-libdir topdownr_1.2.0.tar.gz
###
##############################################################################
##############################################################################
install for i386
* installing *source* package 'topdownr' ...
** R
** data
*** moving datasets to lazyload DB
** inst
** byte-compile and prepare package for lazy loading
** help
*** installing help indices
converting help for package 'topdownr'
finding HTML links ... done
AbstractTopDownSet-class html
Rd warning: C:/Users/biocbuild/bbs-3.7-bioc/tmpdir/RtmpUvjn84/R.INSTALL1f807f1c8bf/topdownr/man/AbstractTopDownSet-class.Rd:228: file link 'XStringViews' in package 'Biostrings' does not exist and so has been treated as a topic
FragmentViews-class html
Rd warning: C:/Users/biocbuild/bbs-3.7-bioc/tmpdir/RtmpUvjn84/R.INSTALL1f807f1c8bf/topdownr/man/FragmentViews-class.Rd:75: file link 'AAString' in package 'Biostrings' does not exist and so has been treated as a topic
NCBSet-class html
TopDownSet-class html
default-functions html
readTopDownFiles html
Rd warning: C:/Users/biocbuild/bbs-3.7-bioc/tmpdir/RtmpUvjn84/R.INSTALL1f807f1c8bf/topdownr/man/readTopDownFiles.Rd:27: file link 'calculateFragments' in package 'MSnbase' does not exist and so has been treated as a topic
Rd warning: C:/Users/biocbuild/bbs-3.7-bioc/tmpdir/RtmpUvjn84/R.INSTALL1f807f1c8bf/topdownr/man/readTopDownFiles.Rd:48: file link 'calculateFragments' in package 'MSnbase' does not exist and so has been treated as a topic
Rd warning: C:/Users/biocbuild/bbs-3.7-bioc/tmpdir/RtmpUvjn84/R.INSTALL1f807f1c8bf/topdownr/man/readTopDownFiles.Rd:49: file link 'defaultNeutralLoss' in package 'MSnbase' does not exist and so has been treated as a topic
Rd warning: C:/Users/biocbuild/bbs-3.7-bioc/tmpdir/RtmpUvjn84/R.INSTALL1f807f1c8bf/topdownr/man/readTopDownFiles.Rd:108: file link 'calculateFragments' in package 'MSnbase' does not exist and so has been treated as a topic
Rd warning: C:/Users/biocbuild/bbs-3.7-bioc/tmpdir/RtmpUvjn84/R.INSTALL1f807f1c8bf/topdownr/man/readTopDownFiles.Rd:134: file link 'calculateFragments' in package 'MSnbase' does not exist and so has been treated as a topic
Rd warning: C:/Users/biocbuild/bbs-3.7-bioc/tmpdir/RtmpUvjn84/R.INSTALL1f807f1c8bf/topdownr/man/readTopDownFiles.Rd:135: file link 'defaultNeutralLoss' in package 'MSnbase' does not exist and so has been treated as a topic
tds html
topdownr-package html
windows-specific-functions html
writeMethodXmls html
** building package indices
** installing vignettes
** testing if installed package can be loaded
In R CMD INSTALL
install for x64
* installing *source* package 'topdownr' ...
** testing if installed package can be loaded
* MD5 sums
packaged installation of 'topdownr' as topdownr_1.2.0.zip
* DONE (topdownr)
In R CMD INSTALL
In R CMD INSTALL