| Back to Multiple platform build/check report for BioC 3.7 |
|
This page was generated on 2018-10-17 08:31:47 -0400 (Wed, 17 Oct 2018).
| Package 1487/1561 | Hostname | OS / Arch | INSTALL | BUILD | CHECK | BUILD BIN | ||||||
| tkWidgets 1.58.0 J. Zhang
| malbec2 | Linux (Ubuntu 16.04.1 LTS) / x86_64 | OK | OK | OK | |||||||
| tokay2 | Windows Server 2012 R2 Standard / x64 | [ OK ] | OK | OK | OK | |||||||
| merida2 | OS X 10.11.6 El Capitan / x86_64 | OK | OK | OK | OK |
| Package: tkWidgets |
| Version: 1.58.0 |
| Command: C:\cygwin\bin\curl.exe -O https://malbec2.bioconductor.org/BBS/3.7/bioc/src/contrib/tkWidgets_1.58.0.tar.gz && rm -rf tkWidgets.buildbin-libdir && mkdir tkWidgets.buildbin-libdir && C:\Users\biocbuild\bbs-3.7-bioc\R\bin\R.exe CMD INSTALL --merge-multiarch --build --library=tkWidgets.buildbin-libdir tkWidgets_1.58.0.tar.gz && C:\Users\biocbuild\bbs-3.7-bioc\R\bin\R.exe CMD INSTALL tkWidgets_1.58.0.zip && rm tkWidgets_1.58.0.tar.gz tkWidgets_1.58.0.zip |
| StartedAt: 2018-10-16 18:37:18 -0400 (Tue, 16 Oct 2018) |
| EndedAt: 2018-10-16 18:37:53 -0400 (Tue, 16 Oct 2018) |
| EllapsedTime: 35.0 seconds |
| RetCode: 0 |
| Status: OK |
##############################################################################
##############################################################################
###
### Running command:
###
### C:\cygwin\bin\curl.exe -O https://malbec2.bioconductor.org/BBS/3.7/bioc/src/contrib/tkWidgets_1.58.0.tar.gz && rm -rf tkWidgets.buildbin-libdir && mkdir tkWidgets.buildbin-libdir && C:\Users\biocbuild\bbs-3.7-bioc\R\bin\R.exe CMD INSTALL --merge-multiarch --build --library=tkWidgets.buildbin-libdir tkWidgets_1.58.0.tar.gz && C:\Users\biocbuild\bbs-3.7-bioc\R\bin\R.exe CMD INSTALL tkWidgets_1.58.0.zip && rm tkWidgets_1.58.0.tar.gz tkWidgets_1.58.0.zip
###
##############################################################################
##############################################################################
% Total % Received % Xferd Average Speed Time Time Time Current
Dload Upload Total Spent Left Speed
0 0 0 0 0 0 0 0 --:--:-- --:--:-- --:--:-- 0
100 180k 100 180k 0 0 2948k 0 --:--:-- --:--:-- --:--:-- 3345k
install for i386
* installing *source* package 'tkWidgets' ...
** R
** inst
** byte-compile and prepare package for lazy loading
** help
*** installing help indices
converting help for package 'tkWidgets'
finding HTML links ... done
DPExplorer html
WName html
appendSepDir html
args2XML html
argsWidget html
colInfo-class html
dataViewer html
dbArgsWidget html
eExplorer html
fileBrowser html
fileWizard html
getLightTW html
getWvalues html
guess.sep html
hasChar html
importPhenoData html
importWizard html
listSelect html
objNameToList html
objViewer html
objectBrowser html
pExplorer html
pickFiles html
pickItems html
pickObjs html
setArgsList html
stdType html
tkMIAME html
tkSampleNames html
tkphenoData html
vExplorer html
values.Widget html
widgetRender html
** building package indices
** installing vignettes
** testing if installed package can be loaded
In R CMD INSTALL
install for x64
* installing *source* package 'tkWidgets' ...
** testing if installed package can be loaded
* MD5 sums
packaged installation of 'tkWidgets' as tkWidgets_1.58.0.zip
* DONE (tkWidgets)
In R CMD INSTALL
In R CMD INSTALL
* installing to library 'C:/Users/biocbuild/bbs-3.7-bioc/R/library'
package 'tkWidgets' successfully unpacked and MD5 sums checked
In R CMD INSTALL