| Back to Multiple platform build/check report for BioC 3.7 |
|
This page was generated on 2018-10-17 08:32:43 -0400 (Wed, 17 Oct 2018).
| Package 1427/1561 | Hostname | OS / Arch | INSTALL | BUILD | CHECK | BUILD BIN | ||||||
| sscore 1.52.0 Richard Kennedy
| malbec2 | Linux (Ubuntu 16.04.1 LTS) / x86_64 | OK | OK | OK | |||||||
| tokay2 | Windows Server 2012 R2 Standard / x64 | [ OK ] | OK | OK | OK | |||||||
| merida2 | OS X 10.11.6 El Capitan / x86_64 | OK | OK | OK | OK |
| Package: sscore |
| Version: 1.52.0 |
| Command: C:\cygwin\bin\curl.exe -O https://malbec2.bioconductor.org/BBS/3.7/bioc/src/contrib/sscore_1.52.0.tar.gz && rm -rf sscore.buildbin-libdir && mkdir sscore.buildbin-libdir && C:\Users\biocbuild\bbs-3.7-bioc\R\bin\R.exe CMD INSTALL --merge-multiarch --build --library=sscore.buildbin-libdir sscore_1.52.0.tar.gz && C:\Users\biocbuild\bbs-3.7-bioc\R\bin\R.exe CMD INSTALL sscore_1.52.0.zip && rm sscore_1.52.0.tar.gz sscore_1.52.0.zip |
| StartedAt: 2018-10-16 19:37:23 -0400 (Tue, 16 Oct 2018) |
| EndedAt: 2018-10-16 19:37:42 -0400 (Tue, 16 Oct 2018) |
| EllapsedTime: 19.4 seconds |
| RetCode: 0 |
| Status: OK |
##############################################################################
##############################################################################
###
### Running command:
###
### C:\cygwin\bin\curl.exe -O https://malbec2.bioconductor.org/BBS/3.7/bioc/src/contrib/sscore_1.52.0.tar.gz && rm -rf sscore.buildbin-libdir && mkdir sscore.buildbin-libdir && C:\Users\biocbuild\bbs-3.7-bioc\R\bin\R.exe CMD INSTALL --merge-multiarch --build --library=sscore.buildbin-libdir sscore_1.52.0.tar.gz && C:\Users\biocbuild\bbs-3.7-bioc\R\bin\R.exe CMD INSTALL sscore_1.52.0.zip && rm sscore_1.52.0.tar.gz sscore_1.52.0.zip
###
##############################################################################
##############################################################################
% Total % Received % Xferd Average Speed Time Time Time Current
Dload Upload Total Spent Left Speed
0 0 0 0 0 0 0 0 --:--:-- --:--:-- --:--:-- 0
100 211k 100 211k 0 0 3839k 0 --:--:-- --:--:-- --:--:-- 4398k
install for i386
* installing *source* package 'sscore' ...
** R
** byte-compile and prepare package for lazy loading
** help
*** installing help indices
converting help for package 'sscore'
finding HTML links ... done
OneStepBiweightAlgorithm html
SScore html
SScoreBatch html
computeAffxRawQ html
computeAffxSFandSDT html
computeOutlier html
computeRawQ html
computeSFandSDT html
computeZoneIInfo html
computeZonenoise html
trimMean html
** building package indices
** installing vignettes
** testing if installed package can be loaded
In R CMD INSTALL
install for x64
* installing *source* package 'sscore' ...
** testing if installed package can be loaded
* MD5 sums
packaged installation of 'sscore' as sscore_1.52.0.zip
* DONE (sscore)
In R CMD INSTALL
In R CMD INSTALL
* installing to library 'C:/Users/biocbuild/bbs-3.7-bioc/R/library'
package 'sscore' successfully unpacked and MD5 sums checked
In R CMD INSTALL