| Back to Multiple platform build/check report for BioC 3.7 |
|
This page was generated on 2018-10-17 08:32:23 -0400 (Wed, 17 Oct 2018).
| Package 1421/1561 | Hostname | OS / Arch | INSTALL | BUILD | CHECK | BUILD BIN | ||||||
| spotSegmentation 1.54.0 Chris Fraley
| malbec2 | Linux (Ubuntu 16.04.1 LTS) / x86_64 | OK | OK | WARNINGS | |||||||
| tokay2 | Windows Server 2012 R2 Standard / x64 | OK | OK | WARNINGS | [ OK ] | |||||||
| merida2 | OS X 10.11.6 El Capitan / x86_64 | OK | OK | WARNINGS | OK |
| Package: spotSegmentation |
| Version: 1.54.0 |
| Command: rm -rf spotSegmentation.buildbin-libdir && mkdir spotSegmentation.buildbin-libdir && C:\Users\biocbuild\bbs-3.7-bioc\R\bin\R.exe CMD INSTALL --merge-multiarch --build --library=spotSegmentation.buildbin-libdir spotSegmentation_1.54.0.tar.gz |
| StartedAt: 2018-10-17 07:02:05 -0400 (Wed, 17 Oct 2018) |
| EndedAt: 2018-10-17 07:02:10 -0400 (Wed, 17 Oct 2018) |
| EllapsedTime: 4.5 seconds |
| RetCode: 0 |
| Status: OK |
| PackageFile: spotSegmentation_1.54.0.zip |
| PackageFileSize: 170.6 KiB |
##############################################################################
##############################################################################
###
### Running command:
###
### rm -rf spotSegmentation.buildbin-libdir && mkdir spotSegmentation.buildbin-libdir && C:\Users\biocbuild\bbs-3.7-bioc\R\bin\R.exe CMD INSTALL --merge-multiarch --build --library=spotSegmentation.buildbin-libdir spotSegmentation_1.54.0.tar.gz
###
##############################################################################
##############################################################################
install for i386
* installing *source* package 'spotSegmentation' ...
** R
** data
** byte-compile and prepare package for lazy loading
** help
*** installing help indices
converting help for package 'spotSegmentation'
finding HTML links ... done
plot.spotseg html
plotBlockImage html
spotSegTest html
spotgrid html
spotseg html
summary.spotseg html
** building package indices
** installing vignettes
** testing if installed package can be loaded
In R CMD INSTALL
install for x64
* installing *source* package 'spotSegmentation' ...
** testing if installed package can be loaded
* MD5 sums
packaged installation of 'spotSegmentation' as spotSegmentation_1.54.0.zip
* DONE (spotSegmentation)
In R CMD INSTALL
In R CMD INSTALL