| Back to Multiple platform build/check report for BioC 3.7 |
|
This page was generated on 2018-10-17 08:37:52 -0400 (Wed, 17 Oct 2018).
| Package 1415/1561 | Hostname | OS / Arch | INSTALL | BUILD | CHECK | BUILD BIN | ||||||
| spliceSites 1.28.0 Wolfgang Kaisers
| malbec2 | Linux (Ubuntu 16.04.1 LTS) / x86_64 | OK | OK | OK | |||||||
| tokay2 | Windows Server 2012 R2 Standard / x64 | OK | OK | OK | [ OK ] | |||||||
| merida2 | OS X 10.11.6 El Capitan / x86_64 | OK | OK | OK | OK |
| Package: spliceSites |
| Version: 1.28.0 |
| Command: rm -rf spliceSites.buildbin-libdir && mkdir spliceSites.buildbin-libdir && C:\Users\biocbuild\bbs-3.7-bioc\R\bin\R.exe CMD INSTALL --merge-multiarch --build --library=spliceSites.buildbin-libdir spliceSites_1.28.0.tar.gz |
| StartedAt: 2018-10-17 07:01:54 -0400 (Wed, 17 Oct 2018) |
| EndedAt: 2018-10-17 07:02:30 -0400 (Wed, 17 Oct 2018) |
| EllapsedTime: 35.7 seconds |
| RetCode: 0 |
| Status: OK |
| PackageFile: spliceSites_1.28.0.zip |
| PackageFileSize: 3.646 MiB |
##############################################################################
##############################################################################
###
### Running command:
###
### rm -rf spliceSites.buildbin-libdir && mkdir spliceSites.buildbin-libdir && C:\Users\biocbuild\bbs-3.7-bioc\R\bin\R.exe CMD INSTALL --merge-multiarch --build --library=spliceSites.buildbin-libdir spliceSites_1.28.0.tar.gz
###
##############################################################################
##############################################################################
install for i386
* installing *source* package 'spliceSites' ...
** libs
C:/Rtools/mingw_32/bin/gcc -I"C:/Users/BIOCBU˜1/BBS-3˜1.7-B/R/include" -DNDEBUG -I"C:/extsoft/include" -O3 -Wall -std=gnu99 -mtune=generic -c spliceSites.c -o spliceSites.o
C:/Rtools/mingw_32/bin/gcc -shared -s -static-libgcc -o spliceSites.dll tmp.def spliceSites.o -lm -LC:/extsoft/lib/i386 -LC:/extsoft/lib -LC:/Users/BIOCBU˜1/BBS-3˜1.7-B/R/bin/i386 -lR
installing to C:/Users/biocbuild/bbs-3.7-bioc/meat/spliceSites.buildbin-libdir/spliceSites/libs/i386
** R
** inst
** byte-compile and prepare package for lazy loading
** help
*** installing help indices
converting help for package 'spliceSites'
finding HTML links ... done
SpliceCountSet-class html
aaGapSites-class html
addGeneAligns html
addGenomeData-ExpressionSet html
addGenomeData-gapSites html
addHbond html
addMaxEnt html
alt_X_ranks html
annGapSites-class html
annotate-ExpressionSet html
annotation html
as.data.frame-methods html
c-methods html
cRanges-class html
caRanges-class html
cdRanges-class html
countByGeneName html
dim-methods html
dnaGapSites-class html
dnaRanges html
extractByGeneName html
extractRange html
gapSites-class html
gapSites html
getGapSites html
hbond-class html
head-methods html
initialize-methods html
keyProfiler-class html
lrCodons html
maxEnt-class html
merge-methods html
plotGeneAlignDepth html
rangeByGeneName html
readCuffGeneFpkm html
readExpSet html
readMergedBamGaps html
readTabledBamGaps html
seqlogo html
silic_tryp html
sortTable-methods html
spliceSites-package html
trim html
truncateSeq html
truncate_seq html
trypsinCleave html
uniqueJuncAnn html
write.files html
xCodons html
xJunc html
xJuncStrand html
z[-methods html
** building package indices
** installing vignettes
** testing if installed package can be loaded
In R CMD INSTALL
install for x64
* installing *source* package 'spliceSites' ...
** libs
C:/Rtools/mingw_64/bin/gcc -I"C:/Users/BIOCBU˜1/BBS-3˜1.7-B/R/include" -DNDEBUG -I"C:/extsoft/include" -O2 -Wall -std=gnu99 -mtune=generic -c spliceSites.c -o spliceSites.o
C:/Rtools/mingw_64/bin/gcc -shared -s -static-libgcc -o spliceSites.dll tmp.def spliceSites.o -lm -LC:/extsoft/lib/x64 -LC:/extsoft/lib -LC:/Users/BIOCBU˜1/BBS-3˜1.7-B/R/bin/x64 -lR
installing to C:/Users/biocbuild/bbs-3.7-bioc/meat/spliceSites.buildbin-libdir/spliceSites/libs/x64
** testing if installed package can be loaded
* MD5 sums
packaged installation of 'spliceSites' as spliceSites_1.28.0.zip
* DONE (spliceSites)
In R CMD INSTALL
In R CMD INSTALL