| Back to Multiple platform build/check report for BioC 3.7 |
|
This page was generated on 2018-10-17 08:40:02 -0400 (Wed, 17 Oct 2018).
| Package 1386/1561 | Hostname | OS / Arch | INSTALL | BUILD | CHECK | BUILD BIN | ||||||
| skewr 1.12.1 Ryan Putney
| malbec2 | Linux (Ubuntu 16.04.1 LTS) / x86_64 | OK | OK | OK | |||||||
| tokay2 | Windows Server 2012 R2 Standard / x64 | [ OK ] | OK | OK | OK | |||||||
| merida2 | OS X 10.11.6 El Capitan / x86_64 | OK | OK | OK | OK |
| Package: skewr |
| Version: 1.12.1 |
| Command: C:\cygwin\bin\curl.exe -O https://malbec2.bioconductor.org/BBS/3.7/bioc/src/contrib/skewr_1.12.1.tar.gz && rm -rf skewr.buildbin-libdir && mkdir skewr.buildbin-libdir && C:\Users\biocbuild\bbs-3.7-bioc\R\bin\R.exe CMD INSTALL --merge-multiarch --build --library=skewr.buildbin-libdir skewr_1.12.1.tar.gz && C:\Users\biocbuild\bbs-3.7-bioc\R\bin\R.exe CMD INSTALL skewr_1.12.1.zip && rm skewr_1.12.1.tar.gz skewr_1.12.1.zip |
| StartedAt: 2018-10-16 20:29:06 -0400 (Tue, 16 Oct 2018) |
| EndedAt: 2018-10-16 20:30:10 -0400 (Tue, 16 Oct 2018) |
| EllapsedTime: 64.1 seconds |
| RetCode: 0 |
| Status: OK |
##############################################################################
##############################################################################
###
### Running command:
###
### C:\cygwin\bin\curl.exe -O https://malbec2.bioconductor.org/BBS/3.7/bioc/src/contrib/skewr_1.12.1.tar.gz && rm -rf skewr.buildbin-libdir && mkdir skewr.buildbin-libdir && C:\Users\biocbuild\bbs-3.7-bioc\R\bin\R.exe CMD INSTALL --merge-multiarch --build --library=skewr.buildbin-libdir skewr_1.12.1.tar.gz && C:\Users\biocbuild\bbs-3.7-bioc\R\bin\R.exe CMD INSTALL skewr_1.12.1.zip && rm skewr_1.12.1.tar.gz skewr_1.12.1.zip
###
##############################################################################
##############################################################################
% Total % Received % Xferd Average Speed Time Time Time Current
Dload Upload Total Spent Left Speed
0 0 0 0 0 0 0 0 --:--:-- --:--:-- --:--:-- 0
100 69126 100 69126 0 0 1003k 0 --:--:-- --:--:-- --:--:-- 1125k
install for i386
* installing *source* package 'skewr' ...
** R
** byte-compile and prepare package for lazy loading
** help
*** installing help indices
converting help for package 'skewr'
finding HTML links ... done
getBarcodes html
getMethyLumiSet html
getSNparams html
panelPlots html
preprocess html
subsetProbes html
** building package indices
** installing vignettes
** testing if installed package can be loaded
In R CMD INSTALL
install for x64
* installing *source* package 'skewr' ...
** testing if installed package can be loaded
* MD5 sums
packaged installation of 'skewr' as skewr_1.12.1.zip
* DONE (skewr)
In R CMD INSTALL
In R CMD INSTALL
* installing to library 'C:/Users/biocbuild/bbs-3.7-bioc/R/library'
package 'skewr' successfully unpacked and MD5 sums checked
In R CMD INSTALL