| Back to Multiple platform build/check report for BioC 3.7 |
|
This page was generated on 2018-10-17 08:41:01 -0400 (Wed, 17 Oct 2018).
| Package 1356/1561 | Hostname | OS / Arch | INSTALL | BUILD | CHECK | BUILD BIN | ||||||
| sevenbridges 1.10.5 Nan Xiao
| malbec2 | Linux (Ubuntu 16.04.1 LTS) / x86_64 | OK | OK | OK | |||||||
| tokay2 | Windows Server 2012 R2 Standard / x64 | OK | OK | [ OK ] | OK | |||||||
| merida2 | OS X 10.11.6 El Capitan / x86_64 | OK | OK | OK | OK |
| Package: sevenbridges |
| Version: 1.10.5 |
| Command: C:\Users\biocbuild\bbs-3.7-bioc\R\bin\R.exe CMD check --force-multiarch --install=check:sevenbridges.install-out.txt --library=C:\Users\biocbuild\bbs-3.7-bioc\R\library --no-vignettes --timings sevenbridges_1.10.5.tar.gz |
| StartedAt: 2018-10-17 04:48:19 -0400 (Wed, 17 Oct 2018) |
| EndedAt: 2018-10-17 04:53:25 -0400 (Wed, 17 Oct 2018) |
| EllapsedTime: 305.8 seconds |
| RetCode: 0 |
| Status: OK |
| CheckDir: sevenbridges.Rcheck |
| Warnings: 0 |
##############################################################################
##############################################################################
###
### Running command:
###
### C:\Users\biocbuild\bbs-3.7-bioc\R\bin\R.exe CMD check --force-multiarch --install=check:sevenbridges.install-out.txt --library=C:\Users\biocbuild\bbs-3.7-bioc\R\library --no-vignettes --timings sevenbridges_1.10.5.tar.gz
###
##############################################################################
##############################################################################
* using log directory 'C:/Users/biocbuild/bbs-3.7-bioc/meat/sevenbridges.Rcheck'
* using R version 3.5.1 Patched (2018-07-24 r75005)
* using platform: x86_64-w64-mingw32 (64-bit)
* using session charset: ISO8859-1
* using option '--no-vignettes'
* checking for file 'sevenbridges/DESCRIPTION' ... OK
* checking extension type ... Package
* this is package 'sevenbridges' version '1.10.5'
* package encoding: UTF-8
* checking package namespace information ... OK
* checking package dependencies ... OK
* checking if this is a source package ... OK
* checking if there is a namespace ... OK
* checking for hidden files and directories ... OK
* checking for portable file names ... OK
* checking whether package 'sevenbridges' can be installed ... OK
* checking installed package size ... OK
* checking package directory ... OK
* checking 'build' directory ... OK
* checking DESCRIPTION meta-information ... OK
* checking top-level files ... OK
* checking for left-over files ... OK
* checking index information ... OK
* checking package subdirectories ... OK
* checking R files for non-ASCII characters ... OK
* checking R files for syntax errors ... OK
* loading checks for arch 'i386'
** checking whether the package can be loaded ... OK
** checking whether the package can be loaded with stated dependencies ... OK
** checking whether the package can be unloaded cleanly ... OK
** checking whether the namespace can be loaded with stated dependencies ... OK
** checking whether the namespace can be unloaded cleanly ... OK
* loading checks for arch 'x64'
** checking whether the package can be loaded ... OK
** checking whether the package can be loaded with stated dependencies ... OK
** checking whether the package can be unloaded cleanly ... OK
** checking whether the namespace can be loaded with stated dependencies ... OK
** checking whether the namespace can be unloaded cleanly ... OK
* checking dependencies in R code ... OK
* checking S3 generic/method consistency ... OK
* checking replacement functions ... OK
* checking foreign function calls ... OK
* checking R code for possible problems ... OK
* checking Rd files ... OK
* checking Rd metadata ... OK
* checking Rd cross-references ... OK
* checking for missing documentation entries ... OK
* checking for code/documentation mismatches ... OK
* checking Rd \usage sections ... OK
* checking Rd contents ... OK
* checking for unstated dependencies in examples ... OK
* checking files in 'vignettes' ... OK
* checking examples ...
** running examples for arch 'i386' ... OK
Examples with CPU or elapsed time > 5s
user system elapsed
Flow 44.87 0.05 45.00
Tool-class 11.39 0.03 11.46
link_what 7.17 0.00 7.17
link 6.09 0.01 6.11
convert_app 5.28 0.00 5.28
** running examples for arch 'x64' ... OK
Examples with CPU or elapsed time > 5s
user system elapsed
Flow 62.37 0.01 62.39
Tool-class 17.18 0.00 17.19
link 11.10 0.00 11.10
link_what 10.69 0.02 10.72
convert_app 9.37 0.00 9.39
* checking for unstated dependencies in 'tests' ... OK
* checking tests ...
** running tests for arch 'i386' ...
Running 'testthat.R'
OK
** running tests for arch 'x64' ...
Running 'testthat.R'
OK
* checking for unstated dependencies in vignettes ... OK
* checking package vignettes in 'inst/doc' ... OK
* checking running R code from vignettes ... SKIPPED
* checking re-building of vignette outputs ... SKIPPED
* checking PDF version of manual ... OK
* DONE
Status: OK
sevenbridges.Rcheck/00install.out
##############################################################################
##############################################################################
###
### Running command:
###
### C:\cygwin\bin\curl.exe -O https://malbec2.bioconductor.org/BBS/3.7/bioc/src/contrib/sevenbridges_1.10.5.tar.gz && rm -rf sevenbridges.buildbin-libdir && mkdir sevenbridges.buildbin-libdir && C:\Users\biocbuild\bbs-3.7-bioc\R\bin\R.exe CMD INSTALL --merge-multiarch --build --library=sevenbridges.buildbin-libdir sevenbridges_1.10.5.tar.gz && C:\Users\biocbuild\bbs-3.7-bioc\R\bin\R.exe CMD INSTALL sevenbridges_1.10.5.zip && rm sevenbridges_1.10.5.tar.gz sevenbridges_1.10.5.zip
###
##############################################################################
##############################################################################
% Total % Received % Xferd Average Speed Time Time Time Current
Dload Upload Total Spent Left Speed
0 0 0 0 0 0 0 0 --:--:-- --:--:-- --:--:-- 0
100 882k 100 882k 0 0 15.5M 0 --:--:-- --:--:-- --:--:-- 17.5M
install for i386
* installing *source* package 'sevenbridges' ...
** R
** inst
** byte-compile and prepare package for lazy loading
** help
*** installing help indices
converting help for package 'sevenbridges'
finding HTML links ... done
App-class html
Auth-class html
Binding html
CCBList html
CWL html
CommandInputParameter-class html
CommandInputSchema-class html
CommandLineBinding-class html
CommandLineTool html
CommandOutputBinding-class html
CommandOutputParameter-class html
CommandOutputSchema-class html
DSCList html
Enum html
Expression-class html
ExpressionTool-class html
FS-class html
File-class html
Files-class html
Flow html
Folders-class html
Handler-class html
Item-class html
Metadata html
Parameter html
Process html
ProcessRequirement html
Schema html
TaskHook html
Tool-class html
ToolUI html
Workflow html
WorkflowStep html
addIdNum html
api html
as-methods html
batch html
cli_list_projects html
cli_list_tags html
cli_upload html
convert_app html
cwl-utils html
delete-methods html
download-methods html
get_token html
get_uploader html
input_output_matrix html
link html
link_what html
project_details html
project_members html
requirements html
response-methods html
sbg_get_env html
sbg_set_env html
setListClass html
set_test_env html
sevenbridges-package html
shorthand-cwl html
status_check html
tag-methods html
test_tool_bunny html
test_tool_cwlrun html
test_tool_rabix html
upload_complete_all html
upload_complete_part html
upload_delete html
upload_info html
upload_info_part html
upload_init html
** building package indices
** installing vignettes
** testing if installed package can be loaded
In R CMD INSTALL
install for x64
* installing *source* package 'sevenbridges' ...
** testing if installed package can be loaded
* MD5 sums
packaged installation of 'sevenbridges' as sevenbridges_1.10.5.zip
* DONE (sevenbridges)
In R CMD INSTALL
In R CMD INSTALL
* installing to library 'C:/Users/biocbuild/bbs-3.7-bioc/R/library'
package 'sevenbridges' successfully unpacked and MD5 sums checked
In R CMD INSTALL
|
sevenbridges.Rcheck/tests_i386/testthat.Rout
R version 3.5.1 Patched (2018-07-24 r75005) -- "Feather Spray"
Copyright (C) 2018 The R Foundation for Statistical Computing
Platform: i386-w64-mingw32/i386 (32-bit)
R is free software and comes with ABSOLUTELY NO WARRANTY.
You are welcome to redistribute it under certain conditions.
Type 'license()' or 'licence()' for distribution details.
R is a collaborative project with many contributors.
Type 'contributors()' for more information and
'citation()' on how to cite R or R packages in publications.
Type 'demo()' for some demos, 'help()' for on-line help, or
'help.start()' for an HTML browser interface to help.
Type 'q()' to quit R.
> library("testthat")
> library("sevenbridges")
> test_check("sevenbridges")
== testthat results ===========================================================
OK: 0 SKIPPED: 0 FAILED: 0
>
> proc.time()
user system elapsed
3.10 0.32 3.42
|
sevenbridges.Rcheck/tests_x64/testthat.Rout
R version 3.5.1 Patched (2018-07-24 r75005) -- "Feather Spray"
Copyright (C) 2018 The R Foundation for Statistical Computing
Platform: x86_64-w64-mingw32/x64 (64-bit)
R is free software and comes with ABSOLUTELY NO WARRANTY.
You are welcome to redistribute it under certain conditions.
Type 'license()' or 'licence()' for distribution details.
R is a collaborative project with many contributors.
Type 'contributors()' for more information and
'citation()' on how to cite R or R packages in publications.
Type 'demo()' for some demos, 'help()' for on-line help, or
'help.start()' for an HTML browser interface to help.
Type 'q()' to quit R.
> library("testthat")
> library("sevenbridges")
> test_check("sevenbridges")
== testthat results ===========================================================
OK: 0 SKIPPED: 0 FAILED: 0
>
> proc.time()
user system elapsed
2.85 0.25 3.09
|
|
sevenbridges.Rcheck/examples_i386/sevenbridges-Ex.timings
|
sevenbridges.Rcheck/examples_x64/sevenbridges-Ex.timings
|