| Back to Multiple platform build/check report for BioC 3.7 |
|
This page was generated on 2018-10-17 08:44:09 -0400 (Wed, 17 Oct 2018).
| Package 1331/1561 | Hostname | OS / Arch | INSTALL | BUILD | CHECK | BUILD BIN | ||||||
| scoreInvHap 1.2.1 Carlos Ruiz
| malbec2 | Linux (Ubuntu 16.04.1 LTS) / x86_64 | OK | OK | WARNINGS | |||||||
| tokay2 | Windows Server 2012 R2 Standard / x64 | [ OK ] | OK | WARNINGS | OK | |||||||
| merida2 | OS X 10.11.6 El Capitan / x86_64 | OK | OK | WARNINGS | OK |
| Package: scoreInvHap |
| Version: 1.2.1 |
| Command: C:\cygwin\bin\curl.exe -O https://malbec2.bioconductor.org/BBS/3.7/bioc/src/contrib/scoreInvHap_1.2.1.tar.gz && rm -rf scoreInvHap.buildbin-libdir && mkdir scoreInvHap.buildbin-libdir && C:\Users\biocbuild\bbs-3.7-bioc\R\bin\R.exe CMD INSTALL --merge-multiarch --build --library=scoreInvHap.buildbin-libdir scoreInvHap_1.2.1.tar.gz && C:\Users\biocbuild\bbs-3.7-bioc\R\bin\R.exe CMD INSTALL scoreInvHap_1.2.1.zip && rm scoreInvHap_1.2.1.tar.gz scoreInvHap_1.2.1.zip |
| StartedAt: 2018-10-16 20:06:23 -0400 (Tue, 16 Oct 2018) |
| EndedAt: 2018-10-16 20:07:04 -0400 (Tue, 16 Oct 2018) |
| EllapsedTime: 41.3 seconds |
| RetCode: 0 |
| Status: OK |
##############################################################################
##############################################################################
###
### Running command:
###
### C:\cygwin\bin\curl.exe -O https://malbec2.bioconductor.org/BBS/3.7/bioc/src/contrib/scoreInvHap_1.2.1.tar.gz && rm -rf scoreInvHap.buildbin-libdir && mkdir scoreInvHap.buildbin-libdir && C:\Users\biocbuild\bbs-3.7-bioc\R\bin\R.exe CMD INSTALL --merge-multiarch --build --library=scoreInvHap.buildbin-libdir scoreInvHap_1.2.1.tar.gz && C:\Users\biocbuild\bbs-3.7-bioc\R\bin\R.exe CMD INSTALL scoreInvHap_1.2.1.zip && rm scoreInvHap_1.2.1.tar.gz scoreInvHap_1.2.1.zip
###
##############################################################################
##############################################################################
% Total % Received % Xferd Average Speed Time Time Time Current
Dload Upload Total Spent Left Speed
0 0 0 0 0 0 0 0 --:--:-- --:--:-- --:--:-- 0
100 449k 100 449k 0 0 6500k 0 --:--:-- --:--:-- --:--:-- 7128k
install for i386
* installing *source* package 'scoreInvHap' ...
** R
** data
*** moving datasets to lazyload DB
** inst
** byte-compile and prepare package for lazy loading
** help
*** installing help indices
converting help for package 'scoreInvHap'
finding HTML links ... done
Refs html
SNPsR2 html
adaptRefs html
classifSNPs html
computeScore html
correctAlleleTable html
getAlleleTable html
getGenotypesTable html
getInvStatus html
hetRefs html
prepareMap html
scoreInvHap html
scoreInvHapRes-class html
** building package indices
** installing vignettes
** testing if installed package can be loaded
In R CMD INSTALL
install for x64
* installing *source* package 'scoreInvHap' ...
** testing if installed package can be loaded
* MD5 sums
packaged installation of 'scoreInvHap' as scoreInvHap_1.2.1.zip
* DONE (scoreInvHap)
In R CMD INSTALL
In R CMD INSTALL
* installing to library 'C:/Users/biocbuild/bbs-3.7-bioc/R/library'
package 'scoreInvHap' successfully unpacked and MD5 sums checked
In R CMD INSTALL