| Back to Multiple platform build/check report for BioC 3.7 |
|
This page was generated on 2018-10-17 08:44:10 -0400 (Wed, 17 Oct 2018).
| Package 1326/1561 | Hostname | OS / Arch | INSTALL | BUILD | CHECK | BUILD BIN | ||||||
| scmap 1.2.0 Vladimir Kiselev
| malbec2 | Linux (Ubuntu 16.04.1 LTS) / x86_64 | OK | OK | OK | |||||||
| tokay2 | Windows Server 2012 R2 Standard / x64 | [ OK ] | OK | OK | OK | |||||||
| merida2 | OS X 10.11.6 El Capitan / x86_64 | OK | OK | OK | OK |
| Package: scmap |
| Version: 1.2.0 |
| Command: C:\cygwin\bin\curl.exe -O https://malbec2.bioconductor.org/BBS/3.7/bioc/src/contrib/scmap_1.2.0.tar.gz && rm -rf scmap.buildbin-libdir && mkdir scmap.buildbin-libdir && C:\Users\biocbuild\bbs-3.7-bioc\R\bin\R.exe CMD INSTALL --merge-multiarch --build --library=scmap.buildbin-libdir scmap_1.2.0.tar.gz && C:\Users\biocbuild\bbs-3.7-bioc\R\bin\R.exe CMD INSTALL scmap_1.2.0.zip && rm scmap_1.2.0.tar.gz scmap_1.2.0.zip |
| StartedAt: 2018-10-16 19:51:59 -0400 (Tue, 16 Oct 2018) |
| EndedAt: 2018-10-16 19:53:13 -0400 (Tue, 16 Oct 2018) |
| EllapsedTime: 74.4 seconds |
| RetCode: 0 |
| Status: OK |
##############################################################################
##############################################################################
###
### Running command:
###
### C:\cygwin\bin\curl.exe -O https://malbec2.bioconductor.org/BBS/3.7/bioc/src/contrib/scmap_1.2.0.tar.gz && rm -rf scmap.buildbin-libdir && mkdir scmap.buildbin-libdir && C:\Users\biocbuild\bbs-3.7-bioc\R\bin\R.exe CMD INSTALL --merge-multiarch --build --library=scmap.buildbin-libdir scmap_1.2.0.tar.gz && C:\Users\biocbuild\bbs-3.7-bioc\R\bin\R.exe CMD INSTALL scmap_1.2.0.zip && rm scmap_1.2.0.tar.gz scmap_1.2.0.zip
###
##############################################################################
##############################################################################
% Total % Received % Xferd Average Speed Time Time Time Current
Dload Upload Total Spent Left Speed
0 0 0 0 0 0 0 0 --:--:-- --:--:-- --:--:-- 0
100 1708k 100 1708k 0 0 23.5M 0 --:--:-- --:--:-- --:--:-- 26.0M
install for i386
* installing *source* package 'scmap' ...
** libs
C:/Rtools/mingw_32/bin/g++ -I"C:/Users/BIOCBU˜1/BBS-3˜1.7-B/R/include" -DNDEBUG -I"C:/Users/biocbuild/bbs-3.7-bioc/R/library/Rcpp/include" -I"C:/Users/biocbuild/bbs-3.7-bioc/R/library/RcppArmadillo/include" -I"C:/extsoft/include" -O2 -Wall -mtune=generic -c RcppExports.cpp -o RcppExports.o
C:/Rtools/mingw_32/bin/g++ -I"C:/Users/BIOCBU˜1/BBS-3˜1.7-B/R/include" -DNDEBUG -I"C:/Users/biocbuild/bbs-3.7-bioc/R/library/Rcpp/include" -I"C:/Users/biocbuild/bbs-3.7-bioc/R/library/RcppArmadillo/include" -I"C:/extsoft/include" -O2 -Wall -mtune=generic -c scmap.cpp -o scmap.o
C:/Rtools/mingw_32/bin/g++ -shared -s -static-libgcc -o scmap.dll tmp.def RcppExports.o scmap.o -LC:/Users/BIOCBU˜1/BBS-3˜1.7-B/R/bin/i386 -lRlapack -LC:/Users/BIOCBU˜1/BBS-3˜1.7-B/R/bin/i386 -lRblas -lgfortran -lm -lquadmath -LC:/extsoft/lib/i386 -LC:/extsoft/lib -LC:/Users/BIOCBU˜1/BBS-3˜1.7-B/R/bin/i386 -lR
installing to C:/Users/biocbuild/bbs-3.7-bioc/meat/scmap.buildbin-libdir/scmap/libs/i386
** R
** data
*** moving datasets to lazyload DB
** inst
** byte-compile and prepare package for lazy loading
Creating a generic function for 'toJSON' from package 'jsonlite' in package 'googleVis'
** help
*** installing help indices
converting help for package 'scmap'
finding HTML links ... done
EuclSqNorm html
NN html
ann html
getSankey html
indexCell html
indexCluster html
normalise html
scmapCell html
scmapCell2Cluster html
scmapCluster html
selectFeatures html
setFeatures html
subdistsmult html
yan html
** building package indices
** installing vignettes
** testing if installed package can be loaded
Creating a generic function for 'toJSON' from package 'jsonlite' in package 'googleVis'
In R CMD INSTALL
install for x64
* installing *source* package 'scmap' ...
** libs
C:/Rtools/mingw_64/bin/g++ -I"C:/Users/BIOCBU˜1/BBS-3˜1.7-B/R/include" -DNDEBUG -I"C:/Users/biocbuild/bbs-3.7-bioc/R/library/Rcpp/include" -I"C:/Users/biocbuild/bbs-3.7-bioc/R/library/RcppArmadillo/include" -I"C:/extsoft/include" -O2 -Wall -mtune=generic -c RcppExports.cpp -o RcppExports.o
C:/Rtools/mingw_64/bin/g++ -I"C:/Users/BIOCBU˜1/BBS-3˜1.7-B/R/include" -DNDEBUG -I"C:/Users/biocbuild/bbs-3.7-bioc/R/library/Rcpp/include" -I"C:/Users/biocbuild/bbs-3.7-bioc/R/library/RcppArmadillo/include" -I"C:/extsoft/include" -O2 -Wall -mtune=generic -c scmap.cpp -o scmap.o
C:/Rtools/mingw_64/bin/g++ -shared -s -static-libgcc -o scmap.dll tmp.def RcppExports.o scmap.o -LC:/Users/BIOCBU˜1/BBS-3˜1.7-B/R/bin/x64 -lRlapack -LC:/Users/BIOCBU˜1/BBS-3˜1.7-B/R/bin/x64 -lRblas -lgfortran -lm -lquadmath -LC:/extsoft/lib/x64 -LC:/extsoft/lib -LC:/Users/BIOCBU˜1/BBS-3˜1.7-B/R/bin/x64 -lR
installing to C:/Users/biocbuild/bbs-3.7-bioc/meat/scmap.buildbin-libdir/scmap/libs/x64
** testing if installed package can be loaded
Creating a generic function for 'toJSON' from package 'jsonlite' in package 'googleVis'
* MD5 sums
packaged installation of 'scmap' as scmap_1.2.0.zip
* DONE (scmap)
In R CMD INSTALL
In R CMD INSTALL
* installing to library 'C:/Users/biocbuild/bbs-3.7-bioc/R/library'
package 'scmap' successfully unpacked and MD5 sums checked
In R CMD INSTALL