| Back to Multiple platform build/check report for BioC 3.7 |
|
This page was generated on 2018-10-17 08:38:02 -0400 (Wed, 17 Oct 2018).
| Package 1265/1561 | Hostname | OS / Arch | INSTALL | BUILD | CHECK | BUILD BIN | ||||||
| roar 1.16.0 Elena Grassi
| malbec2 | Linux (Ubuntu 16.04.1 LTS) / x86_64 | OK | OK | OK | |||||||
| tokay2 | Windows Server 2012 R2 Standard / x64 | [ OK ] | OK | OK | OK | |||||||
| merida2 | OS X 10.11.6 El Capitan / x86_64 | OK | OK | OK | OK |
| Package: roar |
| Version: 1.16.0 |
| Command: C:\cygwin\bin\curl.exe -O https://malbec2.bioconductor.org/BBS/3.7/bioc/src/contrib/roar_1.16.0.tar.gz && rm -rf roar.buildbin-libdir && mkdir roar.buildbin-libdir && C:\Users\biocbuild\bbs-3.7-bioc\R\bin\R.exe CMD INSTALL --merge-multiarch --build --library=roar.buildbin-libdir roar_1.16.0.tar.gz && C:\Users\biocbuild\bbs-3.7-bioc\R\bin\R.exe CMD INSTALL roar_1.16.0.zip && rm roar_1.16.0.tar.gz roar_1.16.0.zip |
| StartedAt: 2018-10-16 19:54:32 -0400 (Tue, 16 Oct 2018) |
| EndedAt: 2018-10-16 19:55:37 -0400 (Tue, 16 Oct 2018) |
| EllapsedTime: 64.5 seconds |
| RetCode: 0 |
| Status: OK |
##############################################################################
##############################################################################
###
### Running command:
###
### C:\cygwin\bin\curl.exe -O https://malbec2.bioconductor.org/BBS/3.7/bioc/src/contrib/roar_1.16.0.tar.gz && rm -rf roar.buildbin-libdir && mkdir roar.buildbin-libdir && C:\Users\biocbuild\bbs-3.7-bioc\R\bin\R.exe CMD INSTALL --merge-multiarch --build --library=roar.buildbin-libdir roar_1.16.0.tar.gz && C:\Users\biocbuild\bbs-3.7-bioc\R\bin\R.exe CMD INSTALL roar_1.16.0.zip && rm roar_1.16.0.tar.gz roar_1.16.0.zip
###
##############################################################################
##############################################################################
% Total % Received % Xferd Average Speed Time Time Time Current
Dload Upload Total Spent Left Speed
0 0 0 0 0 0 0 0 --:--:-- --:--:-- --:--:-- 0
100 528k 100 528k 0 0 8394k 0 --:--:-- --:--:-- --:--:-- 9429k
install for i386
* installing *source* package 'roar' ...
** R
** inst
** byte-compile and prepare package for lazy loading
** help
*** installing help indices
converting help for package 'roar'
finding HTML links ... done
RoarDataset-class html
finding level-2 HTML links ... done
RoarDataset-constructor html
RoarDatasetFromFiles-constructor html
RoarDatasetMultipleAPA-class html
RoarDatasetMultipleAPA-constructor html
RoarDatasetMultipleAPAFromFiles-constructor
html
checkStep-method html
combineFisherMethod-method html
computePairedPvals-method html
computePvals-method html
computeRoars-method html
cores-method html
countPrePost-method html
countResults-method html
fpkmResults-method html
getFisher-method html
meanAcrossAssays-method html
pvalueCorrectFilter-method html
pvalueFilter-method html
roar-package html
standardFilter-method html
totalResults-method html
** building package indices
** installing vignettes
** testing if installed package can be loaded
In R CMD INSTALL
install for x64
* installing *source* package 'roar' ...
** testing if installed package can be loaded
* MD5 sums
packaged installation of 'roar' as roar_1.16.0.zip
* DONE (roar)
In R CMD INSTALL
In R CMD INSTALL
* installing to library 'C:/Users/biocbuild/bbs-3.7-bioc/R/library'
package 'roar' successfully unpacked and MD5 sums checked
In R CMD INSTALL