| Back to Multiple platform build/check report for BioC 3.7 |
|
This page was generated on 2018-10-17 08:27:25 -0400 (Wed, 17 Oct 2018).
| Package 1217/1561 | Hostname | OS / Arch | INSTALL | BUILD | CHECK | BUILD BIN | ||||||
| regioneR 1.12.0 Bernat Gel
| malbec2 | Linux (Ubuntu 16.04.1 LTS) / x86_64 | OK | OK | [ OK ] | |||||||
| tokay2 | Windows Server 2012 R2 Standard / x64 | OK | OK | OK | OK | |||||||
| merida2 | OS X 10.11.6 El Capitan / x86_64 | OK | OK | OK | OK |
| Package: regioneR |
| Version: 1.12.0 |
| Command: /home/biocbuild/bbs-3.7-bioc/R/bin/R CMD check --install=check:regioneR.install-out.txt --library=/home/biocbuild/bbs-3.7-bioc/R/library --no-vignettes --timings regioneR_1.12.0.tar.gz |
| StartedAt: 2018-10-16 03:10:39 -0400 (Tue, 16 Oct 2018) |
| EndedAt: 2018-10-16 03:15:19 -0400 (Tue, 16 Oct 2018) |
| EllapsedTime: 280.2 seconds |
| RetCode: 0 |
| Status: OK |
| CheckDir: regioneR.Rcheck |
| Warnings: 0 |
##############################################################################
##############################################################################
###
### Running command:
###
### /home/biocbuild/bbs-3.7-bioc/R/bin/R CMD check --install=check:regioneR.install-out.txt --library=/home/biocbuild/bbs-3.7-bioc/R/library --no-vignettes --timings regioneR_1.12.0.tar.gz
###
##############################################################################
##############################################################################
* using log directory ‘/home/biocbuild/bbs-3.7-bioc/meat/regioneR.Rcheck’
* using R version 3.5.1 Patched (2018-07-12 r74967)
* using platform: x86_64-pc-linux-gnu (64-bit)
* using session charset: UTF-8
* using option ‘--no-vignettes’
* checking for file ‘regioneR/DESCRIPTION’ ... OK
* checking extension type ... Package
* this is package ‘regioneR’ version ‘1.12.0’
* checking package namespace information ... OK
* checking package dependencies ... OK
* checking if this is a source package ... OK
* checking if there is a namespace ... OK
* checking for hidden files and directories ... OK
* checking for portable file names ... OK
* checking for sufficient/correct file permissions ... OK
* checking whether package ‘regioneR’ can be installed ... OK
* checking installed package size ... OK
* checking package directory ... OK
* checking ‘build’ directory ... OK
* checking DESCRIPTION meta-information ... NOTE
Packages listed in more than one of Depends, Imports, Suggests, Enhances:
‘memoise’ ‘GenomicRanges’ ‘BSgenome’ ‘rtracklayer’ ‘parallel’
A package should be listed in only one of these fields.
* checking top-level files ... OK
* checking for left-over files ... OK
* checking index information ... OK
* checking package subdirectories ... OK
* checking R files for non-ASCII characters ... OK
* checking R files for syntax errors ... OK
* checking whether the package can be loaded ... OK
* checking whether the package can be loaded with stated dependencies ... OK
* checking whether the package can be unloaded cleanly ... OK
* checking whether the namespace can be loaded with stated dependencies ... OK
* checking whether the namespace can be unloaded cleanly ... OK
* checking dependencies in R code ... OK
* checking S3 generic/method consistency ... OK
* checking replacement functions ... OK
* checking foreign function calls ... OK
* checking R code for possible problems ... OK
* checking Rd files ... OK
* checking Rd metadata ... OK
* checking Rd cross-references ... OK
* checking for missing documentation entries ... OK
* checking for code/documentation mismatches ... OK
* checking Rd \usage sections ... OK
* checking Rd contents ... OK
* checking for unstated dependencies in examples ... OK
* checking files in ‘vignettes’ ... OK
* checking examples ... OK
Examples with CPU or elapsed time > 5s
user system elapsed
circularRandomizeRegions 19.476 2.788 22.302
filterChromosomes 19.208 2.852 22.104
getMask 17.876 2.956 20.881
maskFromBSGenome 17.776 3.036 19.384
* checking for unstated dependencies in ‘tests’ ... OK
* checking tests ...
Running ‘testthat.R’
OK
* checking for unstated dependencies in vignettes ... OK
* checking package vignettes in ‘inst/doc’ ... OK
* checking running R code from vignettes ... SKIPPED
* checking re-building of vignette outputs ... SKIPPED
* checking PDF version of manual ... OK
* DONE
Status: 1 NOTE
See
‘/home/biocbuild/bbs-3.7-bioc/meat/regioneR.Rcheck/00check.log’
for details.
regioneR.Rcheck/00install.out
############################################################################## ############################################################################## ### ### Running command: ### ### /home/biocbuild/bbs-3.7-bioc/R/bin/R CMD INSTALL regioneR ### ############################################################################## ############################################################################## * installing to library ‘/home/biocbuild/bbs-3.7-bioc/R/library’ * installing *source* package ‘regioneR’ ... ** R ** inst ** byte-compile and prepare package for lazy loading ** help *** installing help indices ** building package indices ** installing vignettes ** testing if installed package can be loaded * DONE (regioneR)
regioneR.Rcheck/tests/testthat.Rout
R version 3.5.1 Patched (2018-07-12 r74967) -- "Feather Spray"
Copyright (C) 2018 The R Foundation for Statistical Computing
Platform: x86_64-pc-linux-gnu (64-bit)
R is free software and comes with ABSOLUTELY NO WARRANTY.
You are welcome to redistribute it under certain conditions.
Type 'license()' or 'licence()' for distribution details.
R is a collaborative project with many contributors.
Type 'contributors()' for more information and
'citation()' on how to cite R or R packages in publications.
Type 'demo()' for some demos, 'help()' for on-line help, or
'help.start()' for an HTML browser interface to help.
Type 'q()' to quit R.
> library(testthat)
> library(regioneR)
Loading required package: memoise
Loading required package: GenomicRanges
Loading required package: stats4
Loading required package: BiocGenerics
Loading required package: parallel
Attaching package: 'BiocGenerics'
The following objects are masked from 'package:parallel':
clusterApply, clusterApplyLB, clusterCall, clusterEvalQ,
clusterExport, clusterMap, parApply, parCapply, parLapply,
parLapplyLB, parRapply, parSapply, parSapplyLB
The following objects are masked from 'package:stats':
IQR, mad, sd, var, xtabs
The following objects are masked from 'package:base':
Filter, Find, Map, Position, Reduce, anyDuplicated, append,
as.data.frame, basename, cbind, colMeans, colSums, colnames,
dirname, do.call, duplicated, eval, evalq, get, grep, grepl,
intersect, is.unsorted, lapply, lengths, mapply, match, mget,
order, paste, pmax, pmax.int, pmin, pmin.int, rank, rbind,
rowMeans, rowSums, rownames, sapply, setdiff, sort, table, tapply,
union, unique, unsplit, which, which.max, which.min
Loading required package: S4Vectors
Attaching package: 'S4Vectors'
The following object is masked from 'package:base':
expand.grid
Loading required package: IRanges
Loading required package: GenomeInfoDb
Loading required package: BSgenome
Loading required package: Biostrings
Loading required package: XVector
Attaching package: 'Biostrings'
The following object is masked from 'package:base':
strsplit
Loading required package: rtracklayer
>
> test_check("regioneR")
══ testthat results ═══════════════════════════════════════════════════════════
OK: 24 SKIPPED: 0 FAILED: 0
>
> proc.time()
user system elapsed
29.624 3.076 32.773
regioneR.Rcheck/regioneR-Ex.timings
| name | user | system | elapsed | |
| characterToBSGenome | 1.772 | 0.072 | 1.851 | |
| circularRandomizeRegions | 19.476 | 2.788 | 22.302 | |
| commonRegions | 0.176 | 0.000 | 0.177 | |
| createFunctionsList | 0.496 | 0.052 | 0.547 | |
| createRandomRegions | 0.084 | 0.000 | 0.084 | |
| emptyCacheRegioneR | 0 | 0 | 0 | |
| extendRegions | 0.088 | 0.008 | 0.094 | |
| filterChromosomes | 19.208 | 2.852 | 22.104 | |
| getChromosomesByOrganism | 0.000 | 0.000 | 0.001 | |
| getGenome | 0.028 | 0.000 | 0.026 | |
| getGenomeAndMask | 0.904 | 0.096 | 1.001 | |
| getMask | 17.876 | 2.956 | 20.881 | |
| joinRegions | 0.084 | 0.000 | 0.081 | |
| listChrTypes | 0.008 | 0.000 | 0.008 | |
| localZScore | 2.496 | 0.348 | 3.392 | |
| maskFromBSGenome | 17.776 | 3.036 | 19.384 | |
| meanDistance | 0.048 | 0.000 | 0.049 | |
| meanInRegions | 0.088 | 0.000 | 0.087 | |
| mergeRegions | 0.052 | 0.000 | 0.054 | |
| numOverlaps | 0.116 | 0.000 | 0.115 | |
| overlapGraphicalSummary | 0.080 | 0.000 | 0.079 | |
| overlapPermTest | 0.500 | 0.004 | 0.504 | |
| overlapRegions | 0.036 | 0.000 | 0.033 | |
| permTest | 1.348 | 0.080 | 1.438 | |
| plot.localZScoreResults | 0.86 | 0.00 | 0.86 | |
| plot.localZScoreResultsList | 1.836 | 0.000 | 1.839 | |
| plot.permTestResults | 1.344 | 0.000 | 1.349 | |
| plot.permTestResultsList | 1.816 | 0.000 | 1.816 | |
| plotRegions | 0.024 | 0.000 | 0.025 | |
| print.permTestResults | 0.848 | 0.004 | 0.853 | |
| randomizeRegions | 0.16 | 0.00 | 0.16 | |
| recomputePermTest | 0.524 | 0.000 | 0.523 | |
| resampleRegions | 0.028 | 0.004 | 0.031 | |
| splitRegions | 0.056 | 0.000 | 0.058 | |
| subtractRegions | 0.128 | 0.000 | 0.129 | |
| toDataframe | 0.012 | 0.000 | 0.011 | |
| toGRanges | 0.012 | 0.000 | 0.012 | |
| uniqueRegions | 0.232 | 0.000 | 0.231 | |