| Back to Multiple platform build/check report for BioC 3.7 | 
 | 
This page was generated on 2018-10-17 08:47:16 -0400 (Wed, 17 Oct 2018).
| Package 1240/1561 | Hostname | OS / Arch | INSTALL | BUILD | CHECK | BUILD BIN | ||||||
| rHVDM 1.46.0 Martino Barenco 
 | malbec2 | Linux (Ubuntu 16.04.1 LTS) / x86_64 | OK | OK | WARNINGS |  | ||||||
| tokay2 | Windows Server 2012 R2 Standard / x64 | OK | OK | WARNINGS | OK |  | ||||||
| merida2 | OS X 10.11.6 El Capitan / x86_64 | OK | OK | WARNINGS | [ OK ] |  | 
| Package: rHVDM | 
| Version: 1.46.0 | 
| Command: rm -rf rHVDM.buildbin-libdir && mkdir rHVDM.buildbin-libdir && /Users/biocbuild/BBS/utils/build-universal.sh rHVDM_1.46.0.tar.gz /Library/Frameworks/R.framework/Versions/Current/Resources/bin/R rHVDM.buildbin-libdir | 
| StartedAt: 2018-10-17 02:02:03 -0400 (Wed, 17 Oct 2018) | 
| EndedAt: 2018-10-17 02:02:52 -0400 (Wed, 17 Oct 2018) | 
| EllapsedTime: 48.7 seconds | 
| RetCode: 0 | 
| Status: OK | 
| PackageFile: rHVDM_1.46.0.tgz | 
| PackageFileSize: 5.56 MiB | 
############################################################################## ############################################################################## ### ### Running command: ### ### rm -rf rHVDM.buildbin-libdir && mkdir rHVDM.buildbin-libdir && /Users/biocbuild/BBS/utils/build-universal.sh rHVDM_1.46.0.tar.gz /Library/Frameworks/R.framework/Versions/Current/Resources/bin/R rHVDM.buildbin-libdir ### ############################################################################## ############################################################################## >>>>>>> >>>>>>> INSTALLATION WITH 'R CMD INSTALL --preclean --no-multiarch --library=rHVDM.buildbin-libdir rHVDM_1.46.0.tar.gz' >>>>>>> * installing *source* package ‘rHVDM’ ... ** R ** data ** inst ** byte-compile and prepare package for lazy loading Note: break used in wrong context: no loop is visible ** help *** installing help indices ** building package indices ** installing vignettes ** testing if installed package can be loaded * DONE (rHVDM)