| Back to Multiple platform build/check report for BioC 3.7 |
|
This page was generated on 2018-10-17 08:32:54 -0400 (Wed, 17 Oct 2018).
| Package 1163/1561 | Hostname | OS / Arch | INSTALL | BUILD | CHECK | BUILD BIN | ||||||
| quantsmooth 1.46.0 Jan Oosting
| malbec2 | Linux (Ubuntu 16.04.1 LTS) / x86_64 | OK | OK | OK | |||||||
| tokay2 | Windows Server 2012 R2 Standard / x64 | [ OK ] | OK | OK | OK | |||||||
| merida2 | OS X 10.11.6 El Capitan / x86_64 | OK | OK | OK | OK |
| Package: quantsmooth |
| Version: 1.46.0 |
| Command: C:\cygwin\bin\curl.exe -O https://malbec2.bioconductor.org/BBS/3.7/bioc/src/contrib/quantsmooth_1.46.0.tar.gz && rm -rf quantsmooth.buildbin-libdir && mkdir quantsmooth.buildbin-libdir && C:\Users\biocbuild\bbs-3.7-bioc\R\bin\R.exe CMD INSTALL --merge-multiarch --build --library=quantsmooth.buildbin-libdir quantsmooth_1.46.0.tar.gz && C:\Users\biocbuild\bbs-3.7-bioc\R\bin\R.exe CMD INSTALL quantsmooth_1.46.0.zip && rm quantsmooth_1.46.0.tar.gz quantsmooth_1.46.0.zip |
| StartedAt: 2018-10-16 19:00:30 -0400 (Tue, 16 Oct 2018) |
| EndedAt: 2018-10-16 19:01:01 -0400 (Tue, 16 Oct 2018) |
| EllapsedTime: 31.5 seconds |
| RetCode: 0 |
| Status: OK |
##############################################################################
##############################################################################
###
### Running command:
###
### C:\cygwin\bin\curl.exe -O https://malbec2.bioconductor.org/BBS/3.7/bioc/src/contrib/quantsmooth_1.46.0.tar.gz && rm -rf quantsmooth.buildbin-libdir && mkdir quantsmooth.buildbin-libdir && C:\Users\biocbuild\bbs-3.7-bioc\R\bin\R.exe CMD INSTALL --merge-multiarch --build --library=quantsmooth.buildbin-libdir quantsmooth_1.46.0.tar.gz && C:\Users\biocbuild\bbs-3.7-bioc\R\bin\R.exe CMD INSTALL quantsmooth_1.46.0.zip && rm quantsmooth_1.46.0.tar.gz quantsmooth_1.46.0.zip
###
##############################################################################
##############################################################################
% Total % Received % Xferd Average Speed Time Time Time Current
Dload Upload Total Spent Left Speed
0 0 0 0 0 0 0 0 --:--:-- --:--:-- --:--:-- 0
100 104k 100 104k 0 0 1641k 0 --:--:-- --:--:-- --:--:-- 1837k
install for i386
* installing *source* package 'quantsmooth' ...
** R
** data
** byte-compile and prepare package for lazy loading
** help
*** installing help indices
converting help for package 'quantsmooth'
finding HTML links ... done
Chromosome14 html
chrom.bands html
drawSimpleChrom html
getChangedIdx html
getChangedRegions html
getLambdaMin html
grid.chromosome html
lengthChromosome html
numericCHR html
paintCytobands html
plotChromosome html
plotSmoothed html
position2Cytoband html
prepareGenomePlot html
quantsmooth html
quantsmooth.cv html
quantsmooth.seg html
scaleto html
** building package indices
** installing vignettes
** testing if installed package can be loaded
In R CMD INSTALL
install for x64
* installing *source* package 'quantsmooth' ...
** testing if installed package can be loaded
* MD5 sums
packaged installation of 'quantsmooth' as quantsmooth_1.46.0.zip
* DONE (quantsmooth)
In R CMD INSTALL
In R CMD INSTALL
* installing to library 'C:/Users/biocbuild/bbs-3.7-bioc/R/library'
package 'quantsmooth' successfully unpacked and MD5 sums checked
In R CMD INSTALL