| Back to Multiple platform build/check report for BioC 3.7 |
|
This page was generated on 2018-10-17 08:47:08 -0400 (Wed, 17 Oct 2018).
| Package 1118/1561 | Hostname | OS / Arch | INSTALL | BUILD | CHECK | BUILD BIN | ||||||
| ppiStats 1.46.0 Bioconductor Package Maintainer
| malbec2 | Linux (Ubuntu 16.04.1 LTS) / x86_64 | OK | OK | OK | |||||||
| tokay2 | Windows Server 2012 R2 Standard / x64 | OK | OK | OK | OK | |||||||
| merida2 | OS X 10.11.6 El Capitan / x86_64 | [ OK ] | OK | OK | OK |
| Package: ppiStats |
| Version: 1.46.0 |
| Command: /Library/Frameworks/R.framework/Versions/Current/Resources/bin/R CMD INSTALL ppiStats |
| StartedAt: 2018-10-16 15:57:01 -0400 (Tue, 16 Oct 2018) |
| EndedAt: 2018-10-16 15:57:37 -0400 (Tue, 16 Oct 2018) |
| EllapsedTime: 35.7 seconds |
| RetCode: 0 |
| Status: OK |
############################################################################## ############################################################################## ### ### Running command: ### ### /Library/Frameworks/R.framework/Versions/Current/Resources/bin/R CMD INSTALL ppiStats ### ############################################################################## ############################################################################## * installing to library ‘/Library/Frameworks/R.framework/Versions/3.5/Resources/library’ * installing *source* package ‘ppiStats’ ... ** R ** inst ** byte-compile and prepare package for lazy loading No methods found in package ‘Biobase’ for request: ‘listlen’ when loading ‘RpsiXML’ No methods found in package ‘annotate’ for requests: ‘pubmed’, ‘buildPubMedAbst’ when loading ‘RpsiXML’ ** help *** installing help indices ** building package indices ** installing vignettes ** testing if installed package can be loaded No methods found in package ‘Biobase’ for request: ‘listlen’ when loading ‘RpsiXML’ No methods found in package ‘annotate’ for requests: ‘pubmed’, ‘buildPubMedAbst’ when loading ‘RpsiXML’ * DONE (ppiStats)