| Back to Multiple platform build/check report for BioC 3.7 |
|
This page was generated on 2018-10-17 08:47:05 -0400 (Wed, 17 Oct 2018).
| Package 1100/1561 | Hostname | OS / Arch | INSTALL | BUILD | CHECK | BUILD BIN | ||||||
| pkgDepTools 1.46.0 Bioconductor Core Team
| malbec2 | Linux (Ubuntu 16.04.1 LTS) / x86_64 | OK | OK | OK | |||||||
| tokay2 | Windows Server 2012 R2 Standard / x64 | OK | OK | OK | OK | |||||||
| merida2 | OS X 10.11.6 El Capitan / x86_64 | OK | OK | OK | [ OK ] |
| Package: pkgDepTools |
| Version: 1.46.0 |
| Command: rm -rf pkgDepTools.buildbin-libdir && mkdir pkgDepTools.buildbin-libdir && /Users/biocbuild/BBS/utils/build-universal.sh pkgDepTools_1.46.0.tar.gz /Library/Frameworks/R.framework/Versions/Current/Resources/bin/R pkgDepTools.buildbin-libdir |
| StartedAt: 2018-10-17 01:51:56 -0400 (Wed, 17 Oct 2018) |
| EndedAt: 2018-10-17 01:52:45 -0400 (Wed, 17 Oct 2018) |
| EllapsedTime: 48.3 seconds |
| RetCode: 0 |
| Status: OK |
| PackageFile: pkgDepTools_1.46.0.tgz |
| PackageFileSize: 197.2 KiB |
############################################################################## ############################################################################## ### ### Running command: ### ### rm -rf pkgDepTools.buildbin-libdir && mkdir pkgDepTools.buildbin-libdir && /Users/biocbuild/BBS/utils/build-universal.sh pkgDepTools_1.46.0.tar.gz /Library/Frameworks/R.framework/Versions/Current/Resources/bin/R pkgDepTools.buildbin-libdir ### ############################################################################## ############################################################################## >>>>>>> >>>>>>> INSTALLATION WITH 'R CMD INSTALL --preclean --no-multiarch --library=pkgDepTools.buildbin-libdir pkgDepTools_1.46.0.tar.gz' >>>>>>> * installing *source* package ‘pkgDepTools’ ... ** R ** inst ** byte-compile and prepare package for lazy loading ** help *** installing help indices ** building package indices ** installing vignettes ** testing if installed package can be loaded * DONE (pkgDepTools)