| Back to Multiple platform build/check report for BioC 3.7 |
|
This page was generated on 2018-10-17 08:36:00 -0400 (Wed, 17 Oct 2018).
| Package 1070/1561 | Hostname | OS / Arch | INSTALL | BUILD | CHECK | BUILD BIN | ||||||
| pcaGoPromoter 1.24.0 Morten Hansen
| malbec2 | Linux (Ubuntu 16.04.1 LTS) / x86_64 | OK | OK | OK | |||||||
| tokay2 | Windows Server 2012 R2 Standard / x64 | [ OK ] | OK | OK | OK | |||||||
| merida2 | OS X 10.11.6 El Capitan / x86_64 | OK | OK | OK | OK |
| Package: pcaGoPromoter |
| Version: 1.24.0 |
| Command: C:\cygwin\bin\curl.exe -O https://malbec2.bioconductor.org/BBS/3.7/bioc/src/contrib/pcaGoPromoter_1.24.0.tar.gz && rm -rf pcaGoPromoter.buildbin-libdir && mkdir pcaGoPromoter.buildbin-libdir && C:\Users\biocbuild\bbs-3.7-bioc\R\bin\R.exe CMD INSTALL --merge-multiarch --build --library=pcaGoPromoter.buildbin-libdir pcaGoPromoter_1.24.0.tar.gz && C:\Users\biocbuild\bbs-3.7-bioc\R\bin\R.exe CMD INSTALL pcaGoPromoter_1.24.0.zip && rm pcaGoPromoter_1.24.0.tar.gz pcaGoPromoter_1.24.0.zip |
| StartedAt: 2018-10-16 19:40:29 -0400 (Tue, 16 Oct 2018) |
| EndedAt: 2018-10-16 19:41:07 -0400 (Tue, 16 Oct 2018) |
| EllapsedTime: 38.2 seconds |
| RetCode: 0 |
| Status: OK |
##############################################################################
##############################################################################
###
### Running command:
###
### C:\cygwin\bin\curl.exe -O https://malbec2.bioconductor.org/BBS/3.7/bioc/src/contrib/pcaGoPromoter_1.24.0.tar.gz && rm -rf pcaGoPromoter.buildbin-libdir && mkdir pcaGoPromoter.buildbin-libdir && C:\Users\biocbuild\bbs-3.7-bioc\R\bin\R.exe CMD INSTALL --merge-multiarch --build --library=pcaGoPromoter.buildbin-libdir pcaGoPromoter_1.24.0.tar.gz && C:\Users\biocbuild\bbs-3.7-bioc\R\bin\R.exe CMD INSTALL pcaGoPromoter_1.24.0.zip && rm pcaGoPromoter_1.24.0.tar.gz pcaGoPromoter_1.24.0.zip
###
##############################################################################
##############################################################################
% Total % Received % Xferd Average Speed Time Time Time Current
Dload Upload Total Spent Left Speed
0 0 0 0 0 0 0 0 --:--:-- --:--:-- --:--:-- 0
100 134k 100 134k 0 0 2015k 0 --:--:-- --:--:-- --:--:-- 2249k
install for i386
* installing *source* package 'pcaGoPromoter' ...
** R
** inst
** byte-compile and prepare package for lazy loading
** help
*** installing help indices
converting help for package 'pcaGoPromoter'
finding HTML links ... done
GOtree html
pca html
pcaGoPromoter-package html
primo html
primoData html
** building package indices
** installing vignettes
** testing if installed package can be loaded
In R CMD INSTALL
install for x64
* installing *source* package 'pcaGoPromoter' ...
** testing if installed package can be loaded
* MD5 sums
packaged installation of 'pcaGoPromoter' as pcaGoPromoter_1.24.0.zip
* DONE (pcaGoPromoter)
In R CMD INSTALL
In R CMD INSTALL
* installing to library 'C:/Users/biocbuild/bbs-3.7-bioc/R/library'
package 'pcaGoPromoter' successfully unpacked and MD5 sums checked
In R CMD INSTALL