| Back to Multiple platform build/check report for BioC 3.7 |
|
This page was generated on 2018-10-17 08:51:41 -0400 (Wed, 17 Oct 2018).
| Package 1058/1561 | Hostname | OS / Arch | INSTALL | BUILD | CHECK | BUILD BIN | ||||||
| pathifier 1.20.0 Assif Yitzhaky
| malbec2 | Linux (Ubuntu 16.04.1 LTS) / x86_64 | OK | OK | OK | |||||||
| tokay2 | Windows Server 2012 R2 Standard / x64 | OK | OK | OK | OK | |||||||
| merida2 | OS X 10.11.6 El Capitan / x86_64 | OK | OK | OK | [ OK ] |
| Package: pathifier |
| Version: 1.20.0 |
| Command: rm -rf pathifier.buildbin-libdir && mkdir pathifier.buildbin-libdir && /Users/biocbuild/BBS/utils/build-universal.sh pathifier_1.20.0.tar.gz /Library/Frameworks/R.framework/Versions/Current/Resources/bin/R pathifier.buildbin-libdir |
| StartedAt: 2018-10-17 01:49:50 -0400 (Wed, 17 Oct 2018) |
| EndedAt: 2018-10-17 01:50:37 -0400 (Wed, 17 Oct 2018) |
| EllapsedTime: 46.5 seconds |
| RetCode: 0 |
| Status: OK |
| PackageFile: pathifier_1.20.0.tgz |
| PackageFileSize: 1.938 MiB |
############################################################################## ############################################################################## ### ### Running command: ### ### rm -rf pathifier.buildbin-libdir && mkdir pathifier.buildbin-libdir && /Users/biocbuild/BBS/utils/build-universal.sh pathifier_1.20.0.tar.gz /Library/Frameworks/R.framework/Versions/Current/Resources/bin/R pathifier.buildbin-libdir ### ############################################################################## ############################################################################## >>>>>>> >>>>>>> INSTALLATION WITH 'R CMD INSTALL --preclean --no-multiarch --library=pathifier.buildbin-libdir pathifier_1.20.0.tar.gz' >>>>>>> * installing *source* package ‘pathifier’ ... ** R ** data ** inst ** byte-compile and prepare package for lazy loading ** help *** installing help indices ** building package indices ** installing vignettes ** testing if installed package can be loaded * DONE (pathifier)