| Back to Multiple platform build/check report for BioC 3.7 |
|
This page was generated on 2018-10-17 08:32:40 -0400 (Wed, 17 Oct 2018).
| Package 1062/1561 | Hostname | OS / Arch | INSTALL | BUILD | CHECK | BUILD BIN | ||||||
| pathRender 1.48.0 Vince Carey
| malbec2 | Linux (Ubuntu 16.04.1 LTS) / x86_64 | OK | OK | OK | |||||||
| tokay2 | Windows Server 2012 R2 Standard / x64 | [ OK ] | OK | OK | OK | |||||||
| merida2 | OS X 10.11.6 El Capitan / x86_64 | OK | OK | OK | OK |
| Package: pathRender |
| Version: 1.48.0 |
| Command: C:\cygwin\bin\curl.exe -O https://malbec2.bioconductor.org/BBS/3.7/bioc/src/contrib/pathRender_1.48.0.tar.gz && rm -rf pathRender.buildbin-libdir && mkdir pathRender.buildbin-libdir && C:\Users\biocbuild\bbs-3.7-bioc\R\bin\R.exe CMD INSTALL --merge-multiarch --build --library=pathRender.buildbin-libdir pathRender_1.48.0.tar.gz && C:\Users\biocbuild\bbs-3.7-bioc\R\bin\R.exe CMD INSTALL pathRender_1.48.0.zip && rm pathRender_1.48.0.tar.gz pathRender_1.48.0.zip |
| StartedAt: 2018-10-16 19:29:02 -0400 (Tue, 16 Oct 2018) |
| EndedAt: 2018-10-16 19:29:24 -0400 (Tue, 16 Oct 2018) |
| EllapsedTime: 22.0 seconds |
| RetCode: 0 |
| Status: OK |
##############################################################################
##############################################################################
###
### Running command:
###
### C:\cygwin\bin\curl.exe -O https://malbec2.bioconductor.org/BBS/3.7/bioc/src/contrib/pathRender_1.48.0.tar.gz && rm -rf pathRender.buildbin-libdir && mkdir pathRender.buildbin-libdir && C:\Users\biocbuild\bbs-3.7-bioc\R\bin\R.exe CMD INSTALL --merge-multiarch --build --library=pathRender.buildbin-libdir pathRender_1.48.0.tar.gz && C:\Users\biocbuild\bbs-3.7-bioc\R\bin\R.exe CMD INSTALL pathRender_1.48.0.zip && rm pathRender_1.48.0.tar.gz pathRender_1.48.0.zip
###
##############################################################################
##############################################################################
% Total % Received % Xferd Average Speed Time Time Time Current
Dload Upload Total Spent Left Speed
0 0 0 0 0 0 0 0 --:--:-- --:--:-- --:--:-- 0
100 11583 100 11583 0 0 189k 0 --:--:-- --:--:-- --:--:-- 217k
install for i386
* installing *source* package 'pathRender' ...
** R
** inst
** byte-compile and prepare package for lazy loading
** help
*** installing help indices
converting help for package 'pathRender'
finding HTML links ... done
colorNodes html
coloredGraph-class html
graphcMAP html
plotExGraph html
pwayGraph-class html
reduceES html
rendercMAP html
** building package indices
** installing vignettes
** testing if installed package can be loaded
In R CMD INSTALL
install for x64
* installing *source* package 'pathRender' ...
** testing if installed package can be loaded
* MD5 sums
packaged installation of 'pathRender' as pathRender_1.48.0.zip
* DONE (pathRender)
In R CMD INSTALL
In R CMD INSTALL
* installing to library 'C:/Users/biocbuild/bbs-3.7-bioc/R/library'
package 'pathRender' successfully unpacked and MD5 sums checked
In R CMD INSTALL