| Back to Multiple platform build/check report for BioC 3.7 |
|
This page was generated on 2018-10-17 08:41:50 -0400 (Wed, 17 Oct 2018).
| Package 1004/1561 | Hostname | OS / Arch | INSTALL | BUILD | CHECK | BUILD BIN | ||||||
| nucleoSim 1.8.0 Astrid Deschenes
| malbec2 | Linux (Ubuntu 16.04.1 LTS) / x86_64 | OK | OK | OK | |||||||
| tokay2 | Windows Server 2012 R2 Standard / x64 | OK | OK | [ OK ] | OK | |||||||
| merida2 | OS X 10.11.6 El Capitan / x86_64 | OK | OK | OK | OK |
| Package: nucleoSim |
| Version: 1.8.0 |
| Command: C:\Users\biocbuild\bbs-3.7-bioc\R\bin\R.exe CMD check --force-multiarch --install=check:nucleoSim.install-out.txt --library=C:\Users\biocbuild\bbs-3.7-bioc\R\library --no-vignettes --timings nucleoSim_1.8.0.tar.gz |
| StartedAt: 2018-10-17 03:41:21 -0400 (Wed, 17 Oct 2018) |
| EndedAt: 2018-10-17 03:42:40 -0400 (Wed, 17 Oct 2018) |
| EllapsedTime: 78.5 seconds |
| RetCode: 0 |
| Status: OK |
| CheckDir: nucleoSim.Rcheck |
| Warnings: 0 |
############################################################################## ############################################################################## ### ### Running command: ### ### C:\Users\biocbuild\bbs-3.7-bioc\R\bin\R.exe CMD check --force-multiarch --install=check:nucleoSim.install-out.txt --library=C:\Users\biocbuild\bbs-3.7-bioc\R\library --no-vignettes --timings nucleoSim_1.8.0.tar.gz ### ############################################################################## ############################################################################## * using log directory 'C:/Users/biocbuild/bbs-3.7-bioc/meat/nucleoSim.Rcheck' * using R version 3.5.1 Patched (2018-07-24 r75005) * using platform: x86_64-w64-mingw32 (64-bit) * using session charset: ISO8859-1 * using option '--no-vignettes' * checking for file 'nucleoSim/DESCRIPTION' ... OK * this is package 'nucleoSim' version '1.8.0' * package encoding: UTF-8 * checking package namespace information ... OK * checking package dependencies ... OK * checking if this is a source package ... OK * checking if there is a namespace ... OK * checking for hidden files and directories ... OK * checking for portable file names ... OK * checking whether package 'nucleoSim' can be installed ... OK * checking installed package size ... OK * checking package directory ... OK * checking 'build' directory ... OK * checking DESCRIPTION meta-information ... OK * checking top-level files ... OK * checking for left-over files ... OK * checking index information ... OK * checking package subdirectories ... OK * checking R files for non-ASCII characters ... OK * checking R files for syntax errors ... OK * loading checks for arch 'i386' ** checking whether the package can be loaded ... OK ** checking whether the package can be loaded with stated dependencies ... OK ** checking whether the package can be unloaded cleanly ... OK ** checking whether the namespace can be loaded with stated dependencies ... OK ** checking whether the namespace can be unloaded cleanly ... OK * loading checks for arch 'x64' ** checking whether the package can be loaded ... OK ** checking whether the package can be loaded with stated dependencies ... OK ** checking whether the package can be unloaded cleanly ... OK ** checking whether the namespace can be loaded with stated dependencies ... OK ** checking whether the namespace can be unloaded cleanly ... OK * checking dependencies in R code ... OK * checking S3 generic/method consistency ... OK * checking replacement functions ... OK * checking foreign function calls ... OK * checking R code for possible problems ... OK * checking Rd files ... OK * checking Rd metadata ... OK * checking Rd cross-references ... OK * checking for missing documentation entries ... OK * checking for code/documentation mismatches ... OK * checking Rd \usage sections ... OK * checking Rd contents ... OK * checking for unstated dependencies in examples ... OK * checking files in 'vignettes' ... OK * checking examples ... ** running examples for arch 'i386' ... OK ** running examples for arch 'x64' ... OK * checking for unstated dependencies in 'tests' ... OK * checking tests ... ** running tests for arch 'i386' ... Running 'runTests.R' OK ** running tests for arch 'x64' ... Running 'runTests.R' OK * checking for unstated dependencies in vignettes ... OK * checking package vignettes in 'inst/doc' ... OK * checking running R code from vignettes ... SKIPPED * checking re-building of vignette outputs ... SKIPPED * checking PDF version of manual ... OK * DONE Status: OK
nucleoSim.Rcheck/00install.out
##############################################################################
##############################################################################
###
### Running command:
###
### C:\cygwin\bin\curl.exe -O https://malbec2.bioconductor.org/BBS/3.7/bioc/src/contrib/nucleoSim_1.8.0.tar.gz && rm -rf nucleoSim.buildbin-libdir && mkdir nucleoSim.buildbin-libdir && C:\Users\biocbuild\bbs-3.7-bioc\R\bin\R.exe CMD INSTALL --merge-multiarch --build --library=nucleoSim.buildbin-libdir nucleoSim_1.8.0.tar.gz && C:\Users\biocbuild\bbs-3.7-bioc\R\bin\R.exe CMD INSTALL nucleoSim_1.8.0.zip && rm nucleoSim_1.8.0.tar.gz nucleoSim_1.8.0.zip
###
##############################################################################
##############################################################################
% Total % Received % Xferd Average Speed Time Time Time Current
Dload Upload Total Spent Left Speed
0 0 0 0 0 0 0 0 --:--:-- --:--:-- --:--:-- 0
100 22907 100 22907 0 0 355k 0 --:--:-- --:--:-- --:--:-- 399k
install for i386
* installing *source* package 'nucleoSim' ...
** R
** inst
** byte-compile and prepare package for lazy loading
** help
*** installing help indices
converting help for package 'nucleoSim'
finding HTML links ... done
createNucReadsFromNucMap html
nucleoSim-package html
plot.syntheticNucMap html
plot.syntheticNucReads html
syntheticNucMapFromDist html
syntheticNucMapFromDistValidation html
syntheticNucReadsFromDist html
syntheticNucReadsFromMap html
syntheticNucReadsValidation html
** building package indices
** installing vignettes
** testing if installed package can be loaded
In R CMD INSTALL
install for x64
* installing *source* package 'nucleoSim' ...
** testing if installed package can be loaded
* MD5 sums
packaged installation of 'nucleoSim' as nucleoSim_1.8.0.zip
* DONE (nucleoSim)
In R CMD INSTALL
In R CMD INSTALL
* installing to library 'C:/Users/biocbuild/bbs-3.7-bioc/R/library'
package 'nucleoSim' successfully unpacked and MD5 sums checked
In R CMD INSTALL
|
nucleoSim.Rcheck/tests_i386/runTests.Rout
R version 3.5.1 Patched (2018-07-24 r75005) -- "Feather Spray"
Copyright (C) 2018 The R Foundation for Statistical Computing
Platform: i386-w64-mingw32/i386 (32-bit)
R is free software and comes with ABSOLUTELY NO WARRANTY.
You are welcome to redistribute it under certain conditions.
Type 'license()' or 'licence()' for distribution details.
R is a collaborative project with many contributors.
Type 'contributors()' for more information and
'citation()' on how to cite R or R packages in publications.
Type 'demo()' for some demos, 'help()' for on-line help, or
'help.start()' for an HTML browser interface to help.
Type 'q()' to quit R.
> ## Run all tests present in the package
> BiocGenerics:::testPackage("nucleoSim")
RUNIT TEST PROTOCOL -- Wed Oct 17 03:42:32 2018
***********************************************
Number of test functions: 74
Number of errors: 0
Number of failures: 0
1 Test Suite :
nucleoSim RUnit Tests - 74 test functions, 0 errors, 0 failures
Number of test functions: 74
Number of errors: 0
Number of failures: 0
>
> proc.time()
user system elapsed
2.23 0.09 6.29
|
nucleoSim.Rcheck/tests_x64/runTests.Rout
R version 3.5.1 Patched (2018-07-24 r75005) -- "Feather Spray"
Copyright (C) 2018 The R Foundation for Statistical Computing
Platform: x86_64-w64-mingw32/x64 (64-bit)
R is free software and comes with ABSOLUTELY NO WARRANTY.
You are welcome to redistribute it under certain conditions.
Type 'license()' or 'licence()' for distribution details.
R is a collaborative project with many contributors.
Type 'contributors()' for more information and
'citation()' on how to cite R or R packages in publications.
Type 'demo()' for some demos, 'help()' for on-line help, or
'help.start()' for an HTML browser interface to help.
Type 'q()' to quit R.
> ## Run all tests present in the package
> BiocGenerics:::testPackage("nucleoSim")
RUNIT TEST PROTOCOL -- Wed Oct 17 03:42:35 2018
***********************************************
Number of test functions: 74
Number of errors: 0
Number of failures: 0
1 Test Suite :
nucleoSim RUnit Tests - 74 test functions, 0 errors, 0 failures
Number of test functions: 74
Number of errors: 0
Number of failures: 0
>
> proc.time()
user system elapsed
2.28 0.14 2.40
|
|
nucleoSim.Rcheck/examples_i386/nucleoSim-Ex.timings
|
nucleoSim.Rcheck/examples_x64/nucleoSim-Ex.timings
|