| Back to Multiple platform build/check report for BioC 3.7 |
|
This page was generated on 2018-10-17 08:45:38 -0400 (Wed, 17 Oct 2018).
| Package 925/1561 | Hostname | OS / Arch | INSTALL | BUILD | CHECK | BUILD BIN | ||||||
| missRows 1.0.0 Gonzalez Ignacio
| malbec2 | Linux (Ubuntu 16.04.1 LTS) / x86_64 | OK | OK | OK | |||||||
| tokay2 | Windows Server 2012 R2 Standard / x64 | [ OK ] | OK | OK | OK | |||||||
| merida2 | OS X 10.11.6 El Capitan / x86_64 | OK | OK | OK | OK |
| Package: missRows |
| Version: 1.0.0 |
| Command: C:\cygwin\bin\curl.exe -O https://malbec2.bioconductor.org/BBS/3.7/bioc/src/contrib/missRows_1.0.0.tar.gz && rm -rf missRows.buildbin-libdir && mkdir missRows.buildbin-libdir && C:\Users\biocbuild\bbs-3.7-bioc\R\bin\R.exe CMD INSTALL --merge-multiarch --build --library=missRows.buildbin-libdir missRows_1.0.0.tar.gz && C:\Users\biocbuild\bbs-3.7-bioc\R\bin\R.exe CMD INSTALL missRows_1.0.0.zip && rm missRows_1.0.0.tar.gz missRows_1.0.0.zip |
| StartedAt: 2018-10-16 19:53:25 -0400 (Tue, 16 Oct 2018) |
| EndedAt: 2018-10-16 19:54:14 -0400 (Tue, 16 Oct 2018) |
| EllapsedTime: 49.2 seconds |
| RetCode: 0 |
| Status: OK |
##############################################################################
##############################################################################
###
### Running command:
###
### C:\cygwin\bin\curl.exe -O https://malbec2.bioconductor.org/BBS/3.7/bioc/src/contrib/missRows_1.0.0.tar.gz && rm -rf missRows.buildbin-libdir && mkdir missRows.buildbin-libdir && C:\Users\biocbuild\bbs-3.7-bioc\R\bin\R.exe CMD INSTALL --merge-multiarch --build --library=missRows.buildbin-libdir missRows_1.0.0.tar.gz && C:\Users\biocbuild\bbs-3.7-bioc\R\bin\R.exe CMD INSTALL missRows_1.0.0.zip && rm missRows_1.0.0.tar.gz missRows_1.0.0.zip
###
##############################################################################
##############################################################################
% Total % Received % Xferd Average Speed Time Time Time Current
Dload Upload Total Spent Left Speed
0 0 0 0 0 0 0 0 --:--:-- --:--:-- --:--:-- 0
100 205k 100 205k 0 0 3419k 0 --:--:-- --:--:-- --:--:-- 3797k
install for i386
* installing *source* package 'missRows' ...
** R
** data
** inst
** byte-compile and prepare package for lazy loading
** help
*** installing help indices
converting help for package 'missRows'
finding HTML links ... done
MFA html
MIDTList html
finding level-2 HTML links ... done
MIMFA html
NCI60 html
RVcoeff html
STATIS html
eigenvalue html
estimNC html
imputeDataMFA html
imputedData html
missPattern html
missRows-package html
plotInd html
plotVar html
searchsComb html
tuneM html
wrapperSVD html
** building package indices
** installing vignettes
** testing if installed package can be loaded
In R CMD INSTALL
install for x64
* installing *source* package 'missRows' ...
** testing if installed package can be loaded
* MD5 sums
packaged installation of 'missRows' as missRows_1.0.0.zip
* DONE (missRows)
In R CMD INSTALL
In R CMD INSTALL
* installing to library 'C:/Users/biocbuild/bbs-3.7-bioc/R/library'
package 'missRows' successfully unpacked and MD5 sums checked
In R CMD INSTALL