| Back to Multiple platform build/check report for BioC 3.7 |
|
This page was generated on 2018-10-17 08:44:03 -0400 (Wed, 17 Oct 2018).
| Package 882/1561 | Hostname | OS / Arch | INSTALL | BUILD | CHECK | BUILD BIN | ||||||
| methInheritSim 1.2.0 Pascal Belleau
| malbec2 | Linux (Ubuntu 16.04.1 LTS) / x86_64 | OK | OK | OK | |||||||
| tokay2 | Windows Server 2012 R2 Standard / x64 | OK | OK | [ OK ] | OK | |||||||
| merida2 | OS X 10.11.6 El Capitan / x86_64 | OK | OK | OK | OK |
| Package: methInheritSim |
| Version: 1.2.0 |
| Command: C:\Users\biocbuild\bbs-3.7-bioc\R\bin\R.exe CMD check --force-multiarch --install=check:methInheritSim.install-out.txt --library=C:\Users\biocbuild\bbs-3.7-bioc\R\library --no-vignettes --timings methInheritSim_1.2.0.tar.gz |
| StartedAt: 2018-10-17 03:14:13 -0400 (Wed, 17 Oct 2018) |
| EndedAt: 2018-10-17 03:20:45 -0400 (Wed, 17 Oct 2018) |
| EllapsedTime: 392.7 seconds |
| RetCode: 0 |
| Status: OK |
| CheckDir: methInheritSim.Rcheck |
| Warnings: 0 |
##############################################################################
##############################################################################
###
### Running command:
###
### C:\Users\biocbuild\bbs-3.7-bioc\R\bin\R.exe CMD check --force-multiarch --install=check:methInheritSim.install-out.txt --library=C:\Users\biocbuild\bbs-3.7-bioc\R\library --no-vignettes --timings methInheritSim_1.2.0.tar.gz
###
##############################################################################
##############################################################################
* using log directory 'C:/Users/biocbuild/bbs-3.7-bioc/meat/methInheritSim.Rcheck'
* using R version 3.5.1 Patched (2018-07-24 r75005)
* using platform: x86_64-w64-mingw32 (64-bit)
* using session charset: ISO8859-1
* using option '--no-vignettes'
* checking for file 'methInheritSim/DESCRIPTION' ... OK
* checking extension type ... Package
* this is package 'methInheritSim' version '1.2.0'
* package encoding: UTF-8
* checking package namespace information ... OK
* checking package dependencies ... OK
* checking if this is a source package ... OK
* checking if there is a namespace ... OK
* checking for hidden files and directories ... NOTE
Found the following hidden files and directories:
.travis.yml
These were most likely included in error. See section 'Package
structure' in the 'Writing R Extensions' manual.
* checking for portable file names ... NOTE
Found the following non-portable file path:
methInheritSim/vignettes/methInheritSim_cache/html/syntheticChr_acdd0a3b4cd09c90fc362bf34d9555e5.RData
Tarballs are only required to store paths of up to 100 bytes and cannot
store those of more than 256 bytes, with restrictions including to 100
bytes for the final component.
See section 'Package structure' in the 'Writing R Extensions' manual.
* checking whether package 'methInheritSim' can be installed ... OK
* checking installed package size ... OK
* checking package directory ... OK
* checking 'build' directory ... OK
* checking DESCRIPTION meta-information ... OK
* checking top-level files ... OK
* checking for left-over files ... OK
* checking index information ... OK
* checking package subdirectories ... OK
* checking R files for non-ASCII characters ... OK
* checking R files for syntax errors ... OK
* loading checks for arch 'i386'
** checking whether the package can be loaded ... OK
** checking whether the package can be loaded with stated dependencies ... OK
** checking whether the package can be unloaded cleanly ... OK
** checking whether the namespace can be loaded with stated dependencies ... OK
** checking whether the namespace can be unloaded cleanly ... OK
* loading checks for arch 'x64'
** checking whether the package can be loaded ... OK
** checking whether the package can be loaded with stated dependencies ... OK
** checking whether the package can be unloaded cleanly ... OK
** checking whether the namespace can be loaded with stated dependencies ... OK
** checking whether the namespace can be unloaded cleanly ... OK
* checking dependencies in R code ... OK
* checking S3 generic/method consistency ... OK
* checking replacement functions ... OK
* checking foreign function calls ... OK
* checking R code for possible problems ... OK
* checking Rd files ... OK
* checking Rd metadata ... OK
* checking Rd cross-references ... OK
* checking for missing documentation entries ... OK
* checking for code/documentation mismatches ... OK
* checking Rd \usage sections ... OK
* checking Rd contents ... OK
* checking for unstated dependencies in examples ... OK
* checking contents of 'data' directory ... OK
* checking data for non-ASCII characters ... NOTE
Error in .requirePackage(package) :
unable to find required package 'methylKit'
Calls: <Anonymous> ... getClass -> getClassDef -> .classEnv -> .requirePackage
Execution halted
* checking data for ASCII and uncompressed saves ... OK
* checking files in 'vignettes' ... OK
* checking examples ...
** running examples for arch 'i386' ... OK
Examples with CPU or elapsed time > 5s
user system elapsed
samplesForChrSynthetic 15.11 0.00 15.11
runSim 6.14 0.09 6.25
** running examples for arch 'x64' ... OK
Examples with CPU or elapsed time > 5s
user system elapsed
samplesForChrSynthetic 13.56 0.05 13.61
runSim 9.58 0.04 9.62
* checking for unstated dependencies in 'tests' ... OK
* checking tests ...
** running tests for arch 'i386' ...
Running 'runTests.R'
OK
** running tests for arch 'x64' ...
Running 'runTests.R'
OK
* checking for unstated dependencies in vignettes ... OK
* checking package vignettes in 'inst/doc' ... OK
* checking running R code from vignettes ... SKIPPED
* checking re-building of vignette outputs ... SKIPPED
* checking PDF version of manual ... OK
* DONE
Status: 3 NOTEs
See
'C:/Users/biocbuild/bbs-3.7-bioc/meat/methInheritSim.Rcheck/00check.log'
for details.
methInheritSim.Rcheck/00install.out
##############################################################################
##############################################################################
###
### Running command:
###
### C:\cygwin\bin\curl.exe -O https://malbec2.bioconductor.org/BBS/3.7/bioc/src/contrib/methInheritSim_1.2.0.tar.gz && rm -rf methInheritSim.buildbin-libdir && mkdir methInheritSim.buildbin-libdir && C:\Users\biocbuild\bbs-3.7-bioc\R\bin\R.exe CMD INSTALL --merge-multiarch --build --library=methInheritSim.buildbin-libdir methInheritSim_1.2.0.tar.gz && C:\Users\biocbuild\bbs-3.7-bioc\R\bin\R.exe CMD INSTALL methInheritSim_1.2.0.zip && rm methInheritSim_1.2.0.tar.gz methInheritSim_1.2.0.zip
###
##############################################################################
##############################################################################
% Total % Received % Xferd Average Speed Time Time Time Current
Dload Upload Total Spent Left Speed
0 0 0 0 0 0 0 0 --:--:-- --:--:-- --:--:-- 0
100 956k 100 956k 0 0 13.6M 0 --:--:-- --:--:-- --:--:-- 15.5M
install for i386
* installing *source* package 'methInheritSim' ...
** R
** data
** inst
** byte-compile and prepare package for lazy loading
** help
*** installing help indices
converting help for package 'methInheritSim'
finding HTML links ... done
calculateNbDiffCase html
createSampleID html
dataSimExample html
estBetaAlpha html
estBetaBeta html
fixSeed html
getDiffCase html
getDiffMeth html
getSim html
getSyntheticChr html
methInheritSim-package html
runOnEachSynCHR html
runSim html
samplesForChrSynthetic html
saveData html
simEachGeneration html
simInheritance html
testIfAlreadyDone html
validateRunSimDoubleParameters html
validateRunSimIntegerParameters html
validateRunSimLogicalParameters html
validateRunSimOtherParameters html
validateRunSimParameters html
** building package indices
** installing vignettes
** testing if installed package can be loaded
In R CMD INSTALL
install for x64
* installing *source* package 'methInheritSim' ...
** testing if installed package can be loaded
* MD5 sums
packaged installation of 'methInheritSim' as methInheritSim_1.2.0.zip
* DONE (methInheritSim)
In R CMD INSTALL
In R CMD INSTALL
* installing to library 'C:/Users/biocbuild/bbs-3.7-bioc/R/library'
package 'methInheritSim' successfully unpacked and MD5 sums checked
In R CMD INSTALL
|
methInheritSim.Rcheck/tests_i386/runTests.Rout
R version 3.5.1 Patched (2018-07-24 r75005) -- "Feather Spray"
Copyright (C) 2018 The R Foundation for Statistical Computing
Platform: i386-w64-mingw32/i386 (32-bit)
R is free software and comes with ABSOLUTELY NO WARRANTY.
You are welcome to redistribute it under certain conditions.
Type 'license()' or 'licence()' for distribution details.
R is a collaborative project with many contributors.
Type 'contributors()' for more information and
'citation()' on how to cite R or R packages in publications.
Type 'demo()' for some demos, 'help()' for on-line help, or
'help.start()' for an HTML browser interface to help.
Type 'q()' to quit R.
> ## Run all tests presnt in the package
> BiocGenerics:::testPackage("methInheritSim")
Loading required package: stats4
Loading required package: BiocGenerics
Loading required package: parallel
Attaching package: 'BiocGenerics'
The following objects are masked from 'package:parallel':
clusterApply, clusterApplyLB, clusterCall, clusterEvalQ,
clusterExport, clusterMap, parApply, parCapply, parLapply,
parLapplyLB, parRapply, parSapply, parSapplyLB
The following objects are masked from 'package:stats':
IQR, mad, sd, var, xtabs
The following objects are masked from 'package:base':
Filter, Find, Map, Position, Reduce, anyDuplicated, append,
as.data.frame, basename, cbind, colMeans, colSums, colnames,
dirname, do.call, duplicated, eval, evalq, get, grep, grepl,
intersect, is.unsorted, lapply, lengths, mapply, match, mget,
order, paste, pmax, pmax.int, pmin, pmin.int, rank, rbind,
rowMeans, rowSums, rownames, sapply, setdiff, sort, table, tapply,
union, unique, unsplit, which, which.max, which.min
Loading required package: S4Vectors
Attaching package: 'S4Vectors'
The following object is masked from 'package:base':
expand.grid
Loading required package: IRanges
Attaching package: 'IRanges'
The following object is masked from 'package:grDevices':
windows
Loading required package: GenomeInfoDb
two groups detected:
will calculate methylation difference as the difference of
treatment (group: 1) - control (group: 0)
two groups detected:
will calculate methylation difference as the difference of
treatment (group: 1) - control (group: 0)
two groups detected:
will calculate methylation difference as the difference of
treatment (group: 1) - control (group: 0)
two groups detected:
will calculate methylation difference as the difference of
treatment (group: 1) - control (group: 0)
two groups detected:
will calculate methylation difference as the difference of
treatment (group: 1) - control (group: 0)
two groups detected:
will calculate methylation difference as the difference of
treatment (group: 1) - control (group: 0)
two groups detected:
will calculate methylation difference as the difference of
treatment (group: 1) - control (group: 0)
two groups detected:
will calculate methylation difference as the difference of
treatment (group: 1) - control (group: 0)
two groups detected:
will calculate methylation difference as the difference of
treatment (group: 1) - control (group: 0)
two groups detected:
will calculate methylation difference as the difference of
treatment (group: 1) - control (group: 0)
two groups detected:
will calculate methylation difference as the difference of
treatment (group: 1) - control (group: 0)
RUNIT TEST PROTOCOL -- Wed Oct 17 03:20:14 2018
***********************************************
Number of test functions: 104
Number of errors: 0
Number of failures: 0
1 Test Suite :
methInheritSim RUnit Tests - 104 test functions, 0 errors, 0 failures
Number of test functions: 104
Number of errors: 0
Number of failures: 0
>
> proc.time()
user system elapsed
22.65 1.42 24.14
|
methInheritSim.Rcheck/tests_x64/runTests.Rout
R version 3.5.1 Patched (2018-07-24 r75005) -- "Feather Spray"
Copyright (C) 2018 The R Foundation for Statistical Computing
Platform: x86_64-w64-mingw32/x64 (64-bit)
R is free software and comes with ABSOLUTELY NO WARRANTY.
You are welcome to redistribute it under certain conditions.
Type 'license()' or 'licence()' for distribution details.
R is a collaborative project with many contributors.
Type 'contributors()' for more information and
'citation()' on how to cite R or R packages in publications.
Type 'demo()' for some demos, 'help()' for on-line help, or
'help.start()' for an HTML browser interface to help.
Type 'q()' to quit R.
> ## Run all tests presnt in the package
> BiocGenerics:::testPackage("methInheritSim")
Loading required package: stats4
Loading required package: BiocGenerics
Loading required package: parallel
Attaching package: 'BiocGenerics'
The following objects are masked from 'package:parallel':
clusterApply, clusterApplyLB, clusterCall, clusterEvalQ,
clusterExport, clusterMap, parApply, parCapply, parLapply,
parLapplyLB, parRapply, parSapply, parSapplyLB
The following objects are masked from 'package:stats':
IQR, mad, sd, var, xtabs
The following objects are masked from 'package:base':
Filter, Find, Map, Position, Reduce, anyDuplicated, append,
as.data.frame, basename, cbind, colMeans, colSums, colnames,
dirname, do.call, duplicated, eval, evalq, get, grep, grepl,
intersect, is.unsorted, lapply, lengths, mapply, match, mget,
order, paste, pmax, pmax.int, pmin, pmin.int, rank, rbind,
rowMeans, rowSums, rownames, sapply, setdiff, sort, table, tapply,
union, unique, unsplit, which, which.max, which.min
Loading required package: S4Vectors
Attaching package: 'S4Vectors'
The following object is masked from 'package:base':
expand.grid
Loading required package: IRanges
Attaching package: 'IRanges'
The following object is masked from 'package:grDevices':
windows
Loading required package: GenomeInfoDb
two groups detected:
will calculate methylation difference as the difference of
treatment (group: 1) - control (group: 0)
two groups detected:
will calculate methylation difference as the difference of
treatment (group: 1) - control (group: 0)
two groups detected:
will calculate methylation difference as the difference of
treatment (group: 1) - control (group: 0)
two groups detected:
will calculate methylation difference as the difference of
treatment (group: 1) - control (group: 0)
two groups detected:
will calculate methylation difference as the difference of
treatment (group: 1) - control (group: 0)
two groups detected:
will calculate methylation difference as the difference of
treatment (group: 1) - control (group: 0)
two groups detected:
will calculate methylation difference as the difference of
treatment (group: 1) - control (group: 0)
two groups detected:
will calculate methylation difference as the difference of
treatment (group: 1) - control (group: 0)
two groups detected:
will calculate methylation difference as the difference of
treatment (group: 1) - control (group: 0)
two groups detected:
will calculate methylation difference as the difference of
treatment (group: 1) - control (group: 0)
two groups detected:
will calculate methylation difference as the difference of
treatment (group: 1) - control (group: 0)
RUNIT TEST PROTOCOL -- Wed Oct 17 03:20:40 2018
***********************************************
Number of test functions: 104
Number of errors: 0
Number of failures: 0
1 Test Suite :
methInheritSim RUnit Tests - 104 test functions, 0 errors, 0 failures
Number of test functions: 104
Number of errors: 0
Number of failures: 0
>
> proc.time()
user system elapsed
24.46 0.53 25.75
|
|
methInheritSim.Rcheck/examples_i386/methInheritSim-Ex.timings
|
methInheritSim.Rcheck/examples_x64/methInheritSim-Ex.timings
|