| Back to Multiple platform build/check report for BioC 3.7 |
|
This page was generated on 2018-10-17 08:39:01 -0400 (Wed, 17 Oct 2018).
| Package 867/1561 | Hostname | OS / Arch | INSTALL | BUILD | CHECK | BUILD BIN | ||||||
| metabomxtr 1.14.0 Michael Nodzenski
| malbec2 | Linux (Ubuntu 16.04.1 LTS) / x86_64 | OK | OK | OK | |||||||
| tokay2 | Windows Server 2012 R2 Standard / x64 | OK | OK | [ OK ] | OK | |||||||
| merida2 | OS X 10.11.6 El Capitan / x86_64 | OK | OK | OK | OK |
| Package: metabomxtr |
| Version: 1.14.0 |
| Command: C:\Users\biocbuild\bbs-3.7-bioc\R\bin\R.exe CMD check --force-multiarch --install=check:metabomxtr.install-out.txt --library=C:\Users\biocbuild\bbs-3.7-bioc\R\library --no-vignettes --timings metabomxtr_1.14.0.tar.gz |
| StartedAt: 2018-10-17 03:11:06 -0400 (Wed, 17 Oct 2018) |
| EndedAt: 2018-10-17 03:14:18 -0400 (Wed, 17 Oct 2018) |
| EllapsedTime: 191.4 seconds |
| RetCode: 0 |
| Status: OK |
| CheckDir: metabomxtr.Rcheck |
| Warnings: 0 |
##############################################################################
##############################################################################
###
### Running command:
###
### C:\Users\biocbuild\bbs-3.7-bioc\R\bin\R.exe CMD check --force-multiarch --install=check:metabomxtr.install-out.txt --library=C:\Users\biocbuild\bbs-3.7-bioc\R\library --no-vignettes --timings metabomxtr_1.14.0.tar.gz
###
##############################################################################
##############################################################################
* using log directory 'C:/Users/biocbuild/bbs-3.7-bioc/meat/metabomxtr.Rcheck'
* using R version 3.5.1 Patched (2018-07-24 r75005)
* using platform: x86_64-w64-mingw32 (64-bit)
* using session charset: ISO8859-1
* using option '--no-vignettes'
* checking for file 'metabomxtr/DESCRIPTION' ... OK
* checking extension type ... Package
* this is package 'metabomxtr' version '1.14.0'
* checking package namespace information ... OK
* checking package dependencies ... OK
* checking if this is a source package ... OK
* checking if there is a namespace ... OK
* checking for hidden files and directories ... OK
* checking for portable file names ... OK
* checking whether package 'metabomxtr' can be installed ... OK
* checking installed package size ... OK
* checking package directory ... OK
* checking 'build' directory ... OK
* checking DESCRIPTION meta-information ... OK
* checking top-level files ... OK
* checking for left-over files ... OK
* checking index information ... OK
* checking package subdirectories ... OK
* checking R files for non-ASCII characters ... OK
* checking R files for syntax errors ... OK
* loading checks for arch 'i386'
** checking whether the package can be loaded ... OK
** checking whether the package can be loaded with stated dependencies ... OK
** checking whether the package can be unloaded cleanly ... OK
** checking whether the namespace can be loaded with stated dependencies ... OK
** checking whether the namespace can be unloaded cleanly ... OK
* loading checks for arch 'x64'
** checking whether the package can be loaded ... OK
** checking whether the package can be loaded with stated dependencies ... OK
** checking whether the package can be unloaded cleanly ... OK
** checking whether the namespace can be loaded with stated dependencies ... OK
** checking whether the namespace can be unloaded cleanly ... OK
* checking dependencies in R code ... OK
* checking S3 generic/method consistency ... OK
* checking replacement functions ... OK
* checking foreign function calls ... OK
* checking R code for possible problems ... OK
* checking Rd files ... OK
* checking Rd metadata ... OK
* checking Rd cross-references ... OK
* checking for missing documentation entries ... OK
* checking for code/documentation mismatches ... OK
* checking Rd \usage sections ... OK
* checking Rd contents ... OK
* checking for unstated dependencies in examples ... OK
* checking contents of 'data' directory ... OK
* checking data for non-ASCII characters ... OK
* checking data for ASCII and uncompressed saves ... OK
* checking files in 'vignettes' ... OK
* checking examples ...
** running examples for arch 'i386' ... OK
Examples with CPU or elapsed time > 5s
user system elapsed
metabplot 1.61 0.06 6.78
metabomxtr-package 0.30 0.02 12.33
mxtrmod 0.12 0.00 15.63
mxtrmodLRT 0.03 0.02 7.61
** running examples for arch 'x64' ... OK
Examples with CPU or elapsed time > 5s
user system elapsed
metabplot 1.66 0.02 6.93
metabomxtr-package 0.32 0.04 12.86
mixnorm 0.18 0.00 5.27
mxtrmod 0.11 0.01 17.96
mxtrmodLRT 0.06 0.02 8.21
* checking for unstated dependencies in vignettes ... OK
* checking package vignettes in 'inst/doc' ... OK
* checking running R code from vignettes ... SKIPPED
* checking re-building of vignette outputs ... SKIPPED
* checking PDF version of manual ... OK
* DONE
Status: OK
metabomxtr.Rcheck/00install.out
##############################################################################
##############################################################################
###
### Running command:
###
### C:\cygwin\bin\curl.exe -O https://malbec2.bioconductor.org/BBS/3.7/bioc/src/contrib/metabomxtr_1.14.0.tar.gz && rm -rf metabomxtr.buildbin-libdir && mkdir metabomxtr.buildbin-libdir && C:\Users\biocbuild\bbs-3.7-bioc\R\bin\R.exe CMD INSTALL --merge-multiarch --build --library=metabomxtr.buildbin-libdir metabomxtr_1.14.0.tar.gz && C:\Users\biocbuild\bbs-3.7-bioc\R\bin\R.exe CMD INSTALL metabomxtr_1.14.0.zip && rm metabomxtr_1.14.0.tar.gz metabomxtr_1.14.0.zip
###
##############################################################################
##############################################################################
% Total % Received % Xferd Average Speed Time Time Time Current
Dload Upload Total Spent Left Speed
0 0 0 0 0 0 0 0 --:--:-- --:--:-- --:--:-- 0
100 60122 100 60122 0 0 988k 0 --:--:-- --:--:-- --:--:-- 1129k
install for i386
* installing *source* package 'metabomxtr' ...
** R
** data
** byte-compile and prepare package for lazy loading
** help
*** installing help indices
converting help for package 'metabomxtr'
finding HTML links ... done
addBatchMeans html
addOutlierInfo html
allMissingLevels html
anyMissingLevels html
euMetabCData html
euMetabData html
idMissingLevels html
metabdata html
metabomxtr-package html
metabplot html
mixnorm html
mxtrmod html
mxtrmodLL html
mxtrmodLRT html
mxtrmodstart html
removeAllMissingCatVar html
removeMissingLevels html
runMxtrmod html
xdesign-methods html
yvals-methods html
zdesign-methods html
** building package indices
** installing vignettes
** testing if installed package can be loaded
In R CMD INSTALL
install for x64
* installing *source* package 'metabomxtr' ...
** testing if installed package can be loaded
* MD5 sums
packaged installation of 'metabomxtr' as metabomxtr_1.14.0.zip
* DONE (metabomxtr)
In R CMD INSTALL
In R CMD INSTALL
* installing to library 'C:/Users/biocbuild/bbs-3.7-bioc/R/library'
package 'metabomxtr' successfully unpacked and MD5 sums checked
In R CMD INSTALL
|
metabomxtr.Rcheck/examples_i386/metabomxtr-Ex.timings
|
metabomxtr.Rcheck/examples_x64/metabomxtr-Ex.timings
|