| Back to Multiple platform build/check report for BioC 3.7 |
|
This page was generated on 2018-10-17 08:21:37 -0400 (Wed, 17 Oct 2018).
| Package 865/1561 | Hostname | OS / Arch | INSTALL | BUILD | CHECK | BUILD BIN | ||||||
| metaArray 1.58.0 Hyungwon Choi
| malbec2 | Linux (Ubuntu 16.04.1 LTS) / x86_64 | [ OK ] | OK | OK | |||||||
| tokay2 | Windows Server 2012 R2 Standard / x64 | OK | OK | OK | OK | |||||||
| merida2 | OS X 10.11.6 El Capitan / x86_64 | OK | OK | OK | OK |
| Package: metaArray |
| Version: 1.58.0 |
| Command: /home/biocbuild/bbs-3.7-bioc/R/bin/R CMD INSTALL metaArray |
| StartedAt: 2018-10-15 18:05:19 -0400 (Mon, 15 Oct 2018) |
| EndedAt: 2018-10-15 18:05:27 -0400 (Mon, 15 Oct 2018) |
| EllapsedTime: 7.9 seconds |
| RetCode: 0 |
| Status: OK |
##############################################################################
##############################################################################
###
### Running command:
###
### /home/biocbuild/bbs-3.7-bioc/R/bin/R CMD INSTALL metaArray
###
##############################################################################
##############################################################################
* installing to library ‘/home/biocbuild/bbs-3.7-bioc/R/library’
* installing *source* package ‘metaArray’ ...
** libs
gcc -I"/home/biocbuild/bbs-3.7-bioc/R/include" -DNDEBUG -I/usr/local/include -DUSEDOUBLE -fpic -g -O2 -Wall -c contr.c -o contr.o
gcc -I"/home/biocbuild/bbs-3.7-bioc/R/include" -DNDEBUG -I/usr/local/include -DUSEDOUBLE -fpic -g -O2 -Wall -c dproc.c -o dproc.o
dproc.c: In function ‘malloc_CH’:
dproc.c:111:21: warning: variable ‘num’ set but not used [-Wunused-but-set-variable]
int i, j, nr, nc, num;
^
dproc.c: In function ‘free_CH’:
dproc.c:192:16: warning: unused variable ‘nc’ [-Wunused-variable]
int num, nr, nc;
^
dproc.c:192:12: warning: variable ‘nr’ set but not used [-Wunused-but-set-variable]
int num, nr, nc;
^
dproc.c:192:7: warning: variable ‘num’ set but not used [-Wunused-but-set-variable]
int num, nr, nc;
^
gcc -I"/home/biocbuild/bbs-3.7-bioc/R/include" -DNDEBUG -I/usr/local/include -DUSEDOUBLE -fpic -g -O2 -Wall -c dproc2.c -o dproc2.o
gcc -I"/home/biocbuild/bbs-3.7-bioc/R/include" -DNDEBUG -I/usr/local/include -DUSEDOUBLE -fpic -g -O2 -Wall -c intcor.c -o intcor.o
gcc -I"/home/biocbuild/bbs-3.7-bioc/R/include" -DNDEBUG -I/usr/local/include -DUSEDOUBLE -fpic -g -O2 -Wall -c lowess.c -o lowess.o
gcc -I"/home/biocbuild/bbs-3.7-bioc/R/include" -DNDEBUG -I/usr/local/include -DUSEDOUBLE -fpic -g -O2 -Wall -c mmath.c -o mmath.o
gcc -I"/home/biocbuild/bbs-3.7-bioc/R/include" -DNDEBUG -I/usr/local/include -DUSEDOUBLE -fpic -g -O2 -Wall -c perm.c -o perm.o
gcc -I"/home/biocbuild/bbs-3.7-bioc/R/include" -DNDEBUG -I/usr/local/include -DUSEDOUBLE -fpic -g -O2 -Wall -c poe.c -o poe.o
poe.c: In function ‘poe_one_iter’:
poe.c:131:53: warning: variable ‘shift’ set but not used [-Wunused-but-set-variable]
double kappa_b, kappa_a, kappa_new, aaa, res_max, shift;
^
poe.c:120:20: warning: variable ‘accept’ set but not used [-Wunused-but-set-variable]
int nr,nc,tt,gg, accept;
^
gcc -shared -L/home/biocbuild/bbs-3.7-bioc/R/lib -L/usr/local/lib -o metaArray.so contr.o dproc.o dproc2.o intcor.o lowess.o mmath.o perm.o poe.o -lm -L/home/biocbuild/bbs-3.7-bioc/R/lib -lR
installing to /home/biocbuild/bbs-3.7-bioc/R/library/metaArray/libs
** R
** data
** byte-compile and prepare package for lazy loading
** help
*** installing help indices
** building package indices
** installing vignettes
** testing if installed package can be loaded
* DONE (metaArray)