| Back to Multiple platform build/check report for BioC 3.7 |
|
This page was generated on 2018-10-17 08:43:02 -0400 (Wed, 17 Oct 2018).
| Package 839/1561 | Hostname | OS / Arch | INSTALL | BUILD | CHECK | BUILD BIN | ||||||
| matter 1.6.0 Kylie A. Bemis
| malbec2 | Linux (Ubuntu 16.04.1 LTS) / x86_64 | OK | OK | OK | |||||||
| tokay2 | Windows Server 2012 R2 Standard / x64 | OK | OK | [ OK ] | OK | |||||||
| merida2 | OS X 10.11.6 El Capitan / x86_64 | OK | OK | OK | OK |
| Package: matter |
| Version: 1.6.0 |
| Command: C:\Users\biocbuild\bbs-3.7-bioc\R\bin\R.exe CMD check --force-multiarch --install=check:matter.install-out.txt --library=C:\Users\biocbuild\bbs-3.7-bioc\R\library --no-vignettes --timings matter_1.6.0.tar.gz |
| StartedAt: 2018-10-17 03:06:14 -0400 (Wed, 17 Oct 2018) |
| EndedAt: 2018-10-17 03:08:01 -0400 (Wed, 17 Oct 2018) |
| EllapsedTime: 106.9 seconds |
| RetCode: 0 |
| Status: OK |
| CheckDir: matter.Rcheck |
| Warnings: 0 |
############################################################################## ############################################################################## ### ### Running command: ### ### C:\Users\biocbuild\bbs-3.7-bioc\R\bin\R.exe CMD check --force-multiarch --install=check:matter.install-out.txt --library=C:\Users\biocbuild\bbs-3.7-bioc\R\library --no-vignettes --timings matter_1.6.0.tar.gz ### ############################################################################## ############################################################################## * using log directory 'C:/Users/biocbuild/bbs-3.7-bioc/meat/matter.Rcheck' * using R version 3.5.1 Patched (2018-07-24 r75005) * using platform: x86_64-w64-mingw32 (64-bit) * using session charset: ISO8859-1 * using option '--no-vignettes' * checking for file 'matter/DESCRIPTION' ... OK * checking extension type ... Package * this is package 'matter' version '1.6.0' * checking package namespace information ... OK * checking package dependencies ... OK * checking if this is a source package ... OK * checking if there is a namespace ... OK * checking for hidden files and directories ... OK * checking for portable file names ... OK * checking whether package 'matter' can be installed ... OK * checking installed package size ... OK * checking package directory ... OK * checking 'build' directory ... OK * checking DESCRIPTION meta-information ... OK * checking top-level files ... OK * checking for left-over files ... OK * checking index information ... OK * checking package subdirectories ... OK * checking R files for non-ASCII characters ... OK * checking R files for syntax errors ... OK * loading checks for arch 'i386' ** checking whether the package can be loaded ... OK ** checking whether the package can be loaded with stated dependencies ... OK ** checking whether the package can be unloaded cleanly ... OK ** checking whether the namespace can be loaded with stated dependencies ... OK ** checking whether the namespace can be unloaded cleanly ... OK * loading checks for arch 'x64' ** checking whether the package can be loaded ... OK ** checking whether the package can be loaded with stated dependencies ... OK ** checking whether the package can be unloaded cleanly ... OK ** checking whether the namespace can be loaded with stated dependencies ... OK ** checking whether the namespace can be unloaded cleanly ... OK * checking dependencies in R code ... OK * checking S3 generic/method consistency ... OK * checking replacement functions ... OK * checking foreign function calls ... OK * checking R code for possible problems ... OK * checking Rd files ... OK * checking Rd metadata ... OK * checking Rd cross-references ... OK * checking for missing documentation entries ... OK * checking for code/documentation mismatches ... OK * checking Rd \usage sections ... OK * checking Rd contents ... OK * checking for unstated dependencies in examples ... OK * checking contents of 'data' directory ... OK * checking data for non-ASCII characters ... OK * checking data for ASCII and uncompressed saves ... OK * checking line endings in C/C++/Fortran sources/headers ... OK * checking compiled code ... NOTE Note: information on .o files for i386 is not available Note: information on .o files for x64 is not available File 'C:/Users/biocbuild/bbs-3.7-bioc/R/library/matter/libs/i386/matter.dll': Found 'abort', possibly from 'abort' (C), 'runtime' (Fortran) Found 'exit', possibly from 'exit' (C), 'stop' (Fortran) Found 'printf', possibly from 'printf' (C) Compiled code should not call entry points which might terminate R nor write to stdout/stderr instead of to the console, nor use Fortran I/O nor system RNGs. The detected symbols are linked into the code but might come from libraries and not actually be called. See 'Writing portable packages' in the 'Writing R Extensions' manual. * checking files in 'vignettes' ... OK * checking examples ... ** running examples for arch 'i386' ... OK ** running examples for arch 'x64' ... OK * checking for unstated dependencies in 'tests' ... OK * checking tests ... ** running tests for arch 'i386' ... Running 'testthat.R' OK ** running tests for arch 'x64' ... Running 'testthat.R' OK * checking for unstated dependencies in vignettes ... OK * checking package vignettes in 'inst/doc' ... OK * checking running R code from vignettes ... SKIPPED * checking re-building of vignette outputs ... SKIPPED * checking PDF version of manual ... OK * DONE Status: 1 NOTE See 'C:/Users/biocbuild/bbs-3.7-bioc/meat/matter.Rcheck/00check.log' for details.
matter.Rcheck/00install.out
##############################################################################
##############################################################################
###
### Running command:
###
### C:\cygwin\bin\curl.exe -O https://malbec2.bioconductor.org/BBS/3.7/bioc/src/contrib/matter_1.6.0.tar.gz && rm -rf matter.buildbin-libdir && mkdir matter.buildbin-libdir && C:\Users\biocbuild\bbs-3.7-bioc\R\bin\R.exe CMD INSTALL --merge-multiarch --build --library=matter.buildbin-libdir matter_1.6.0.tar.gz && C:\Users\biocbuild\bbs-3.7-bioc\R\bin\R.exe CMD INSTALL matter_1.6.0.zip && rm matter_1.6.0.tar.gz matter_1.6.0.zip
###
##############################################################################
##############################################################################
% Total % Received % Xferd Average Speed Time Time Time Current
Dload Upload Total Spent Left Speed
0 0 0 0 0 0 0 0 --:--:-- --:--:-- --:--:-- 0
100 1075k 100 1075k 0 0 15.1M 0 --:--:-- --:--:-- --:--:-- 16.9M
install for i386
* installing *source* package 'matter' ...
** libs
C:/Rtools/mingw_32/bin/g++ -I"C:/Users/BIOCBU˜1/BBS-3˜1.7-B/R/include" -DNDEBUG -I"C:/extsoft/include" -O2 -Wall -mtune=generic -c bsearch.cpp -o bsearch.o
bsearch.cpp: In function 'size_t binary_search(T, SEXP, size_t, size_t, double, int, int, bool) [with T = const char*; size_t = unsigned int; SEXP = SEXPREC*]':
bsearch.cpp:51:36: warning: 'result' may be used uninitialized in this function [-Wmaybe-uninitialized]
else if ( mid == right && result > 0 )
^
bsearch.cpp: In function 'size_t binary_search(T, SEXP, size_t, size_t, double, int, int, bool) [with T = double; size_t = unsigned int; SEXP = SEXPREC*]':
bsearch.cpp:133:26: warning: 'diff' may be used uninitialized in this function [-Wmaybe-uninitialized]
else if ( mid == right && diff > 0 )
^
C:/Rtools/mingw_32/bin/g++ -I"C:/Users/BIOCBU˜1/BBS-3˜1.7-B/R/include" -DNDEBUG -I"C:/extsoft/include" -O2 -Wall -mtune=generic -c init.cpp -o init.o
C:/Rtools/mingw_32/bin/g++ -I"C:/Users/BIOCBU˜1/BBS-3˜1.7-B/R/include" -DNDEBUG -I"C:/extsoft/include" -O2 -Wall -mtune=generic -c matter.cpp -o matter.o
matter.cpp: In member function 'void Ops::do_ops(T*, Atoms*, index_t, index_t, size_t) [with T = int; index_t = long int; size_t = unsigned int]':
matter.cpp:3039:25: warning: 'y' may be used uninitialized in this function [-Wmaybe-uninitialized]
add<T,T>(x, y, i, atm, 0, count, skip);
^
matter.cpp: In member function 'void Ops::do_ops(T*, Atoms*, index_t, index_t, size_t) [with T = unsigned char; index_t = long int; size_t = unsigned int]':
matter.cpp:3039:25: warning: 'y' may be used uninitialized in this function [-Wmaybe-uninitialized]
matter.cpp: In member function 'void Ops::do_ops(T*, Atoms*, index_t, index_t, size_t) [with T = double; index_t = long int; size_t = unsigned int]':
matter.cpp:3039:25: warning: 'y' may be used uninitialized in this function [-Wmaybe-uninitialized]
matter.cpp: In function 'double var(MatterIterator<T>&, bool) [with T = double]':
matter.cpp:3713:17: warning: 's_new' may be used uninitialized in this function [-Wmaybe-uninitialized]
s_new = s_old + (*x - m_old) * (*x - m_new);
^
matter.cpp:3712:17: warning: 'm_new' may be used uninitialized in this function [-Wmaybe-uninitialized]
m_new = m_old + (*x - m_old) / n;
^
C:/Rtools/mingw_32/bin/g++ -I"C:/Users/BIOCBU˜1/BBS-3˜1.7-B/R/include" -DNDEBUG -I"C:/extsoft/include" -O2 -Wall -mtune=generic -c utils.cpp -o utils.o
C:/Rtools/mingw_32/bin/g++ -shared -s -static-libgcc -o matter.dll tmp.def bsearch.o init.o matter.o utils.o -LC:/extsoft/lib/i386 -LC:/extsoft/lib -LC:/Users/BIOCBU˜1/BBS-3˜1.7-B/R/bin/i386 -lR
installing to C:/Users/biocbuild/bbs-3.7-bioc/meat/matter.buildbin-libdir/matter/libs/i386
** R
** data
** byte-compile and prepare package for lazy loading
Creating a new generic function for 'apply' in package 'matter'
Creating a new generic function for 'scale' in package 'matter'
Creating a new generic function for 'biglm' in package 'matter'
** help
*** installing help indices
converting help for package 'matter'
finding HTML links ... done
apply html
biglm html
bsearch html
checksum html
finding level-2 HTML links ... done
combiner-method html
delayed-ops html
drle-class html
keys-method html
matter-class html
matter-utils html
matter_arr-class html
matter_df-class html
matter_fc-class html
matter_list-class html
matter_mat-class html
matter_str-class html
matter_vec-class html
prcomp html
profmem html
scale html
sparse_mat-class html
struct html
summary-stats html
tolerance-method html
uuid html
virtual_mat-class html
** building package indices
** installing vignettes
** testing if installed package can be loaded
In R CMD INSTALL
install for x64
* installing *source* package 'matter' ...
** libs
C:/Rtools/mingw_64/bin/g++ -I"C:/Users/BIOCBU˜1/BBS-3˜1.7-B/R/include" -DNDEBUG -I"C:/extsoft/include" -O2 -Wall -mtune=generic -c bsearch.cpp -o bsearch.o
bsearch.cpp: In function 'size_t binary_search(T, SEXP, size_t, size_t, double, int, int, bool) [with T = const char*; size_t = long long unsigned int; SEXP = SEXPREC*]':
bsearch.cpp:51:36: warning: 'result' may be used uninitialized in this function [-Wmaybe-uninitialized]
else if ( mid == right && result > 0 )
^
bsearch.cpp: In function 'size_t binary_search(T, SEXP, size_t, size_t, double, int, int, bool) [with T = double; size_t = long long unsigned int; SEXP = SEXPREC*]':
bsearch.cpp:133:26: warning: 'diff' may be used uninitialized in this function [-Wmaybe-uninitialized]
else if ( mid == right && diff > 0 )
^
C:/Rtools/mingw_64/bin/g++ -I"C:/Users/BIOCBU˜1/BBS-3˜1.7-B/R/include" -DNDEBUG -I"C:/extsoft/include" -O2 -Wall -mtune=generic -c init.cpp -o init.o
C:/Rtools/mingw_64/bin/g++ -I"C:/Users/BIOCBU˜1/BBS-3˜1.7-B/R/include" -DNDEBUG -I"C:/extsoft/include" -O2 -Wall -mtune=generic -c matter.cpp -o matter.o
matter.cpp: In member function 'void Ops::do_ops(T*, Atoms*, index_t, index_t, size_t) [with T = double; index_t = long int; size_t = long long unsigned int]':
matter.cpp:3039:25: warning: 'y' may be used uninitialized in this function [-Wmaybe-uninitialized]
add<T,T>(x, y, i, atm, 0, count, skip);
^
matter.cpp: In member function 'void Ops::do_ops(T*, Atoms*, index_t, index_t, size_t) [with T = int; index_t = long int; size_t = long long unsigned int]':
matter.cpp:3039:25: warning: 'y' may be used uninitialized in this function [-Wmaybe-uninitialized]
matter.cpp: In member function 'void Ops::do_ops(T*, Atoms*, index_t, index_t, size_t) [with T = unsigned char; index_t = long int; size_t = long long unsigned int]':
matter.cpp:3039:25: warning: 'y' may be used uninitialized in this function [-Wmaybe-uninitialized]
matter.cpp: In function 'double var(MatterIterator<T>&, bool) [with T = double]':
matter.cpp:3713:17: warning: 's_new' may be used uninitialized in this function [-Wmaybe-uninitialized]
s_new = s_old + (*x - m_old) * (*x - m_new);
^
matter.cpp:3712:17: warning: 'm_new' may be used uninitialized in this function [-Wmaybe-uninitialized]
m_new = m_old + (*x - m_old) / n;
^
C:/Rtools/mingw_64/bin/g++ -I"C:/Users/BIOCBU˜1/BBS-3˜1.7-B/R/include" -DNDEBUG -I"C:/extsoft/include" -O2 -Wall -mtune=generic -c utils.cpp -o utils.o
C:/Rtools/mingw_64/bin/g++ -shared -s -static-libgcc -o matter.dll tmp.def bsearch.o init.o matter.o utils.o -LC:/extsoft/lib/x64 -LC:/extsoft/lib -LC:/Users/BIOCBU˜1/BBS-3˜1.7-B/R/bin/x64 -lR
installing to C:/Users/biocbuild/bbs-3.7-bioc/meat/matter.buildbin-libdir/matter/libs/x64
** testing if installed package can be loaded
* MD5 sums
packaged installation of 'matter' as matter_1.6.0.zip
* DONE (matter)
In R CMD INSTALL
In R CMD INSTALL
* installing to library 'C:/Users/biocbuild/bbs-3.7-bioc/R/library'
package 'matter' successfully unpacked and MD5 sums checked
In R CMD INSTALL
|
matter.Rcheck/tests_i386/testthat.Rout
R version 3.5.1 Patched (2018-07-24 r75005) -- "Feather Spray"
Copyright (C) 2018 The R Foundation for Statistical Computing
Platform: i386-w64-mingw32/i386 (32-bit)
R is free software and comes with ABSOLUTELY NO WARRANTY.
You are welcome to redistribute it under certain conditions.
Type 'license()' or 'licence()' for distribution details.
R is a collaborative project with many contributors.
Type 'contributors()' for more information and
'citation()' on how to cite R or R packages in publications.
Type 'demo()' for some demos, 'help()' for on-line help, or
'help.start()' for an HTML browser interface to help.
Type 'q()' to quit R.
> library(testthat)
> library(matter)
Loading required package: biglm
Loading required package: DBI
Attaching package: 'matter'
The following object is masked from 'package:biglm':
biglm
The following objects are masked from 'package:base':
apply, scale
>
> test_check("matter")
== testthat results ===========================================================
OK: 171 SKIPPED: 0 FAILED: 0
>
> proc.time()
user system elapsed
3.68 0.39 4.17
|
matter.Rcheck/tests_x64/testthat.Rout
R version 3.5.1 Patched (2018-07-24 r75005) -- "Feather Spray"
Copyright (C) 2018 The R Foundation for Statistical Computing
Platform: x86_64-w64-mingw32/x64 (64-bit)
R is free software and comes with ABSOLUTELY NO WARRANTY.
You are welcome to redistribute it under certain conditions.
Type 'license()' or 'licence()' for distribution details.
R is a collaborative project with many contributors.
Type 'contributors()' for more information and
'citation()' on how to cite R or R packages in publications.
Type 'demo()' for some demos, 'help()' for on-line help, or
'help.start()' for an HTML browser interface to help.
Type 'q()' to quit R.
> library(testthat)
> library(matter)
Loading required package: biglm
Loading required package: DBI
Attaching package: 'matter'
The following object is masked from 'package:biglm':
biglm
The following objects are masked from 'package:base':
apply, scale
>
> test_check("matter")
== testthat results ===========================================================
OK: 171 SKIPPED: 0 FAILED: 0
>
> proc.time()
user system elapsed
3.92 0.20 4.11
|
|
matter.Rcheck/examples_i386/matter-Ex.timings
|
matter.Rcheck/examples_x64/matter-Ex.timings
|