| Back to Multiple platform build/check report for BioC 3.7 | 
  | 
This page was generated on 2018-10-17 08:46:18 -0400 (Wed, 17 Oct 2018).
| Package 829/1561 | Hostname | OS / Arch | INSTALL | BUILD | CHECK | BUILD BIN | ||||||
| marray 1.58.0 Yee Hwa (Jean) Yang 
  | malbec2 | Linux (Ubuntu 16.04.1 LTS) / x86_64 | OK | OK | OK | |||||||
| tokay2 | Windows Server 2012 R2 Standard / x64 | OK | OK | OK | OK | |||||||
| merida2 | OS X 10.11.6 El Capitan / x86_64 | OK | OK | OK | [ OK ] | 
| Package: marray | 
| Version: 1.58.0 | 
| Command: rm -rf marray.buildbin-libdir && mkdir marray.buildbin-libdir && /Users/biocbuild/BBS/utils/build-universal.sh marray_1.58.0.tar.gz /Library/Frameworks/R.framework/Versions/Current/Resources/bin/R marray.buildbin-libdir | 
| StartedAt: 2018-10-17 01:37:52 -0400 (Wed, 17 Oct 2018) | 
| EndedAt: 2018-10-17 01:38:49 -0400 (Wed, 17 Oct 2018) | 
| EllapsedTime: 57.6 seconds | 
| RetCode: 0 | 
| Status: OK | 
| PackageFile: marray_1.58.0.tgz | 
| PackageFileSize: 4.374 MiB | 
############################################################################## ############################################################################## ### ### Running command: ### ### rm -rf marray.buildbin-libdir && mkdir marray.buildbin-libdir && /Users/biocbuild/BBS/utils/build-universal.sh marray_1.58.0.tar.gz /Library/Frameworks/R.framework/Versions/Current/Resources/bin/R marray.buildbin-libdir ### ############################################################################## ############################################################################## >>>>>>> >>>>>>> INSTALLATION WITH 'R CMD INSTALL --preclean --no-multiarch --library=marray.buildbin-libdir marray_1.58.0.tar.gz' >>>>>>> * installing *source* package ‘marray’ ... ** R ** data ** inst ** byte-compile and prepare package for lazy loading ** help *** installing help indices ** building package indices ** installing vignettes ** testing if installed package can be loaded * DONE (marray)