| Back to Multiple platform build/check report for BioC 3.7 |
|
This page was generated on 2018-10-17 08:37:24 -0400 (Wed, 17 Oct 2018).
| Package 827/1561 | Hostname | OS / Arch | INSTALL | BUILD | CHECK | BUILD BIN | ||||||
| maPredictDSC 1.18.0 Adi Laurentiu Tarca
| malbec2 | Linux (Ubuntu 16.04.1 LTS) / x86_64 | OK | OK | OK | |||||||
| tokay2 | Windows Server 2012 R2 Standard / x64 | OK | OK | OK | [ OK ] | |||||||
| merida2 | OS X 10.11.6 El Capitan / x86_64 | OK | OK | OK | OK |
| Package: maPredictDSC |
| Version: 1.18.0 |
| Command: rm -rf maPredictDSC.buildbin-libdir && mkdir maPredictDSC.buildbin-libdir && C:\Users\biocbuild\bbs-3.7-bioc\R\bin\R.exe CMD INSTALL --merge-multiarch --build --library=maPredictDSC.buildbin-libdir maPredictDSC_1.18.0.tar.gz |
| StartedAt: 2018-10-17 06:38:09 -0400 (Wed, 17 Oct 2018) |
| EndedAt: 2018-10-17 06:38:42 -0400 (Wed, 17 Oct 2018) |
| EllapsedTime: 32.8 seconds |
| RetCode: 0 |
| Status: OK |
| PackageFile: maPredictDSC_1.18.0.zip |
| PackageFileSize: 174.3 KiB |
##############################################################################
##############################################################################
###
### Running command:
###
### rm -rf maPredictDSC.buildbin-libdir && mkdir maPredictDSC.buildbin-libdir && C:\Users\biocbuild\bbs-3.7-bioc\R\bin\R.exe CMD INSTALL --merge-multiarch --build --library=maPredictDSC.buildbin-libdir maPredictDSC_1.18.0.tar.gz
###
##############################################################################
##############################################################################
install for i386
* installing *source* package 'maPredictDSC' ...
** R
** inst
** byte-compile and prepare package for lazy loading
** help
*** installing help indices
converting help for package 'maPredictDSC'
finding HTML links ... done
aggregateDSC html
maPredictDSC-internal html
perfDSC html
predictDSC html
** building package indices
** installing vignettes
** testing if installed package can be loaded
In R CMD INSTALL
install for x64
* installing *source* package 'maPredictDSC' ...
** testing if installed package can be loaded
* MD5 sums
packaged installation of 'maPredictDSC' as maPredictDSC_1.18.0.zip
* DONE (maPredictDSC)
In R CMD INSTALL
In R CMD INSTALL