| Back to Multiple platform build/check report for BioC 3.7 |
|
This page was generated on 2018-10-17 08:36:57 -0400 (Wed, 17 Oct 2018).
| Package 804/1561 | Hostname | OS / Arch | INSTALL | BUILD | CHECK | BUILD BIN | ||||||
| lpNet 2.12.0 Lars Kaderali
| malbec2 | Linux (Ubuntu 16.04.1 LTS) / x86_64 | OK | OK | OK | |||||||
| tokay2 | Windows Server 2012 R2 Standard / x64 | OK | OK | OK | [ OK ] | |||||||
| merida2 | OS X 10.11.6 El Capitan / x86_64 | OK | OK | OK | OK |
| Package: lpNet |
| Version: 2.12.0 |
| Command: rm -rf lpNet.buildbin-libdir && mkdir lpNet.buildbin-libdir && C:\Users\biocbuild\bbs-3.7-bioc\R\bin\R.exe CMD INSTALL --merge-multiarch --build --library=lpNet.buildbin-libdir lpNet_2.12.0.tar.gz |
| StartedAt: 2018-10-17 06:37:18 -0400 (Wed, 17 Oct 2018) |
| EndedAt: 2018-10-17 06:37:39 -0400 (Wed, 17 Oct 2018) |
| EllapsedTime: 21.0 seconds |
| RetCode: 0 |
| Status: OK |
| PackageFile: lpNet_2.12.0.zip |
| PackageFileSize: 328.1 KiB |
##############################################################################
##############################################################################
###
### Running command:
###
### rm -rf lpNet.buildbin-libdir && mkdir lpNet.buildbin-libdir && C:\Users\biocbuild\bbs-3.7-bioc\R\bin\R.exe CMD INSTALL --merge-multiarch --build --library=lpNet.buildbin-libdir lpNet_2.12.0.tar.gz
###
##############################################################################
##############################################################################
install for i386
* installing *source* package 'lpNet' ...
** R
** inst
** byte-compile and prepare package for lazy loading
** help
*** installing help indices
converting help for package 'lpNet'
finding HTML links ... done
CV html
calcActivation html
calcPrediction html
calcRangeLambda html
doILP html
generateTimeSeriesNetStates html
getAdja html
getBaseline html
getEdgeAnnot html
getObsMat html
getSampleAdja html
lpNet-package html
summarizeRepl html
** building package indices
** installing vignettes
** testing if installed package can be loaded
In R CMD INSTALL
install for x64
* installing *source* package 'lpNet' ...
** testing if installed package can be loaded
* MD5 sums
packaged installation of 'lpNet' as lpNet_2.12.0.zip
* DONE (lpNet)
In R CMD INSTALL
In R CMD INSTALL