| Back to Multiple platform build/check report for BioC 3.7 |
|
This page was generated on 2018-10-17 08:59:06 -0400 (Wed, 17 Oct 2018).
| Package 765/1561 | Hostname | OS / Arch | INSTALL | BUILD | CHECK | BUILD BIN | ||||||
| ivygapSE 1.2.0 VJ Carey
| malbec2 | Linux (Ubuntu 16.04.1 LTS) / x86_64 | OK | OK | OK | |||||||
| tokay2 | Windows Server 2012 R2 Standard / x64 | OK | OK | WARNINGS | OK | |||||||
| merida2 | OS X 10.11.6 El Capitan / x86_64 | OK | OK | OK | [ OK ] |
| Package: ivygapSE |
| Version: 1.2.0 |
| Command: rm -rf ivygapSE.buildbin-libdir && mkdir ivygapSE.buildbin-libdir && /Users/biocbuild/BBS/utils/build-universal.sh ivygapSE_1.2.0.tar.gz /Library/Frameworks/R.framework/Versions/Current/Resources/bin/R ivygapSE.buildbin-libdir |
| StartedAt: 2018-10-17 01:33:45 -0400 (Wed, 17 Oct 2018) |
| EndedAt: 2018-10-17 01:34:44 -0400 (Wed, 17 Oct 2018) |
| EllapsedTime: 58.8 seconds |
| RetCode: 0 |
| Status: OK |
| PackageFile: ivygapSE_1.2.0.tgz |
| PackageFileSize: 15.51 MiB |
############################################################################## ############################################################################## ### ### Running command: ### ### rm -rf ivygapSE.buildbin-libdir && mkdir ivygapSE.buildbin-libdir && /Users/biocbuild/BBS/utils/build-universal.sh ivygapSE_1.2.0.tar.gz /Library/Frameworks/R.framework/Versions/Current/Resources/bin/R ivygapSE.buildbin-libdir ### ############################################################################## ############################################################################## >>>>>>> >>>>>>> INSTALLATION WITH 'R CMD INSTALL --preclean --no-multiarch --library=ivygapSE.buildbin-libdir ivygapSE_1.2.0.tar.gz' >>>>>>> * installing *source* package ‘ivygapSE’ ... ** R ** data ** inst ** byte-compile and prepare package for lazy loading ** help *** installing help indices ** building package indices ** installing vignettes ** testing if installed package can be loaded * DONE (ivygapSE)