| Back to Multiple platform build/check report for BioC 3.7 |
|
This page was generated on 2018-10-17 08:23:29 -0400 (Wed, 17 Oct 2018).
| Package 706/1561 | Hostname | OS / Arch | INSTALL | BUILD | CHECK | BUILD BIN | ||||||
| ibh 1.28.0 Kircicegi Korkmaz
| malbec2 | Linux (Ubuntu 16.04.1 LTS) / x86_64 | OK | OK | [ OK ] | |||||||
| tokay2 | Windows Server 2012 R2 Standard / x64 | OK | OK | OK | OK | |||||||
| merida2 | OS X 10.11.6 El Capitan / x86_64 | OK | OK | OK | OK |
| Package: ibh |
| Version: 1.28.0 |
| Command: /home/biocbuild/bbs-3.7-bioc/R/bin/R CMD check --install=check:ibh.install-out.txt --library=/home/biocbuild/bbs-3.7-bioc/R/library --no-vignettes --timings ibh_1.28.0.tar.gz |
| StartedAt: 2018-10-16 01:12:11 -0400 (Tue, 16 Oct 2018) |
| EndedAt: 2018-10-16 01:12:31 -0400 (Tue, 16 Oct 2018) |
| EllapsedTime: 20.4 seconds |
| RetCode: 0 |
| Status: OK |
| CheckDir: ibh.Rcheck |
| Warnings: 0 |
##############################################################################
##############################################################################
###
### Running command:
###
### /home/biocbuild/bbs-3.7-bioc/R/bin/R CMD check --install=check:ibh.install-out.txt --library=/home/biocbuild/bbs-3.7-bioc/R/library --no-vignettes --timings ibh_1.28.0.tar.gz
###
##############################################################################
##############################################################################
* using log directory ‘/home/biocbuild/bbs-3.7-bioc/meat/ibh.Rcheck’
* using R version 3.5.1 Patched (2018-07-12 r74967)
* using platform: x86_64-pc-linux-gnu (64-bit)
* using session charset: UTF-8
* using option ‘--no-vignettes’
* checking for file ‘ibh/DESCRIPTION’ ... OK
* checking extension type ... Package
* this is package ‘ibh’ version ‘1.28.0’
* checking package namespace information ... OK
* checking package dependencies ... OK
* checking if this is a source package ... OK
* checking if there is a namespace ... OK
* checking for hidden files and directories ... OK
* checking for portable file names ... OK
* checking for sufficient/correct file permissions ... OK
* checking whether package ‘ibh’ can be installed ... OK
* checking installed package size ... OK
* checking package directory ... OK
* checking ‘build’ directory ... OK
* checking DESCRIPTION meta-information ... OK
* checking top-level files ... OK
* checking for left-over files ... OK
* checking index information ... OK
* checking package subdirectories ... OK
* checking R files for non-ASCII characters ... OK
* checking R files for syntax errors ... OK
* checking whether the package can be loaded ... OK
* checking whether the package can be loaded with stated dependencies ... OK
* checking whether the package can be unloaded cleanly ... OK
* checking whether the namespace can be loaded with stated dependencies ... OK
* checking whether the namespace can be unloaded cleanly ... OK
* checking dependencies in R code ... NOTE
Package in Depends field not imported from: ‘simpIntLists’
These packages need to be imported from (in the NAMESPACE file)
for when this namespace is loaded but not attached.
* checking S3 generic/method consistency ... OK
* checking replacement functions ... OK
* checking foreign function calls ... OK
* checking R code for possible problems ... NOTE
ibhBioGRID: no visible global function definition for
‘findInteractionList’
ibhForMultipleGeneListsBioGRID: no visible global function definition
for ‘findInteractionList’
readDirectedInteractionsFromCsv: no visible global function definition
for ‘read.csv’
readUndirectedInteractionsFromCsv: no visible global function
definition for ‘read.csv’
Undefined global functions or variables:
findInteractionList read.csv
Consider adding
importFrom("utils", "read.csv")
to your NAMESPACE file.
* checking Rd files ... OK
* checking Rd metadata ... OK
* checking Rd cross-references ... OK
* checking for missing documentation entries ... OK
* checking for code/documentation mismatches ... OK
* checking Rd \usage sections ... OK
* checking Rd contents ... OK
* checking for unstated dependencies in examples ... OK
* checking files in ‘vignettes’ ... OK
* checking examples ... OK
* checking for unstated dependencies in vignettes ... OK
* checking package vignettes in ‘inst/doc’ ... OK
* checking running R code from vignettes ... SKIPPED
* checking re-building of vignette outputs ... SKIPPED
* checking PDF version of manual ... OK
* DONE
Status: 2 NOTEs
See
‘/home/biocbuild/bbs-3.7-bioc/meat/ibh.Rcheck/00check.log’
for details.
ibh.Rcheck/00install.out
############################################################################## ############################################################################## ### ### Running command: ### ### /home/biocbuild/bbs-3.7-bioc/R/bin/R CMD INSTALL ibh ### ############################################################################## ############################################################################## * installing to library ‘/home/biocbuild/bbs-3.7-bioc/R/library’ * installing *source* package ‘ibh’ ... ** R ** byte-compile and prepare package for lazy loading ** help *** installing help indices ** building package indices ** installing vignettes ** testing if installed package can be loaded * DONE (ibh)
ibh.Rcheck/ibh-Ex.timings
| name | user | system | elapsed | |
| findEntry | 0.016 | 0.004 | 0.019 | |
| ibh-package | 1.256 | 0.028 | 1.393 | |
| ibh | 0.008 | 0.000 | 0.008 | |
| ibhBioGRID | 0.156 | 0.000 | 0.156 | |
| ibhClusterEval | 0.232 | 0.008 | 0.239 | |
| ibhClusterEvalBioGRID | 0.520 | 0.000 | 0.521 | |
| ibhForMultipleGeneLists | 0.008 | 0.000 | 0.010 | |
| ibhForMultipleGeneListsBioGRID | 0.168 | 0.000 | 0.168 | |
| readDirectedInteractionsFromCsv | 0.000 | 0.000 | 0.001 | |
| readUndirectedInteractionsFromCsv | 0.000 | 0.000 | 0.001 | |