| Back to Multiple platform build/check report for BioC 3.7 |
|
This page was generated on 2018-10-17 08:45:07 -0400 (Wed, 17 Oct 2018).
| Package 692/1561 | Hostname | OS / Arch | INSTALL | BUILD | CHECK | BUILD BIN | ||||||
| hmdbQuery 1.0.1 VJ Carey
| malbec2 | Linux (Ubuntu 16.04.1 LTS) / x86_64 | OK | OK | OK | |||||||
| tokay2 | Windows Server 2012 R2 Standard / x64 | OK | OK | ERROR | [ OK ] | |||||||
| merida2 | OS X 10.11.6 El Capitan / x86_64 | OK | OK | OK | OK |
| Package: hmdbQuery |
| Version: 1.0.1 |
| Command: rm -rf hmdbQuery.buildbin-libdir && mkdir hmdbQuery.buildbin-libdir && C:\Users\biocbuild\bbs-3.7-bioc\R\bin\R.exe CMD INSTALL --merge-multiarch --build --library=hmdbQuery.buildbin-libdir hmdbQuery_1.0.1.tar.gz |
| StartedAt: 2018-10-17 06:31:19 -0400 (Wed, 17 Oct 2018) |
| EndedAt: 2018-10-17 06:31:38 -0400 (Wed, 17 Oct 2018) |
| EllapsedTime: 19.4 seconds |
| RetCode: 0 |
| Status: OK |
| PackageFile: hmdbQuery_1.0.1.zip |
| PackageFileSize: 845 KiB |
##############################################################################
##############################################################################
###
### Running command:
###
### rm -rf hmdbQuery.buildbin-libdir && mkdir hmdbQuery.buildbin-libdir && C:\Users\biocbuild\bbs-3.7-bioc\R\bin\R.exe CMD INSTALL --merge-multiarch --build --library=hmdbQuery.buildbin-libdir hmdbQuery_1.0.1.tar.gz
###
##############################################################################
##############################################################################
install for i386
* installing *source* package 'hmdbQuery' ...
** R
** data
** inst
** byte-compile and prepare package for lazy loading
** help
*** installing help indices
converting help for package 'hmdbQuery'
finding HTML links ... done
HmdbEntry-class html
HmdbEntry html
biospecimens-HmdbEntry-method html
diseases-HmdbEntry-method html
hmdb1 html
hmdb_disease html
hmdb_gene html
hmdb_omim html
hmdb_protein html
store-HmdbEntry-method html
tissues-HmdbEntry-method html
** building package indices
** installing vignettes
** testing if installed package can be loaded
In R CMD INSTALL
install for x64
* installing *source* package 'hmdbQuery' ...
** testing if installed package can be loaded
* MD5 sums
packaged installation of 'hmdbQuery' as hmdbQuery_1.0.1.zip
* DONE (hmdbQuery)
In R CMD INSTALL
In R CMD INSTALL