| Back to Multiple platform build/check report for BioC 3.7 |
|
This page was generated on 2018-10-17 08:35:40 -0400 (Wed, 17 Oct 2018).
| Package 647/1561 | Hostname | OS / Arch | INSTALL | BUILD | CHECK | BUILD BIN | ||||||
| graphite 1.26.3 Gabriele Sales
| malbec2 | Linux (Ubuntu 16.04.1 LTS) / x86_64 | OK | OK | OK | |||||||
| tokay2 | Windows Server 2012 R2 Standard / x64 | [ OK ] | OK | OK | OK | |||||||
| merida2 | OS X 10.11.6 El Capitan / x86_64 | OK | OK | OK | OK |
| Package: graphite |
| Version: 1.26.3 |
| Command: C:\cygwin\bin\curl.exe -O https://malbec2.bioconductor.org/BBS/3.7/bioc/src/contrib/graphite_1.26.3.tar.gz && rm -rf graphite.buildbin-libdir && mkdir graphite.buildbin-libdir && C:\Users\biocbuild\bbs-3.7-bioc\R\bin\R.exe CMD INSTALL --merge-multiarch --build --library=graphite.buildbin-libdir graphite_1.26.3.tar.gz && C:\Users\biocbuild\bbs-3.7-bioc\R\bin\R.exe CMD INSTALL graphite_1.26.3.zip && rm graphite_1.26.3.tar.gz graphite_1.26.3.zip |
| StartedAt: 2018-10-16 19:53:24 -0400 (Tue, 16 Oct 2018) |
| EndedAt: 2018-10-16 19:55:41 -0400 (Tue, 16 Oct 2018) |
| EllapsedTime: 137.2 seconds |
| RetCode: 0 |
| Status: OK |
##############################################################################
##############################################################################
###
### Running command:
###
### C:\cygwin\bin\curl.exe -O https://malbec2.bioconductor.org/BBS/3.7/bioc/src/contrib/graphite_1.26.3.tar.gz && rm -rf graphite.buildbin-libdir && mkdir graphite.buildbin-libdir && C:\Users\biocbuild\bbs-3.7-bioc\R\bin\R.exe CMD INSTALL --merge-multiarch --build --library=graphite.buildbin-libdir graphite_1.26.3.tar.gz && C:\Users\biocbuild\bbs-3.7-bioc\R\bin\R.exe CMD INSTALL graphite_1.26.3.zip && rm graphite_1.26.3.tar.gz graphite_1.26.3.zip
###
##############################################################################
##############################################################################
% Total % Received % Xferd Average Speed Time Time Time Current
Dload Upload Total Spent Left Speed
0 0 0 0 0 0 0 0 --:--:-- --:--:-- --:--:-- 0
89 3616k 89 3248k 0 0 30.6M 0 --:--:-- --:--:-- --:--:-- 32.6M
100 3616k 100 3616k 0 0 32.7M 0 --:--:-- --:--:-- --:--:-- 34.6M
install for i386
* installing *source* package 'graphite' ...
** R
** inst
** byte-compile and prepare package for lazy loading
** help
*** installing help indices
converting help for package 'graphite'
finding HTML links ... done
Pathway-class html
PathwayList-class html
Pathways-class html
as.list.PathwayList html
buildPathway html
convertIdentifiers html
cytoscapePlot html
finding level-2 HTML links ... done
pathwayDatabases html
pathwayGraph html
pathways html
prepareSPIA html
runClipper html
runSPIA html
runTopologyGSA html
** building package indices
** installing vignettes
** testing if installed package can be loaded
In R CMD INSTALL
install for x64
* installing *source* package 'graphite' ...
** testing if installed package can be loaded
* MD5 sums
packaged installation of 'graphite' as graphite_1.26.3.zip
* DONE (graphite)
In R CMD INSTALL
In R CMD INSTALL
* installing to library 'C:/Users/biocbuild/bbs-3.7-bioc/R/library'
package 'graphite' successfully unpacked and MD5 sums checked
In R CMD INSTALL