| Back to Multiple platform build/check report for BioC 3.7 |
|
This page was generated on 2018-10-17 08:42:26 -0400 (Wed, 17 Oct 2018).
| Package 571/1561 | Hostname | OS / Arch | INSTALL | BUILD | CHECK | BUILD BIN | ||||||
| geneplast 1.6.2 Mauro Castro
| malbec2 | Linux (Ubuntu 16.04.1 LTS) / x86_64 | OK | OK | OK | |||||||
| tokay2 | Windows Server 2012 R2 Standard / x64 | OK | OK | OK | [ OK ] | |||||||
| merida2 | OS X 10.11.6 El Capitan / x86_64 | OK | OK | OK | OK |
| Package: geneplast |
| Version: 1.6.2 |
| Command: rm -rf geneplast.buildbin-libdir && mkdir geneplast.buildbin-libdir && C:\Users\biocbuild\bbs-3.7-bioc\R\bin\R.exe CMD INSTALL --merge-multiarch --build --library=geneplast.buildbin-libdir geneplast_1.6.2.tar.gz |
| StartedAt: 2018-10-17 06:22:18 -0400 (Wed, 17 Oct 2018) |
| EndedAt: 2018-10-17 06:22:32 -0400 (Wed, 17 Oct 2018) |
| EllapsedTime: 13.7 seconds |
| RetCode: 0 |
| Status: OK |
| PackageFile: geneplast_1.6.2.zip |
| PackageFileSize: 3.038 MiB |
##############################################################################
##############################################################################
###
### Running command:
###
### rm -rf geneplast.buildbin-libdir && mkdir geneplast.buildbin-libdir && C:\Users\biocbuild\bbs-3.7-bioc\R\bin\R.exe CMD INSTALL --merge-multiarch --build --library=geneplast.buildbin-libdir geneplast_1.6.2.tar.gz
###
##############################################################################
##############################################################################
install for i386
* installing *source* package 'geneplast' ...
** R
** data
** inst
** byte-compile and prepare package for lazy loading
** help
*** installing help indices
converting help for package 'geneplast'
finding HTML links ... done
OGP-class html
OGR-class html
geneplast-package html
gpdata html
gplast html
gplast.get html
gplast.preprocess html
groot html
groot.get html
groot.plot html
groot.preprocess html
ogr2igraph html
ogr2tni html
ppidata html
** building package indices
** installing vignettes
** testing if installed package can be loaded
In R CMD INSTALL
install for x64
* installing *source* package 'geneplast' ...
** testing if installed package can be loaded
* MD5 sums
packaged installation of 'geneplast' as geneplast_1.6.2.zip
* DONE (geneplast)
In R CMD INSTALL
In R CMD INSTALL