| Back to Multiple platform build/check report for BioC 3.7 |
|
This page was generated on 2018-10-17 08:54:03 -0400 (Wed, 17 Oct 2018).
| Package 642/1561 | Hostname | OS / Arch | INSTALL | BUILD | CHECK | BUILD BIN | ||||||
| gQTLBase 1.12.0 VJ Carey
| malbec2 | Linux (Ubuntu 16.04.1 LTS) / x86_64 | OK | OK | OK | |||||||
| tokay2 | Windows Server 2012 R2 Standard / x64 | OK | OK | OK | OK | |||||||
| merida2 | OS X 10.11.6 El Capitan / x86_64 | OK | OK | OK | [ OK ] |
| Package: gQTLBase |
| Version: 1.12.0 |
| Command: rm -rf gQTLBase.buildbin-libdir && mkdir gQTLBase.buildbin-libdir && /Users/biocbuild/BBS/utils/build-universal.sh gQTLBase_1.12.0.tar.gz /Library/Frameworks/R.framework/Versions/Current/Resources/bin/R gQTLBase.buildbin-libdir |
| StartedAt: 2018-10-17 01:27:05 -0400 (Wed, 17 Oct 2018) |
| EndedAt: 2018-10-17 01:27:56 -0400 (Wed, 17 Oct 2018) |
| EllapsedTime: 50.9 seconds |
| RetCode: 0 |
| Status: OK |
| PackageFile: gQTLBase_1.12.0.tgz |
| PackageFileSize: 494.5 KiB |
############################################################################## ############################################################################## ### ### Running command: ### ### rm -rf gQTLBase.buildbin-libdir && mkdir gQTLBase.buildbin-libdir && /Users/biocbuild/BBS/utils/build-universal.sh gQTLBase_1.12.0.tar.gz /Library/Frameworks/R.framework/Versions/Current/Resources/bin/R gQTLBase.buildbin-libdir ### ############################################################################## ############################################################################## >>>>>>> >>>>>>> INSTALLATION WITH 'R CMD INSTALL --preclean --no-multiarch --library=gQTLBase.buildbin-libdir gQTLBase_1.12.0.tar.gz' >>>>>>> * installing *source* package ‘gQTLBase’ ... ** R ** inst ** byte-compile and prepare package for lazy loading ** help *** installing help indices ** building package indices ** installing vignettes ** testing if installed package can be loaded * DONE (gQTLBase)